Back to Multiple platform build/check report for BioC 3.17: simplified long |
|
This page was generated on 2023-03-20 11:05:08 -0400 (Mon, 20 Mar 2023).
Hostname | OS | Arch (*) | R version | Installed pkgs |
---|---|---|---|---|
nebbiolo1 | Linux (Ubuntu 22.04.1 LTS) | x86_64 | R Under development (unstable) (2023-03-16 r83996) -- "Unsuffered Consequences" | 4297 |
palomino3 | Windows Server 2022 Datacenter | x64 | R Under development (unstable) (2023-03-15 r83984 ucrt) -- "Unsuffered Consequences" | 4286 |
merida1 | macOS 10.14.6 Mojave | x86_64 | R Under development (unstable) (2023-03-16 r83985) -- "Unsuffered Consequences" | 4150 |
Click on any hostname to see more info about the system (e.g. compilers) (*) as reported by 'uname -p', except on Windows and Mac OS X |
To the developers/maintainers of the lisaClust package: - Please allow up to 24 hours (and sometimes 48 hours) for your latest push to git@git.bioconductor.org:packages/lisaClust.git to reflect on this report. See How and When does the builder pull? When will my changes propagate? for more information. - Make sure to use the following settings in order to reproduce any error or warning you see on this page. |
Package 1056/2189 | Hostname | OS / Arch | INSTALL | BUILD | CHECK | BUILD BIN | ||||||||
lisaClust 1.7.3 (landing page) Ellis Patrick
| nebbiolo1 | Linux (Ubuntu 22.04.1 LTS) / x86_64 | OK | OK | OK | ![]() | ||||||||
palomino3 | Windows Server 2022 Datacenter / x64 | OK | OK | OK | OK | ![]() | ||||||||
merida1 | macOS 10.14.6 Mojave / x86_64 | ERROR | ERROR | skipped | skipped | |||||||||
Package: lisaClust |
Version: 1.7.3 |
Command: /home/biocbuild/bbs-3.17-bioc/R/bin/R CMD check --install=check:lisaClust.install-out.txt --library=/home/biocbuild/bbs-3.17-bioc/R/site-library --timings lisaClust_1.7.3.tar.gz |
StartedAt: 2023-03-19 21:21:58 -0400 (Sun, 19 Mar 2023) |
EndedAt: 2023-03-19 21:27:15 -0400 (Sun, 19 Mar 2023) |
EllapsedTime: 316.9 seconds |
RetCode: 0 |
Status: OK |
CheckDir: lisaClust.Rcheck |
Warnings: 0 |
############################################################################## ############################################################################## ### ### Running command: ### ### /home/biocbuild/bbs-3.17-bioc/R/bin/R CMD check --install=check:lisaClust.install-out.txt --library=/home/biocbuild/bbs-3.17-bioc/R/site-library --timings lisaClust_1.7.3.tar.gz ### ############################################################################## ############################################################################## * using log directory ‘/home/biocbuild/bbs-3.17-bioc/meat/lisaClust.Rcheck’ * using R Under development (unstable) (2023-03-16 r83996) * using platform: x86_64-pc-linux-gnu (64-bit) * R was compiled by gcc (Ubuntu 11.3.0-1ubuntu1~22.04) 11.3.0 GNU Fortran (Ubuntu 11.3.0-1ubuntu1~22.04) 11.3.0 * running under: Ubuntu 22.04.2 LTS * using session charset: UTF-8 * checking for file ‘lisaClust/DESCRIPTION’ ... OK * checking extension type ... Package * this is package ‘lisaClust’ version ‘1.7.3’ * package encoding: UTF-8 * checking package namespace information ... OK * checking package dependencies ... OK * checking if this is a source package ... OK * checking if there is a namespace ... OK * checking for hidden files and directories ... OK * checking for portable file names ... OK * checking for sufficient/correct file permissions ... OK * checking whether package ‘lisaClust’ can be installed ... OK * checking installed package size ... OK * checking package directory ... OK * checking ‘build’ directory ... OK * checking DESCRIPTION meta-information ... OK * checking top-level files ... OK * checking for left-over files ... OK * checking index information ... OK * checking package subdirectories ... OK * checking R files for non-ASCII characters ... OK * checking R files for syntax errors ... OK * checking whether the package can be loaded ... OK * checking whether the package can be loaded with stated dependencies ... OK * checking whether the package can be unloaded cleanly ... OK * checking whether the namespace can be loaded with stated dependencies ... OK * checking whether the namespace can be unloaded cleanly ... OK * checking loading without being on the library search path ... OK * checking dependencies in R code ... OK * checking S3 generic/method consistency ... OK * checking replacement functions ... OK * checking foreign function calls ... OK * checking R code for possible problems ... NOTE getK: no visible binding for global variable ‘j’ getK: no visible binding for global variable ‘cellTypeI’ getK: no visible binding for global variable ‘i’ getK: no visible binding for global variable ‘d’ getK: no visible binding for global variable ‘cellTypeJ’ getK: no visible binding for global variable ‘value’ getK: no visible global function definition for ‘.’ getK: no visible binding for global variable ‘wt’ getL: no visible binding for global variable ‘j’ getL: no visible binding for global variable ‘cellTypeI’ getL: no visible binding for global variable ‘i’ getL: no visible binding for global variable ‘d’ getL: no visible binding for global variable ‘cellTypeJ’ getL: no visible binding for global variable ‘value’ getL: no visible global function definition for ‘.’ getL: no visible binding for global variable ‘wt’ inhomLocalK: no visible binding for global variable ‘i’ regionMap: no visible binding for global variable ‘Var1’ regionMap: no visible binding for global variable ‘Var2’ regionMap: no visible binding for global variable ‘Freq’ regionMap: no visible binding for global variable ‘Freq2’ Undefined global functions or variables: . Freq Freq2 Var1 Var2 cellTypeI cellTypeJ d i j value wt * checking Rd files ... OK * checking Rd metadata ... OK * checking Rd cross-references ... OK * checking for missing documentation entries ... OK * checking for code/documentation mismatches ... OK * checking Rd \usage sections ... OK * checking Rd contents ... OK * checking for unstated dependencies in examples ... OK * checking files in ‘vignettes’ ... OK * checking examples ... OK Examples with CPU (user + system) or elapsed time > 5s user system elapsed lisa 11.136 0.600 11.364 hatchingPlot 9.569 1.107 10.427 lisaClust 8.922 0.276 8.882 scale_region 6.080 0.129 5.908 regionMap 5.632 0.132 5.647 * checking for unstated dependencies in vignettes ... OK * checking package vignettes in ‘inst/doc’ ... OK * checking running R code from vignettes ... ‘lisaClust.Rmd’ using ‘UTF-8’... OK NONE * checking re-building of vignette outputs ... OK * checking PDF version of manual ... OK * DONE Status: 1 NOTE See ‘/home/biocbuild/bbs-3.17-bioc/meat/lisaClust.Rcheck/00check.log’ for details.
lisaClust.Rcheck/00install.out
############################################################################## ############################################################################## ### ### Running command: ### ### /home/biocbuild/bbs-3.17-bioc/R/bin/R CMD INSTALL lisaClust ### ############################################################################## ############################################################################## * installing to library ‘/home/biocbuild/bbs-3.17-bioc/R/site-library’ * installing *source* package ‘lisaClust’ ... ** using staged installation ** R ** inst ** byte-compile and prepare package for lazy loading ** help *** installing help indices ** building package indices ** installing vignettes ** testing if installed package can be loaded from temporary location ** testing if installed package can be loaded from final location ** testing if installed package keeps a record of temporary installation path * DONE (lisaClust)
lisaClust.Rcheck/lisaClust-Ex.timings
name | user | system | elapsed | |
hatchingPlot | 9.569 | 1.107 | 10.427 | |
inhomLocalK | 0.406 | 0.028 | 0.430 | |
lisa | 11.136 | 0.600 | 11.364 | |
lisaClust | 8.922 | 0.276 | 8.882 | |
regionMap | 5.632 | 0.132 | 5.647 | |
scale_region | 6.080 | 0.129 | 5.908 | |