Back to Multiple platform build/check report for BioC 3.17:   simplified   long
ABCDEFGHIJKLMNO[P]QRSTUVWXYZ

This page was generated on 2023-03-27 11:05:17 -0400 (Mon, 27 Mar 2023).

HostnameOSArch (*)R versionInstalled pkgs
nebbiolo1Linux (Ubuntu 22.04.1 LTS)x86_64R Under development (unstable) (2023-03-16 r83996) -- "Unsuffered Consequences" 4547
palomino3Windows Server 2022 Datacenterx64R Under development (unstable) (2023-03-15 r83984 ucrt) -- "Unsuffered Consequences" 4308
merida1macOS 10.14.6 Mojavex86_64R Under development (unstable) (2023-03-16 r83985) -- "Unsuffered Consequences" 4300
Click on any hostname to see more info about the system (e.g. compilers)      (*) as reported by 'uname -p', except on Windows and Mac OS X

CHECK results for PhyloProfile on nebbiolo1


To the developers/maintainers of the PhyloProfile package:
- Please allow up to 24 hours (and sometimes 48 hours) for your latest push to git@git.bioconductor.org:packages/PhyloProfile.git to
reflect on this report. See How and When does the builder pull? When will my changes propagate? for more information.
- Make sure to use the following settings in order to reproduce any error or warning you see on this page.

raw results

Package 1494/2195HostnameOS / ArchINSTALLBUILDCHECKBUILD BIN
PhyloProfile 1.13.6  (landing page)
Vinh Tran
Snapshot Date: 2023-03-26 14:00:09 -0400 (Sun, 26 Mar 2023)
git_url: https://git.bioconductor.org/packages/PhyloProfile
git_branch: devel
git_last_commit: 775e7db
git_last_commit_date: 2023-02-24 04:15:58 -0400 (Fri, 24 Feb 2023)
nebbiolo1Linux (Ubuntu 22.04.1 LTS) / x86_64  OK    OK    OK  UNNEEDED, same version is already published
palomino3Windows Server 2022 Datacenter / x64  OK    OK    OK    OK  UNNEEDED, same version is already published
merida1macOS 10.14.6 Mojave / x86_64  OK    OK    OK    OK  UNNEEDED, same version is already published

Summary

Package: PhyloProfile
Version: 1.13.6
Command: /home/biocbuild/bbs-3.17-bioc/R/bin/R CMD check --install=check:PhyloProfile.install-out.txt --library=/home/biocbuild/bbs-3.17-bioc/R/site-library --timings PhyloProfile_1.13.6.tar.gz
StartedAt: 2023-03-26 22:51:24 -0400 (Sun, 26 Mar 2023)
EndedAt: 2023-03-26 22:56:01 -0400 (Sun, 26 Mar 2023)
EllapsedTime: 276.8 seconds
RetCode: 0
Status:   OK  
CheckDir: PhyloProfile.Rcheck
Warnings: 0

Command output

##############################################################################
##############################################################################
###
### Running command:
###
###   /home/biocbuild/bbs-3.17-bioc/R/bin/R CMD check --install=check:PhyloProfile.install-out.txt --library=/home/biocbuild/bbs-3.17-bioc/R/site-library --timings PhyloProfile_1.13.6.tar.gz
###
##############################################################################
##############################################################################


* using log directory ‘/home/biocbuild/bbs-3.17-bioc/meat/PhyloProfile.Rcheck’
* using R Under development (unstable) (2023-03-16 r83996)
* using platform: x86_64-pc-linux-gnu (64-bit)
* R was compiled by
    gcc (Ubuntu 11.3.0-1ubuntu1~22.04) 11.3.0
    GNU Fortran (Ubuntu 11.3.0-1ubuntu1~22.04) 11.3.0
* running under: Ubuntu 22.04.2 LTS
* using session charset: UTF-8
* checking for file ‘PhyloProfile/DESCRIPTION’ ... OK
* this is package ‘PhyloProfile’ version ‘1.13.6’
* package encoding: UTF-8
* checking package namespace information ... OK
* checking package dependencies ... OK
* checking if this is a source package ... OK
* checking if there is a namespace ... OK
* checking for hidden files and directories ... OK
* checking for portable file names ... OK
* checking for sufficient/correct file permissions ... OK
* checking whether package ‘PhyloProfile’ can be installed ... OK
* checking installed package size ... OK
* checking package directory ... OK
* checking ‘build’ directory ... OK
* checking DESCRIPTION meta-information ... OK
* checking top-level files ... OK
* checking for left-over files ... OK
* checking index information ... OK
* checking package subdirectories ... OK
* checking R files for non-ASCII characters ... OK
* checking R files for syntax errors ... OK
* checking whether the package can be loaded ... OK
* checking whether the package can be loaded with stated dependencies ... OK
* checking whether the package can be unloaded cleanly ... OK
* checking whether the namespace can be loaded with stated dependencies ... OK
* checking whether the namespace can be unloaded cleanly ... OK
* checking loading without being on the library search path ... OK
* checking dependencies in R code ... OK
* checking S3 generic/method consistency ... OK
* checking replacement functions ... OK
* checking foreign function calls ... OK
* checking R code for possible problems ... OK
* checking Rd files ... OK
* checking Rd metadata ... OK
* checking Rd cross-references ... OK
* checking for missing documentation entries ... OK
* checking for code/documentation mismatches ... OK
* checking Rd \usage sections ... OK
* checking Rd contents ... OK
* checking for unstated dependencies in examples ... OK
* checking contents of ‘data’ directory ... OK
* checking data for non-ASCII characters ... OK
* checking data for ASCII and uncompressed saves ... OK
* checking files in ‘vignettes’ ... OK
* checking examples ... OK
* checking for unstated dependencies in ‘tests’ ... OK
* checking tests ...
  Running ‘testthat.R’
 OK
* checking for unstated dependencies in vignettes ... OK
* checking package vignettes in ‘inst/doc’ ... OK
* checking running R code from vignettes ...
  ‘PhyloProfile-vignette.Rmd’ using ‘UTF-8’... OK
 NONE
* checking re-building of vignette outputs ... OK
* checking PDF version of manual ... OK
* DONE

Status: OK


Installation output

PhyloProfile.Rcheck/00install.out

##############################################################################
##############################################################################
###
### Running command:
###
###   /home/biocbuild/bbs-3.17-bioc/R/bin/R CMD INSTALL PhyloProfile
###
##############################################################################
##############################################################################


* installing to library ‘/home/biocbuild/bbs-3.17-bioc/R/site-library’
* installing *source* package ‘PhyloProfile’ ...
** using staged installation
** R
** data
** inst
** byte-compile and prepare package for lazy loading
** help
*** installing help indices
** building package indices
** installing vignettes
** testing if installed package can be loaded from temporary location
** testing if installed package can be loaded from final location
** testing if installed package keeps a record of temporary installation path
* DONE (PhyloProfile)

Tests output

PhyloProfile.Rcheck/tests/testthat.Rout


R Under development (unstable) (2023-03-16 r83996) -- "Unsuffered Consequences"
Copyright (C) 2023 The R Foundation for Statistical Computing
Platform: x86_64-pc-linux-gnu (64-bit)

R is free software and comes with ABSOLUTELY NO WARRANTY.
You are welcome to redistribute it under certain conditions.
Type 'license()' or 'licence()' for distribution details.

R is a collaborative project with many contributors.
Type 'contributors()' for more information and
'citation()' on how to cite R or R packages in publications.

Type 'demo()' for some demos, 'help()' for on-line help, or
'help.start()' for an HTML browser interface to help.
Type 'q()' to quit R.

> library(testthat)
> library(PhyloProfile)
> 
> test_check("PhyloProfile")
[ FAIL 0 | WARN 0 | SKIP 0 | PASS 20 ]
> 
> proc.time()
   user  system elapsed 
  9.562   0.435  10.340 

Example timings

PhyloProfile.Rcheck/PhyloProfile-Ex.timings

nameusersystemelapsed
calcPresSpec0.0440.0040.047
checkInputValidity0.0060.0000.006
checkNewick0.0020.0000.003
checkOmaID000
clusterDataDend0.0280.0000.028
compareMedianTaxonGroups0.0270.0000.027
compareTaxonGroups0.0360.0000.036
createArchiPlot1.8900.0601.954
createGeneAgePlot0.3230.0480.370
createLongMatrix0.0390.0040.042
createPercentageDistributionData0.1690.0320.201
createProfileFromOma000
createRootedTree0.0200.0040.023
createVarDistPlot0.3110.0120.324
createVariableDistributionData0.0150.0000.015
createVariableDistributionDataSubset0.0130.0000.013
dataCustomizedPlot0.0160.0080.024
dataFeatureTaxGroup0.0250.0000.025
dataMainPlot0.0180.0150.032
dataVarDistTaxGroup0.0120.0000.012
estimateGeneAge0.2120.0240.236
fastaParser0.0600.0040.076
featureDistTaxPlot0.3260.0040.330
filterProfileData0.2030.0320.235
fromInputToProfile0.2390.0080.255
geneAgePlotDf0.0080.0000.008
generateSinglePlot0.8800.0240.909
getAllDomainsOma000
getAllFastaOma0.0000.0010.000
getCommonAncestor0.0860.0420.129
getCoreGene0.1290.0080.137
getDataClustering0.0170.0040.036
getDataForOneOma000
getDendrogram0.0650.0030.079
getDistanceMatrix0.0540.0000.102
getDomainFolder000
getFastaFromFasInput0.0310.0040.034
getFastaFromFile0.0210.0000.035
getFastaFromFolder0.0160.0000.029
getIDsRank0.0520.0010.133
getInputTaxaID0.0010.0040.021
getInputTaxaName0.0190.0000.035
getNameList0.0240.0360.124
getOmaDataForOneOrtholog000
getOmaDomainFromURL0.0000.0010.000
getOmaMembers0.0000.0010.001
getQualColForVector0.0000.0000.001
getSelectedFastaOma000
getSelectedTaxonNames0.0270.0010.052
getTaxonomyInfo0.0170.0080.057
getTaxonomyMatrix0.1480.1480.401
getTaxonomyRanks0.0010.0000.001
gridArrangeSharedLegend1.2680.0161.285
heatmapPlotting0.4760.0230.498
highlightProfilePlot0.5010.0280.529
mainTaxonomyRank0.0010.0000.001
pairDomainPlotting0.0000.0000.001
parseDomainInput0.0190.0210.040
parseInfoProfile0.9310.1711.104
processNcbiTaxonomy0.1170.0370.283
qualitativeColours000
rankIndexing0.0000.0010.001
reduceProfile0.0160.0120.040
runPhyloProfile0.1130.0130.249
singleDomainPlotting0.0010.0000.001
sortDomains0.0010.0000.001
sortInputTaxa0.1330.0000.231
sortTaxaFromTree0.0180.0040.037
taxonomyTableCreator0.1990.0080.303
varDistTaxPlot1.5550.0752.096
wideToLong0.0230.0080.063
xmlParser0.0380.0040.049