Back to Multiple platform build/check report for BioC 3.17:   simplified   long
ABCDEFGHIJKLMNOPQR[S]TUVWXYZ

This page was generated on 2023-06-08 11:07:37 -0400 (Thu, 08 Jun 2023).

HostnameOSArch (*)R versionInstalled pkgs
nebbiolo1Linux (Ubuntu 22.04.2 LTS)x86_644.3.0 RC (2023-04-13 r84269) -- "Already Tomorrow" 4628
palomino3Windows Server 2022 Datacenterx644.3.0 RC (2023-04-13 r84269 ucrt) -- "Already Tomorrow" 4379
merida1macOS 12.6.4 Montereyx86_644.3.0 RC (2023-04-13 r84257) -- "Already Tomorrow" 4385
Click on any hostname to see more info about the system (e.g. compilers)      (*) as reported by 'uname -p', except on Windows and Mac OS X

CHECK results for scone on merida1


To the developers/maintainers of the scone package:
- Allow up to 24 hours (and sometimes 48 hours) for your latest push to git@git.bioconductor.org:packages/scone.git to reflect on this report. See Troubleshooting Build Report for more information.
- Use the following Renviron settings to reproduce errors and warnings.
- If 'R CMD check' started to fail recently on the Linux builder(s) over a missing dependency, add the missing dependency to 'Suggests:' in your DESCRIPTION file. See Renviron.bioc for more information.

raw results

Package 1847/2229HostnameOS / ArchINSTALLBUILDCHECKBUILD BIN
scone 1.24.0  (landing page)
Davide Risso
Snapshot Date: 2023-06-07 14:00:16 -0400 (Wed, 07 Jun 2023)
git_url: https://git.bioconductor.org/packages/scone
git_branch: RELEASE_3_17
git_last_commit: 26ae73c
git_last_commit_date: 2023-04-25 10:51:39 -0400 (Tue, 25 Apr 2023)
nebbiolo1Linux (Ubuntu 22.04.2 LTS) / x86_64  OK    OK    OK  UNNEEDED, same version is already published
palomino3Windows Server 2022 Datacenter / x64  OK    OK    OK    OK  UNNEEDED, same version is already published
merida1macOS 12.6.4 Monterey / x86_64  OK    OK    OK    OK  UNNEEDED, same version is already published

Summary

Package: scone
Version: 1.24.0
Command: /Library/Frameworks/R.framework/Resources/bin/R CMD check --install=check:scone.install-out.txt --library=/Library/Frameworks/R.framework/Resources/library --no-vignettes --timings scone_1.24.0.tar.gz
StartedAt: 2023-06-08 06:47:33 -0400 (Thu, 08 Jun 2023)
EndedAt: 2023-06-08 07:09:52 -0400 (Thu, 08 Jun 2023)
EllapsedTime: 1338.4 seconds
RetCode: 0
Status:   OK  
CheckDir: scone.Rcheck
Warnings: 0

Command output

##############################################################################
##############################################################################
###
### Running command:
###
###   /Library/Frameworks/R.framework/Resources/bin/R CMD check --install=check:scone.install-out.txt --library=/Library/Frameworks/R.framework/Resources/library --no-vignettes --timings scone_1.24.0.tar.gz
###
##############################################################################
##############################################################################


* using log directory ‘/Users/biocbuild/bbs-3.17-bioc/meat/scone.Rcheck’
* using R version 4.3.0 RC (2023-04-13 r84257)
* using platform: x86_64-apple-darwin20 (64-bit)
* R was compiled by
    Apple clang version 14.0.3 (clang-1403.0.22.14.1)
    GNU Fortran (GCC) 12.2.0
* running under: macOS Monterey 12.6.4
* using session charset: UTF-8
* using option ‘--no-vignettes’
* checking for file ‘scone/DESCRIPTION’ ... OK
* this is package ‘scone’ version ‘1.24.0’
* package encoding: UTF-8
* checking package namespace information ... OK
* checking package dependencies ... OK
* checking if this is a source package ... OK
* checking if there is a namespace ... OK
* checking for hidden files and directories ... OK
* checking for portable file names ... OK
* checking for sufficient/correct file permissions ... OK
* checking whether package ‘scone’ can be installed ... OK
* checking installed package size ... OK
* checking package directory ... OK
* checking ‘build’ directory ... OK
* checking DESCRIPTION meta-information ... OK
* checking top-level files ... OK
* checking for left-over files ... OK
* checking index information ... OK
* checking package subdirectories ... OK
* checking R files for non-ASCII characters ... OK
* checking R files for syntax errors ... OK
* checking whether the package can be loaded ... OK
* checking whether the package can be loaded with stated dependencies ... OK
* checking whether the package can be unloaded cleanly ... OK
* checking whether the namespace can be loaded with stated dependencies ... OK
* checking whether the namespace can be unloaded cleanly ... OK
* checking dependencies in R code ... OK
* checking S3 generic/method consistency ... OK
* checking replacement functions ... OK
* checking foreign function calls ... OK
* checking R code for possible problems ... NOTE
sconeReport: no visible global function definition for
  ‘visNetworkOutput’
sconeReport: no visible global function definition for ‘plotlyOutput’
sconeReport : server: no visible global function definition for
  ‘renderVisNetwork’
sconeReport : server: no visible global function definition for ‘%>%’
sconeReport : server: no visible global function definition for
  ‘visNetwork’
sconeReport : server: no visible global function definition for
  ‘visHierarchicalLayout’
sconeReport : server: no visible global function definition for
  ‘visGroups’
sconeReport : server: no visible global function definition for
  ‘visEdges’
sconeReport : server: no visible global function definition for
  ‘visOptions’
sconeReport : server: no visible global function definition for
  ‘visLegend’
sconeReport : server: no visible global function definition for
  ‘visNetworkProxy’
sconeReport : server: no visible global function definition for
  ‘visSelectNodes’
sconeReport : server: no visible global function definition for
  ‘plot_ly’
sconeReport : server: no visible global function definition for
  ‘ggplot’
sconeReport : server: no visible global function definition for ‘aes’
sconeReport : server: no visible global function definition for
  ‘geom_bar’
sconeReport : server: no visible global function definition for ‘ylim’
sconeReport : server: no visible global function definition for ‘labs’
sconeReport : server: no visible global function definition for ‘theme’
sconeReport : server: no visible global function definition for
  ‘element_blank’
sconeReport : server: no visible global function definition for
  ‘ggplotly’
sconeReport : server: no visible global function definition for
  ‘geom_violin’
sconeReport : server: no visible global function definition for
  ‘coord_cartesian’
sconeReport : server: no visible global function definition for
  ‘scale_fill_manual’
sconeReport : server: no visible global function definition for
  ‘geom_point’
sconeReport : server: no visible global function definition for
  ‘guides’
Undefined global functions or variables:
  %>% aes coord_cartesian element_blank geom_bar geom_point geom_violin
  ggplot ggplotly guides labs plot_ly plotlyOutput renderVisNetwork
  scale_fill_manual theme visEdges visGroups visHierarchicalLayout
  visLegend visNetwork visNetworkOutput visNetworkProxy visOptions
  visSelectNodes ylim
* checking Rd files ... OK
* checking Rd metadata ... OK
* checking Rd cross-references ... OK
* checking for missing documentation entries ... OK
* checking for code/documentation mismatches ... OK
* checking Rd \usage sections ... OK
* checking Rd contents ... OK
* checking for unstated dependencies in examples ... OK
* checking contents of ‘data’ directory ... OK
* checking data for non-ASCII characters ... OK
* checking data for ASCII and uncompressed saves ... OK
* checking files in ‘vignettes’ ... OK
* checking examples ... OK
* checking for unstated dependencies in ‘tests’ ... OK
* checking tests ...
  Running ‘testthat.R’
 OK
* checking for unstated dependencies in vignettes ... OK
* checking package vignettes in ‘inst/doc’ ... OK
* checking running R code from vignettes ... SKIPPED
* checking re-building of vignette outputs ... SKIPPED
* checking PDF version of manual ... OK
* DONE

Status: 1 NOTE
See
  ‘/Users/biocbuild/bbs-3.17-bioc/meat/scone.Rcheck/00check.log’
for details.



Installation output

scone.Rcheck/00install.out

##############################################################################
##############################################################################
###
### Running command:
###
###   /Library/Frameworks/R.framework/Resources/bin/R CMD INSTALL scone
###
##############################################################################
##############################################################################


* installing to library ‘/Library/Frameworks/R.framework/Versions/4.3-x86_64/Resources/library’
* installing *source* package ‘scone’ ...
** using staged installation
** R
** data
** inst
** byte-compile and prepare package for lazy loading
** help
*** installing help indices
** building package indices
** installing vignettes
** testing if installed package can be loaded from temporary location
** testing if installed package can be loaded from final location
** testing if installed package keeps a record of temporary installation path
* DONE (scone)

Tests output

scone.Rcheck/tests/testthat.Rout


R version 4.3.0 RC (2023-04-13 r84257) -- "Already Tomorrow"
Copyright (C) 2023 The R Foundation for Statistical Computing
Platform: x86_64-apple-darwin20 (64-bit)

R is free software and comes with ABSOLUTELY NO WARRANTY.
You are welcome to redistribute it under certain conditions.
Type 'license()' or 'licence()' for distribution details.

R is a collaborative project with many contributors.
Type 'contributors()' for more information and
'citation()' on how to cite R or R packages in publications.

Type 'demo()' for some demos, 'help()' for on-line help, or
'help.start()' for an HTML browser interface to help.
Type 'q()' to quit R.

> Sys.setenv("R_TESTS" = "")
> 
> library(testthat)
> library(scone)
Loading required package: SummarizedExperiment
Loading required package: MatrixGenerics
Loading required package: matrixStats

Attaching package: 'MatrixGenerics'

The following objects are masked from 'package:matrixStats':

    colAlls, colAnyNAs, colAnys, colAvgsPerRowSet, colCollapse,
    colCounts, colCummaxs, colCummins, colCumprods, colCumsums,
    colDiffs, colIQRDiffs, colIQRs, colLogSumExps, colMadDiffs,
    colMads, colMaxs, colMeans2, colMedians, colMins, colOrderStats,
    colProds, colQuantiles, colRanges, colRanks, colSdDiffs, colSds,
    colSums2, colTabulates, colVarDiffs, colVars, colWeightedMads,
    colWeightedMeans, colWeightedMedians, colWeightedSds,
    colWeightedVars, rowAlls, rowAnyNAs, rowAnys, rowAvgsPerColSet,
    rowCollapse, rowCounts, rowCummaxs, rowCummins, rowCumprods,
    rowCumsums, rowDiffs, rowIQRDiffs, rowIQRs, rowLogSumExps,
    rowMadDiffs, rowMads, rowMaxs, rowMeans2, rowMedians, rowMins,
    rowOrderStats, rowProds, rowQuantiles, rowRanges, rowRanks,
    rowSdDiffs, rowSds, rowSums2, rowTabulates, rowVarDiffs, rowVars,
    rowWeightedMads, rowWeightedMeans, rowWeightedMedians,
    rowWeightedSds, rowWeightedVars

Loading required package: GenomicRanges
Loading required package: stats4
Loading required package: BiocGenerics

Attaching package: 'BiocGenerics'

The following objects are masked from 'package:stats':

    IQR, mad, sd, var, xtabs

The following objects are masked from 'package:base':

    Filter, Find, Map, Position, Reduce, anyDuplicated, aperm, append,
    as.data.frame, basename, cbind, colnames, dirname, do.call,
    duplicated, eval, evalq, get, grep, grepl, intersect, is.unsorted,
    lapply, mapply, match, mget, order, paste, pmax, pmax.int, pmin,
    pmin.int, rank, rbind, rownames, sapply, setdiff, sort, table,
    tapply, union, unique, unsplit, which.max, which.min

Loading required package: S4Vectors

Attaching package: 'S4Vectors'

The following object is masked from 'package:utils':

    findMatches

The following objects are masked from 'package:base':

    I, expand.grid, unname

Loading required package: IRanges
Loading required package: GenomeInfoDb
Loading required package: Biobase
Welcome to Bioconductor

    Vignettes contain introductory material; view with
    'browseVignettes()'. To cite Bioconductor, see
    'citation("Biobase")', and for packages 'citation("pkgname")'.


Attaching package: 'Biobase'

The following object is masked from 'package:MatrixGenerics':

    rowMedians

The following objects are masked from 'package:matrixStats':

    anyMissing, rowMedians

> 
> test_check("scone")
[ FAIL 0 | WARN 6 | SKIP 0 | PASS 64 ]

[ FAIL 0 | WARN 6 | SKIP 0 | PASS 64 ]
> 
> proc.time()
   user  system elapsed 
113.099  11.716 505.147 

Example timings

scone.Rcheck/scone-Ex.timings

nameusersystemelapsed
CLR_FN0.0030.0010.005
DESEQ_FN0.0030.0010.003
FQ_FN0.0040.0010.005
PSINORM_FN0.0040.0010.005
PsiNorm0.7390.0131.097
SCRAN_FN3.1530.1824.598
SUM_FN0.0000.0010.000
SconeExperiment-class0.2560.0020.330
TMM_FN0.0060.0000.008
UQ_FN0.0020.0000.002
biplot_color0.0160.0020.025
biplot_interactive0.4580.0070.584
control_genes0.0270.0150.053
estimate_ziber0.0790.0030.112
factor_sample_filter0.0950.0080.123
fast_estimate_ziber0.0700.0020.095
get_bio0.0860.0010.108
get_design1.0560.0791.433
get_negconruv0.1090.0160.161
get_normalized0.2960.0210.413
get_params0.0900.0010.121
get_qc0.1070.0010.147
get_scores0.2130.0010.276
impute_expectation0.0010.0010.003
impute_null0.0010.0010.001
lm_adjust0.0060.0000.014
make_design0.0030.0000.003
metric_sample_filter0.0090.0030.014
scone0.4690.0030.606
sconeReport0.2340.0020.310
scone_easybake0.2340.0020.304
score_matrix0.0060.0000.008
select_methods0.2440.0020.317
simple_FNR_params0.0580.0000.074