Back to Multiple platform build/check report for BioC 3.17
ABCDEF[G]HIJKLMNOPQRSTUVWXYZ

This page was generated on 2023-02-02 11:04:43 -0500 (Thu, 02 Feb 2023).

HostnameOSArch (*)R versionInstalled pkgs
nebbiolo1Linux (Ubuntu 22.04.1 LTS)x86_64R Under development (unstable) (2023-01-10 r83596) -- "Unsuffered Consequences" 4483
palomino3Windows Server 2022 Datacenterx64R Under development (unstable) (2023-01-10 r83596 ucrt) -- "Unsuffered Consequences" 4249
merida1macOS 10.14.6 Mojavex86_64R Under development (unstable) (2023-01-10 r83596) -- "Unsuffered Consequences" 4272
Click on any hostname to see more info about the system (e.g. compilers)      (*) as reported by 'uname -p', except on Windows and Mac OS X

All results for package GSEABase


To the developers/maintainers of the GSEABase package:
- Please allow up to 24 hours (and sometimes 48 hours) for your latest push to git@git.bioconductor.org:packages/GSEABase.git to
reflect on this report. See How and When does the builder pull? When will my changes propagate? for more information.
- Make sure to use the following settings in order to reproduce any error or warning you see on this page.

raw results

Package 857/2164HostnameOS / ArchINSTALLBUILDCHECKBUILD BIN
GSEABase 1.61.0  (landing page)
Bioconductor Package Maintainer
Snapshot Date: 2023-02-01 14:00:21 -0500 (Wed, 01 Feb 2023)
git_url: https://git.bioconductor.org/packages/GSEABase
git_branch: master
git_last_commit: 1d30521
git_last_commit_date: 2022-11-01 11:03:29 -0500 (Tue, 01 Nov 2022)
nebbiolo1Linux (Ubuntu 22.04.1 LTS) / x86_64  OK    OK    OK  UNNEEDED, same version is already published
palomino3Windows Server 2022 Datacenter / x64  OK    OK    OK    OK  UNNEEDED, same version is already published
merida1macOS 10.14.6 Mojave / x86_64  OK    OK    OK    OK  UNNEEDED, same version is already published

Results for Bioconductor software packages that depend directly on package GSEABase

QUICK STATSOS / ArchINSTALLBUILDCHECKBUILD BIN
nebbiolo1Linux (Ubuntu 22.04.1 LTS) / x86_64
0041
0140
01633
palomino3Windows Server 2022 Datacenter / x64
0041
0140
00634
0040
merida1macOS 10.14.6 Mojave / x86_64
0041
0140
10633
0040
Package 1/41HostnameOS / ArchINSTALLBUILDCHECKBUILD BIN
AGDEX 1.47.0  (landing page)
Cuilan lani Gao
git_last_commit: e9f212e
git_last_commit_date: 2022-11-01 11:06:18 -0500
nebbiolo1Linux (Ubuntu 22.04.1 LTS) / x86_64  OK    OK    OK  UNNEEDED, same version is already published
palomino3Windows Server 2022 Datacenter / x64  OK    OK    OK    OK  UNNEEDED, same version is already published
merida1macOS 10.14.6 Mojave / x86_64  OK    OK    OK    OK  UNNEEDED, same version is already published
Package 2/41HostnameOS / ArchINSTALLBUILDCHECKBUILD BIN
AUCell 1.21.2  (landing page)
Sara Aibar
git_last_commit: 6b2ee7c
git_last_commit_date: 2022-12-01 10:41:36 -0500
nebbiolo1Linux (Ubuntu 22.04.1 LTS) / x86_64  OK    OK    OK  UNNEEDED, same version is already published
palomino3Windows Server 2022 Datacenter / x64  OK    OK    OK    OK  UNNEEDED, same version is already published
merida1macOS 10.14.6 Mojave / x86_64  OK    OK    OK    OK  UNNEEDED, same version is already published
Package 3/41HostnameOS / ArchINSTALLBUILDCHECKBUILD BIN
BicARE 1.57.0  (landing page)
Pierre Gestraud
git_last_commit: 89de99f
git_last_commit_date: 2022-11-01 11:04:12 -0500
nebbiolo1Linux (Ubuntu 22.04.1 LTS) / x86_64  OK    OK    OK  UNNEEDED, same version is already published
palomino3Windows Server 2022 Datacenter / x64  OK    OK    OK    OK  UNNEEDED, same version is already published
merida1macOS 10.14.6 Mojave / x86_64  OK    OK    OK    OK  UNNEEDED, same version is already published
Package 4/41HostnameOS / ArchINSTALLBUILDCHECKBUILD BIN
BioCor 1.23.0  (landing page)
LluĂ­s Revilla Sancho
git_last_commit: 271726a
git_last_commit_date: 2022-11-01 11:15:22 -0500
nebbiolo1Linux (Ubuntu 22.04.1 LTS) / x86_64  OK    OK    OK  UNNEEDED, same version is already published
palomino3Windows Server 2022 Datacenter / x64  OK    OK    OK    OK  UNNEEDED, same version is already published
merida1macOS 10.14.6 Mojave / x86_64  OK    OK    OK    OK  UNNEEDED, same version is already published
Package 5/41HostnameOS / ArchINSTALLBUILDCHECKBUILD BIN
canceR 1.33.0  (landing page)
Karim Mezhoud
git_last_commit: 60e88c6
git_last_commit_date: 2022-11-01 11:11:13 -0500
nebbiolo1Linux (Ubuntu 22.04.1 LTS) / x86_64  OK    OK    OK  UNNEEDED, same version is already published
palomino3Windows Server 2022 Datacenter / x64  OK    OK    OK    OK  UNNEEDED, same version is already published
merida1macOS 10.14.6 Mojave / x86_64  OK    OK    OK    OK  UNNEEDED, same version is already published
Package 6/41HostnameOS / ArchINSTALLBUILDCHECKBUILD BIN
Category 2.65.0  (landing page)
Bioconductor Package Maintainer
git_last_commit: 6ef74a5
git_last_commit_date: 2022-11-01 10:39:25 -0500
nebbiolo1Linux (Ubuntu 22.04.1 LTS) / x86_64  OK    OK    OK  UNNEEDED, same version is already published
palomino3Windows Server 2022 Datacenter / x64  OK    OK    OK    OK  UNNEEDED, same version is already published
merida1macOS 10.14.6 Mojave / x86_64  OK    OK    OK    OK  UNNEEDED, same version is already published
Package 7/41HostnameOS / ArchINSTALLBUILDCHECKBUILD BIN
categoryCompare 1.43.0  (landing page)
Robert M. Flight
git_last_commit: d82fecd
git_last_commit_date: 2022-11-01 11:06:57 -0500
nebbiolo1Linux (Ubuntu 22.04.1 LTS) / x86_64  OK    OK    OK  UNNEEDED, same version is already published
palomino3Windows Server 2022 Datacenter / x64  OK    OK    OK    OK  UNNEEDED, same version is already published
merida1macOS 10.14.6 Mojave / x86_64  OK    OK    OK    OK  UNNEEDED, same version is already published
Package 8/41HostnameOS / ArchINSTALLBUILDCHECKBUILD BIN
CCPROMISE 1.25.0  (landing page)
Xueyuan Cao
git_last_commit: ac730f3
git_last_commit_date: 2022-11-01 11:14:48 -0500
nebbiolo1Linux (Ubuntu 22.04.1 LTS) / x86_64  OK    OK    WARNINGS  UNNEEDED, same version is already published
palomino3Windows Server 2022 Datacenter / x64  OK    OK    WARNINGS    OK  UNNEEDED, same version is already published
merida1macOS 10.14.6 Mojave / x86_64  OK    OK    WARNINGS    OK  UNNEEDED, same version is already published
Package 9/41HostnameOS / ArchINSTALLBUILDCHECKBUILD BIN
cellHTS2 2.63.0  (landing page)
Joseph Barry
git_last_commit: 7c21828
git_last_commit_date: 2022-11-01 11:03:30 -0500
nebbiolo1Linux (Ubuntu 22.04.1 LTS) / x86_64  OK    OK    OK  UNNEEDED, same version is already published
palomino3Windows Server 2022 Datacenter / x64  OK    OK    OK    OK  UNNEEDED, same version is already published
merida1macOS 10.14.6 Mojave / x86_64  OK    OK    OK    OK  UNNEEDED, same version is already published
Package 10/41HostnameOS / ArchINSTALLBUILDCHECKBUILD BIN
Cepo 1.5.0  (landing page)
Hani Jieun Kim
git_last_commit: e66ee7f
git_last_commit_date: 2022-11-01 11:26:00 -0500
nebbiolo1Linux (Ubuntu 22.04.1 LTS) / x86_64  OK    OK    WARNINGS  UNNEEDED, same version is already published
palomino3Windows Server 2022 Datacenter / x64  OK    OK    WARNINGS    OK  UNNEEDED, same version is already published
merida1macOS 10.14.6 Mojave / x86_64  OK    OK    WARNINGS    OK  UNNEEDED, same version is already published
Package 11/41HostnameOS / ArchINSTALLBUILDCHECKBUILD BIN
cosmosR 1.7.0  (landing page)
Attila Gabor
git_last_commit: ae66c55
git_last_commit_date: 2022-11-01 11:24:57 -0500
nebbiolo1Linux (Ubuntu 22.04.1 LTS) / x86_64  OK    OK    OK  UNNEEDED, same version is already published
palomino3Windows Server 2022 Datacenter / x64  OK    OK    OK    OK  UNNEEDED, same version is already published
merida1macOS 10.14.6 Mojave / x86_64  OK    OK    OK    OK  UNNEEDED, same version is already published
Package 12/41HostnameOS / ArchINSTALLBUILDCHECKBUILD BIN
cpvSNP 1.31.0  (landing page)
Caitlin McHugh
git_last_commit: 0e2f08d
git_last_commit_date: 2022-11-01 11:10:50 -0500
nebbiolo1Linux (Ubuntu 22.04.1 LTS) / x86_64  OK    OK    OK  UNNEEDED, same version is already published
palomino3Windows Server 2022 Datacenter / x64  OK    OK    OK    OK  UNNEEDED, same version is already published
merida1macOS 10.14.6 Mojave / x86_64  OK    OK    OK    OK  UNNEEDED, same version is already published
Package 13/41HostnameOS / ArchINSTALLBUILDCHECKBUILD BIN
EnrichmentBrowser 2.29.0  (landing page)
Ludwig Geistlinger
git_last_commit: ce09298
git_last_commit_date: 2022-11-01 11:10:18 -0500
nebbiolo1Linux (Ubuntu 22.04.1 LTS) / x86_64  OK    OK    OK  UNNEEDED, same version is already published
palomino3Windows Server 2022 Datacenter / x64  OK    OK    OK    OK  UNNEEDED, same version is already published
merida1macOS 10.14.6 Mojave / x86_64  OK    OK    OK    OK  UNNEEDED, same version is already published
Package 14/41HostnameOS / ArchINSTALLBUILDCHECKBUILD BIN
escape 1.9.0  (landing page)
Nick Borcherding
git_last_commit: 20fe04c
git_last_commit_date: 2022-11-01 11:22:28 -0500
nebbiolo1Linux (Ubuntu 22.04.1 LTS) / x86_64  OK    OK    OK  UNNEEDED, same version is already published
palomino3Windows Server 2022 Datacenter / x64  OK    OK    OK    OK  UNNEEDED, same version is already published
merida1macOS 10.14.6 Mojave / x86_64  OK    OK    OK    OK  UNNEEDED, same version is already published
Package 15/41HostnameOS / ArchINSTALLBUILDCHECKBUILD BIN
gep2pep 1.19.0  (landing page)
Francesco Napolitano
git_last_commit: f8e66a1
git_last_commit_date: 2022-11-01 11:16:48 -0500
nebbiolo1Linux (Ubuntu 22.04.1 LTS) / x86_64  OK    OK    OK  UNNEEDED, same version is already published
palomino3Windows Server 2022 Datacenter / x64  OK    OK    OK    OK  UNNEEDED, same version is already published
merida1macOS 10.14.6 Mojave / x86_64  OK    OK    OK    OK  UNNEEDED, same version is already published
Package 16/41HostnameOS / ArchINSTALLBUILDCHECKBUILD BIN
GISPA 1.23.0  (landing page)
Bhakti Dwivedi
git_last_commit: cc242d5
git_last_commit_date: 2022-11-01 11:15:18 -0500
nebbiolo1Linux (Ubuntu 22.04.1 LTS) / x86_64  OK    OK    OK  UNNEEDED, same version is already published
palomino3Windows Server 2022 Datacenter / x64  OK    OK    OK    OK  UNNEEDED, same version is already published
merida1macOS 10.14.6 Mojave / x86_64  OK    OK    OK    OK  UNNEEDED, same version is already published
Package 17/41HostnameOS / ArchINSTALLBUILDCHECKBUILD BIN
GlobalAncova 4.17.0  (landing page)
Manuela Hummel
git_last_commit: a1bf692
git_last_commit_date: 2022-11-01 10:39:59 -0500
nebbiolo1Linux (Ubuntu 22.04.1 LTS) / x86_64  OK    OK    OK  UNNEEDED, same version is already published
palomino3Windows Server 2022 Datacenter / x64  OK    OK    OK    OK  UNNEEDED, same version is already published
merida1macOS 10.14.6 Mojave / x86_64  OK    OK    OK    OK  UNNEEDED, same version is already published
Package 18/41HostnameOS / ArchINSTALLBUILDCHECKBUILD BIN
GmicR 1.13.0  (landing page)
Richard Virgen-Slane
git_last_commit: cf2e908
git_last_commit_date: 2022-11-01 11:20:38 -0500
nebbiolo1Linux (Ubuntu 22.04.1 LTS) / x86_64  OK    OK    WARNINGS  UNNEEDED, same version is already published
palomino3Windows Server 2022 Datacenter / x64  OK    OK    WARNINGS    OK  UNNEEDED, same version is already published
merida1macOS 10.14.6 Mojave / x86_64  OK    OK    TIMEOUT    OK  
Package 19/41HostnameOS / ArchINSTALLBUILDCHECKBUILD BIN
GSRI 2.47.0  (landing page)
Julian Gehring
git_last_commit: 6247f50
git_last_commit_date: 2022-11-01 11:05:04 -0500
nebbiolo1Linux (Ubuntu 22.04.1 LTS) / x86_64  OK    OK    OK  UNNEEDED, same version is already published
palomino3Windows Server 2022 Datacenter / x64  OK    OK    OK    OK  UNNEEDED, same version is already published
merida1macOS 10.14.6 Mojave / x86_64  OK    OK    OK    OK  UNNEEDED, same version is already published
Package 20/41HostnameOS / ArchINSTALLBUILDCHECKBUILD BIN
GSVA 1.47.0  (landing page)
Robert Castelo
git_last_commit: fd07d5f
git_last_commit_date: 2022-11-01 11:05:54 -0500
nebbiolo1Linux (Ubuntu 22.04.1 LTS) / x86_64  OK    OK    OK  UNNEEDED, same version is already published
palomino3Windows Server 2022 Datacenter / x64  OK    OK    OK    OK  UNNEEDED, same version is already published
merida1macOS 10.14.6 Mojave / x86_64  OK    OK    OK    OK  UNNEEDED, same version is already published
Package 21/41HostnameOS / ArchINSTALLBUILDCHECKBUILD BIN
MIGSA 1.23.0  (landing page)
Juan C. Rodriguez
git_last_commit: 1cc82b6
git_last_commit_date: 2022-11-01 11:15:16 -0500
nebbiolo1Linux (Ubuntu 22.04.1 LTS) / x86_64  OK    ERROR  skipped
palomino3Windows Server 2022 Datacenter / x64  OK    ERROR  skippedskipped
merida1macOS 10.14.6 Mojave / x86_64  OK    ERROR  skippedskipped
Package 22/41HostnameOS / ArchINSTALLBUILDCHECKBUILD BIN
miRSM 1.17.0  (landing page)
Junpeng Zhang
git_last_commit: 7289938
git_last_commit_date: 2022-11-01 11:18:21 -0500
nebbiolo1Linux (Ubuntu 22.04.1 LTS) / x86_64  OK    OK    OK  UNNEEDED, same version is already published
palomino3Windows Server 2022 Datacenter / x64  OK    OK    OK    OK  UNNEEDED, same version is already published
merida1macOS 10.14.6 Mojave / x86_64  OK    OK    OK    OK  UNNEEDED, same version is already published
Package 23/41HostnameOS / ArchINSTALLBUILDCHECKBUILD BIN
mogsa 1.33.0  (landing page)
Chen Meng
git_last_commit: 2e3b10e
git_last_commit_date: 2022-11-01 11:11:28 -0500
nebbiolo1Linux (Ubuntu 22.04.1 LTS) / x86_64  OK    OK    OK  UNNEEDED, same version is already published
palomino3Windows Server 2022 Datacenter / x64  OK    OK    OK    OK  UNNEEDED, same version is already published
merida1macOS 10.14.6 Mojave / x86_64  OK    OK    OK    OK  UNNEEDED, same version is already published
Package 24/41HostnameOS / ArchINSTALLBUILDCHECKBUILD BIN
npGSEA 1.35.0  (landing page)
Jessica Larson
git_last_commit: e0a5cb9
git_last_commit_date: 2022-11-01 11:09:34 -0500
nebbiolo1Linux (Ubuntu 22.04.1 LTS) / x86_64  OK    OK    OK  UNNEEDED, same version is already published
palomino3Windows Server 2022 Datacenter / x64  OK    OK    OK    OK  UNNEEDED, same version is already published
merida1macOS 10.14.6 Mojave / x86_64  OK    OK    OK    OK  UNNEEDED, same version is already published
Package 25/41HostnameOS / ArchINSTALLBUILDCHECKBUILD BIN
oppar 1.27.0  (landing page)
Soroor Hediyeh zadeh
git_last_commit: e1549db
git_last_commit_date: 2022-11-01 11:13:31 -0500
nebbiolo1Linux (Ubuntu 22.04.1 LTS) / x86_64  OK    OK    WARNINGS  UNNEEDED, same version is already published
palomino3Windows Server 2022 Datacenter / x64  OK    OK    WARNINGS    OK  UNNEEDED, same version is already published
merida1macOS 10.14.6 Mojave / x86_64  OK    OK    WARNINGS    OK  UNNEEDED, same version is already published
Package 26/41HostnameOS / ArchINSTALLBUILDCHECKBUILD BIN
PanomiR 1.3.0  (landing page)
Pourya Naderi
git_last_commit: 9fc53fd
git_last_commit_date: 2022-11-01 11:26:24 -0500
nebbiolo1Linux (Ubuntu 22.04.1 LTS) / x86_64  OK    OK    OK  UNNEEDED, same version is already published
palomino3Windows Server 2022 Datacenter / x64  OK    OK    OK    OK  UNNEEDED, same version is already published
merida1macOS 10.14.6 Mojave / x86_64  OK    OK    OK    OK  UNNEEDED, same version is already published
Package 27/41HostnameOS / ArchINSTALLBUILDCHECKBUILD BIN
phenoTest 1.47.0  (landing page)
Evarist Planet
git_last_commit: c75d922
git_last_commit_date: 2022-11-01 11:05:33 -0500
nebbiolo1Linux (Ubuntu 22.04.1 LTS) / x86_64  OK    OK    WARNINGS  UNNEEDED, same version is already published
palomino3Windows Server 2022 Datacenter / x64  OK    OK    WARNINGS    OK  UNNEEDED, same version is already published
merida1macOS 10.14.6 Mojave / x86_64  OK    OK    WARNINGS    OK  UNNEEDED, same version is already published
Package 28/41HostnameOS / ArchINSTALLBUILDCHECKBUILD BIN
PROMISE 1.51.0  (landing page)
Stan Pounds , Xueyuan Cao
git_last_commit: 14537df
git_last_commit_date: 2022-11-01 11:05:02 -0500
nebbiolo1Linux (Ubuntu 22.04.1 LTS) / x86_64  OK    OK    OK  UNNEEDED, same version is already published
palomino3Windows Server 2022 Datacenter / x64  OK    OK    OK    OK  UNNEEDED, same version is already published
merida1macOS 10.14.6 Mojave / x86_64  OK    OK    OK    OK  UNNEEDED, same version is already published
Package 29/41HostnameOS / ArchINSTALLBUILDCHECKBUILD BIN
RcisTarget 1.19.2  (landing page)
Sara Aibar
git_last_commit: 33623d4
git_last_commit_date: 2022-12-01 10:36:14 -0500
nebbiolo1Linux (Ubuntu 22.04.1 LTS) / x86_64  OK    OK    OK  UNNEEDED, same version is already published
palomino3Windows Server 2022 Datacenter / x64  OK    OK    OK    OK  UNNEEDED, same version is already published
merida1macOS 10.14.6 Mojave / x86_64  OK    OK    OK    OK  UNNEEDED, same version is already published
Package 30/41HostnameOS / ArchINSTALLBUILDCHECKBUILD BIN
ReportingTools 2.39.0  (landing page)
Jason A. Hackney , Gabriel Becker
git_last_commit: 07335dd
git_last_commit_date: 2022-11-01 11:07:25 -0500
nebbiolo1Linux (Ubuntu 22.04.1 LTS) / x86_64  OK    OK    OK  UNNEEDED, same version is already published
palomino3Windows Server 2022 Datacenter / x64  OK    OK    OK    OK  UNNEEDED, same version is already published
merida1macOS 10.14.6 Mojave / x86_64  OK    OK    OK    OK  UNNEEDED, same version is already published
Package 31/41HostnameOS / ArchINSTALLBUILDCHECKBUILD BIN
scTGIF 1.13.0  (landing page)
Koki Tsuyuzaki
git_last_commit: fbd870b
git_last_commit_date: 2022-11-01 11:20:56 -0500
nebbiolo1Linux (Ubuntu 22.04.1 LTS) / x86_64  OK    OK    OK  UNNEEDED, same version is already published
palomino3Windows Server 2022 Datacenter / x64  OK    OK    OK    OK  UNNEEDED, same version is already published
merida1macOS 10.14.6 Mojave / x86_64  OK    OK    OK    OK  UNNEEDED, same version is already published
Package 32/41HostnameOS / ArchINSTALLBUILDCHECKBUILD BIN
signatureSearch 1.13.0  (landing page)
Brendan Gongol
git_last_commit: 3682150
git_last_commit_date: 2022-11-01 11:20:59 -0500
nebbiolo1Linux (Ubuntu 22.04.1 LTS) / x86_64  OK    OK    OK  UNNEEDED, same version is already published
palomino3Windows Server 2022 Datacenter / x64  OK    OK    OK    OK  UNNEEDED, same version is already published
merida1macOS 10.14.6 Mojave / x86_64  OK    OK    OK    OK  UNNEEDED, same version is already published
Package 33/41HostnameOS / ArchINSTALLBUILDCHECKBUILD BIN
singleCellTK 2.9.0  (landing page)
Yichen Wang
git_last_commit: 4468720
git_last_commit_date: 2022-11-01 11:17:41 -0500
nebbiolo1Linux (Ubuntu 22.04.1 LTS) / x86_64  OK    OK    ERROR  
palomino3Windows Server 2022 Datacenter / x64  OK    OK    OK    OK  UNNEEDED, same version is already published
merida1macOS 10.14.6 Mojave / x86_64  OK    OK    OK    OK  UNNEEDED, same version is already published
Package 34/41HostnameOS / ArchINSTALLBUILDCHECKBUILD BIN
singscore 1.19.0  (landing page)
Dharmesh D. Bhuva
git_last_commit: 12a6f26
git_last_commit_date: 2022-11-01 11:17:48 -0500
nebbiolo1Linux (Ubuntu 22.04.1 LTS) / x86_64  OK    OK    OK  UNNEEDED, same version is already published
palomino3Windows Server 2022 Datacenter / x64  OK    OK    OK    OK  UNNEEDED, same version is already published
merida1macOS 10.14.6 Mojave / x86_64  OK    OK    OK    OK  UNNEEDED, same version is already published
Package 35/41HostnameOS / ArchINSTALLBUILDCHECKBUILD BIN
slalom 1.21.0  (landing page)
Davis McCarthy
git_last_commit: 79dc471
git_last_commit_date: 2022-11-01 11:16:32 -0500
nebbiolo1Linux (Ubuntu 22.04.1 LTS) / x86_64  OK    OK    OK  UNNEEDED, same version is already published
palomino3Windows Server 2022 Datacenter / x64  OK    OK    OK    OK  UNNEEDED, same version is already published
merida1macOS 10.14.6 Mojave / x86_64  OK    OK    WARNINGS    OK  UNNEEDED, same version is already published
Package 36/41HostnameOS / ArchINSTALLBUILDCHECKBUILD BIN
sparrow 1.5.0  (landing page)
Steve Lianoglou
git_last_commit: b7667d5
git_last_commit_date: 2022-11-01 11:25:47 -0500
nebbiolo1Linux (Ubuntu 22.04.1 LTS) / x86_64  OK    OK    OK  UNNEEDED, same version is already published
palomino3Windows Server 2022 Datacenter / x64  OK    OK    OK    OK  UNNEEDED, same version is already published
merida1macOS 10.14.6 Mojave / x86_64  OK    OK    OK    OK  UNNEEDED, same version is already published
Package 37/41HostnameOS / ArchINSTALLBUILDCHECKBUILD BIN
splineTimeR 1.27.0  (landing page)
Herbert Braselmann , Martin Selmansberger
git_last_commit: 4044254
git_last_commit_date: 2022-11-01 11:12:41 -0500
nebbiolo1Linux (Ubuntu 22.04.1 LTS) / x86_64  OK    OK    OK  UNNEEDED, same version is already published
palomino3Windows Server 2022 Datacenter / x64  OK    OK    OK    OK  UNNEEDED, same version is already published
merida1macOS 10.14.6 Mojave / x86_64  OK    OK    OK    OK  UNNEEDED, same version is already published
Package 38/41HostnameOS / ArchINSTALLBUILDCHECKBUILD BIN
TFutils 1.19.0  (landing page)
Vincent Carey
git_last_commit: e1ba0dc
git_last_commit_date: 2022-11-01 11:17:33 -0500
nebbiolo1Linux (Ubuntu 22.04.1 LTS) / x86_64  OK    OK    OK  UNNEEDED, same version is already published
palomino3Windows Server 2022 Datacenter / x64  OK    OK    OK    OK  UNNEEDED, same version is already published
merida1macOS 10.14.6 Mojave / x86_64  OK    OK    OK    OK  UNNEEDED, same version is already published
Package 39/41HostnameOS / ArchINSTALLBUILDCHECKBUILD BIN
TissueEnrich 1.19.0  (landing page)
Ashish Jain
git_last_commit: cec90cc
git_last_commit_date: 2022-11-01 11:17:26 -0500
nebbiolo1Linux (Ubuntu 22.04.1 LTS) / x86_64  OK    OK    OK  UNNEEDED, same version is already published
palomino3Windows Server 2022 Datacenter / x64  OK    OK    OK    OK  UNNEEDED, same version is already published
merida1macOS 10.14.6 Mojave / x86_64  OK    OK    OK    OK  UNNEEDED, same version is already published
Package 40/41HostnameOS / ArchINSTALLBUILDCHECKBUILD BIN
vissE 1.7.0  (landing page)
Dharmesh D. Bhuva
git_last_commit: 4ff3a5f
git_last_commit_date: 2022-11-01 11:25:00 -0500
nebbiolo1Linux (Ubuntu 22.04.1 LTS) / x86_64  OK    OK    OK  UNNEEDED, same version is already published
palomino3Windows Server 2022 Datacenter / x64  OK    OK    OK    OK  UNNEEDED, same version is already published
merida1macOS 10.14.6 Mojave / x86_64  OK    OK    OK    OK  UNNEEDED, same version is already published
Package 41/41HostnameOS / ArchINSTALLBUILDCHECKBUILD BIN
zenith 1.1.0  (landing page)
Gabriel Hoffman
git_last_commit: 573e32d
git_last_commit_date: 2022-11-01 11:27:23 -0500
nebbiolo1Linux (Ubuntu 22.04.1 LTS) / x86_64  OK    OK    WARNINGS  UNNEEDED, same version is already published
palomino3Windows Server 2022 Datacenter / x64  OK    OK    WARNINGS    OK  UNNEEDED, same version is already published
merida1macOS 10.14.6 Mojave / x86_64  OK    OK    WARNINGS    OK  UNNEEDED, same version is already published