Back to Multiple platform build/check report for BioC 3.17:   simplified   long
ABCDEFGHIJKL[M]NOPQRSTUVWXYZ

This page was generated on 2023-03-31 11:02:47 -0400 (Fri, 31 Mar 2023).

HostnameOSArch (*)R versionInstalled pkgs
nebbiolo1Linux (Ubuntu 22.04.1 LTS)x86_64R Under development (unstable) (2023-03-16 r83996) -- "Unsuffered Consequences" 4547
palomino3Windows Server 2022 Datacenterx64R Under development (unstable) (2023-03-15 r83984 ucrt) -- "Unsuffered Consequences" 4308
Click on any hostname to see more info about the system (e.g. compilers)      (*) as reported by 'uname -p', except on Windows and Mac OS X

CHECK results for musicatk on nebbiolo1


To the developers/maintainers of the musicatk package:
- Allow up to 24 hours (and sometimes 48 hours) for your latest push to git@git.bioconductor.org:packages/musicatk.git to reflect on this report. See Troubleshooting Build Report for more information.

- Use the following Renviron settings to reproduce errors and warnings.

Note: If "R CMD check" recently failed on the Linux builder over a missing dependency, add the missing dependency to "Suggests" in your DESCRIPTION file. See the Renviron.bioc for details.

raw results

Package 1326/2195HostnameOS / ArchINSTALLBUILDCHECKBUILD BIN
musicatk 1.9.0  (landing page)
Aaron Chevalier
Snapshot Date: 2023-03-30 14:00:16 -0400 (Thu, 30 Mar 2023)
git_url: https://git.bioconductor.org/packages/musicatk
git_branch: devel
git_last_commit: 69829e2
git_last_commit_date: 2022-11-01 11:23:15 -0400 (Tue, 01 Nov 2022)
nebbiolo1Linux (Ubuntu 22.04.1 LTS) / x86_64  OK    OK    OK  NO, package depends on 'TCGAbiolinks' which is not available
palomino3Windows Server 2022 Datacenter / x64  OK    OK    OK    OK  UNNEEDED, same version is already published

Summary

Package: musicatk
Version: 1.9.0
Command: /home/biocbuild/bbs-3.17-bioc/R/bin/R CMD check --install=check:musicatk.install-out.txt --library=/home/biocbuild/bbs-3.17-bioc/R/site-library --timings musicatk_1.9.0.tar.gz
StartedAt: 2023-03-30 21:53:57 -0400 (Thu, 30 Mar 2023)
EndedAt: 2023-03-30 22:01:38 -0400 (Thu, 30 Mar 2023)
EllapsedTime: 460.7 seconds
RetCode: 0
Status:   OK  
CheckDir: musicatk.Rcheck
Warnings: 0

Command output

##############################################################################
##############################################################################
###
### Running command:
###
###   /home/biocbuild/bbs-3.17-bioc/R/bin/R CMD check --install=check:musicatk.install-out.txt --library=/home/biocbuild/bbs-3.17-bioc/R/site-library --timings musicatk_1.9.0.tar.gz
###
##############################################################################
##############################################################################


* using log directory ‘/home/biocbuild/bbs-3.17-bioc/meat/musicatk.Rcheck’
* using R Under development (unstable) (2023-03-16 r83996)
* using platform: x86_64-pc-linux-gnu (64-bit)
* R was compiled by
    gcc (Ubuntu 11.3.0-1ubuntu1~22.04) 11.3.0
    GNU Fortran (Ubuntu 11.3.0-1ubuntu1~22.04) 11.3.0
* running under: Ubuntu 22.04.2 LTS
* using session charset: UTF-8
* checking for file ‘musicatk/DESCRIPTION’ ... OK
* checking extension type ... Package
* this is package ‘musicatk’ version ‘1.9.0’
* package encoding: UTF-8
* checking package namespace information ... OK
* checking package dependencies ... OK
* checking if this is a source package ... OK
* checking if there is a namespace ... OK
* checking for hidden files and directories ... OK
* checking for portable file names ... OK
* checking for sufficient/correct file permissions ... OK
* checking whether package ‘musicatk’ can be installed ... OK
* checking installed package size ... OK
* checking package directory ... OK
* checking ‘build’ directory ... OK
* checking DESCRIPTION meta-information ... OK
* checking top-level files ... OK
* checking for left-over files ... OK
* checking index information ... OK
* checking package subdirectories ... OK
* checking R files for non-ASCII characters ... OK
* checking R files for syntax errors ... OK
* checking whether the package can be loaded ... OK
* checking whether the package can be loaded with stated dependencies ... OK
* checking whether the package can be unloaded cleanly ... OK
* checking whether the namespace can be loaded with stated dependencies ... OK
* checking whether the namespace can be unloaded cleanly ... OK
* checking loading without being on the library search path ... OK
* checking dependencies in R code ... NOTE
Namespaces in Imports field not imported from:
  ‘TCGAbiolinks’ ‘shinyBS’ ‘shinyalert’ ‘shinybusy’ ‘shinydashboard’
  ‘shinyjqui’ ‘shinyjs’ ‘sortable’
  All declared Imports should be used.
* checking S3 generic/method consistency ... OK
* checking replacement functions ... OK
* checking foreign function calls ... OK
* checking R code for possible problems ... OK
* checking Rd files ... OK
* checking Rd metadata ... OK
* checking Rd cross-references ... OK
* checking for missing documentation entries ... OK
* checking for code/documentation mismatches ... OK
* checking Rd \usage sections ... OK
* checking Rd contents ... OK
* checking for unstated dependencies in examples ... OK
* checking contents of ‘data’ directory ... OK
* checking data for non-ASCII characters ... OK
* checking LazyData ... OK
* checking data for ASCII and uncompressed saves ... OK
* checking files in ‘vignettes’ ... OK
* checking examples ... OK
Examples with CPU (user + system) or elapsed time > 5s
                      user system elapsed
build_standard_table 6.946  1.251   8.198
create_umap          5.264  0.444   5.707
plot_cluster         5.106  0.236   5.341
* checking for unstated dependencies in ‘tests’ ... OK
* checking tests ...
  Running ‘testthat.R’
 OK
* checking for unstated dependencies in vignettes ... OK
* checking package vignettes in ‘inst/doc’ ... OK
* checking running R code from vignettes ...
  ‘musicatk.Rmd’ using ‘UTF-8’... OK
 NONE
* checking re-building of vignette outputs ... OK
* checking PDF version of manual ... OK
* DONE

Status: 1 NOTE
See
  ‘/home/biocbuild/bbs-3.17-bioc/meat/musicatk.Rcheck/00check.log’
for details.



Installation output

musicatk.Rcheck/00install.out

##############################################################################
##############################################################################
###
### Running command:
###
###   /home/biocbuild/bbs-3.17-bioc/R/bin/R CMD INSTALL musicatk
###
##############################################################################
##############################################################################


* installing to library ‘/home/biocbuild/bbs-3.17-bioc/R/site-library’
* installing *source* package ‘musicatk’ ...
** using staged installation
** R
** data
*** moving datasets to lazyload DB
** inst
** byte-compile and prepare package for lazy loading
** help
*** installing help indices
** building package indices
** installing vignettes
** testing if installed package can be loaded from temporary location
** testing if installed package can be loaded from final location
** testing if installed package keeps a record of temporary installation path
* DONE (musicatk)

Tests output

musicatk.Rcheck/tests/testthat.Rout


R Under development (unstable) (2023-03-16 r83996) -- "Unsuffered Consequences"
Copyright (C) 2023 The R Foundation for Statistical Computing
Platform: x86_64-pc-linux-gnu (64-bit)

R is free software and comes with ABSOLUTELY NO WARRANTY.
You are welcome to redistribute it under certain conditions.
Type 'license()' or 'licence()' for distribution details.

R is a collaborative project with many contributors.
Type 'contributors()' for more information and
'citation()' on how to cite R or R packages in publications.

Type 'demo()' for some demos, 'help()' for on-line help, or
'help.start()' for an HTML browser interface to help.
Type 'q()' to quit R.

> library("testthat")
> library("musicatk")
Loading required package: NMF
Loading required package: registry
Loading required package: rngtools
Loading required package: cluster
NMF - BioConductor layer [OK] | Shared memory capabilities [NO: bigmemory] | Cores 2/2
  To enable shared memory capabilities, try: install.extras('
NMF
')

Attaching package: 'NMF'

The following object is masked from 'package:testthat':

    compare

> 
> test_check("musicatk")
[ FAIL 0 | WARN 5 | SKIP 0 | PASS 42 ]

[ FAIL 0 | WARN 5 | SKIP 0 | PASS 42 ]
> 
> proc.time()
   user  system elapsed 
 21.093   1.151  22.275 

Example timings

musicatk.Rcheck/musicatk-Ex.timings

nameusersystemelapsed
add_flank_to_variants2.8910.3323.223
add_variant_type0.0150.0000.015
annotate_replication_strand1.1910.0081.198
annotate_transcript_strand1.1850.0561.241
annotate_variant_length0.0080.0040.012
annotate_variant_type0.0020.0000.002
auto_predict_grid2.7140.0762.790
build_custom_table0.9030.0080.911
build_standard_table6.9461.2518.198
built_tables0.0020.0000.003
cluster_exposure0.0140.0040.019
combine_count_tables2.3120.4642.775
combine_predict_grid1.7310.0001.731
compare_cosmic_v22.1790.0042.183
compare_cosmic_v31.0640.0041.069
compare_results1.3140.0641.378
cosmic_v2_subtype_map0.0020.0000.002
create_musica0.7880.4351.200
create_umap5.2640.4445.707
discover_signatures0.6340.1360.772
drop_annotation0.0020.0010.002
exposure_differential_analysis0.0210.0000.021
exposures0.0050.0000.005
extract_count_tables0.0040.0000.005
extract_variants4.2270.0484.223
extract_variants_from_maf0.1360.0000.108
extract_variants_from_maf_file0.1170.0000.091
extract_variants_from_matrix0.1350.0000.107
extract_variants_from_vcf0.7190.0030.722
extract_variants_from_vcf_file0.4540.0080.461
generate_result_grid0.1470.0040.151
get_musica0.0080.0000.008
k_select0.8570.0160.875
musicatk000
name_signatures0.0030.0000.003
pipe0.0030.0000.002
plot_cluster5.1060.2365.341
plot_differential_analysis0.170.000.17
plot_exposures0.1840.0120.195
plot_heatmap0.6870.0000.687
plot_sample_counts0.3350.0000.335
plot_sample_reconstruction_error0.5210.0000.521
plot_signatures0.5340.0000.534
plot_umap4.3980.0724.470
predict_exposure0.9940.1481.142
rc0.0020.0000.002
samp_annot0.0180.0030.021
sample_names0.0030.0000.003
select_genome0.0000.0000.001
signatures0.0060.0000.006
subset_musica_by_annotation0.0050.0000.005
subset_musica_by_counts0.0080.0000.008
subset_variant_by_type0.0000.0050.005
subset_variants_by_samples0.0020.0020.005
table_selected0.0020.0000.001
tables0.0080.0000.008
umap0.0030.0000.003
variants0.0080.0000.008