Back to Multiple platform build/check report for BioC 3.17:   simplified   long
ABCDEFGH[I]JKLMNOPQRSTUVWXYZ

This page was generated on 2023-03-22 11:06:45 -0400 (Wed, 22 Mar 2023).

HostnameOSArch (*)R versionInstalled pkgs
nebbiolo1Linux (Ubuntu 22.04.1 LTS)x86_64R Under development (unstable) (2023-03-16 r83996) -- "Unsuffered Consequences" 4508
palomino3Windows Server 2022 Datacenterx64R Under development (unstable) (2023-03-15 r83984 ucrt) -- "Unsuffered Consequences" 4293
merida1macOS 10.14.6 Mojavex86_64R Under development (unstable) (2023-03-16 r83985) -- "Unsuffered Consequences" 4290
Click on any hostname to see more info about the system (e.g. compilers)      (*) as reported by 'uname -p', except on Windows and Mac OS X

CHECK results for INSPEcT on merida1


To the developers/maintainers of the INSPEcT package:
- Please allow up to 24 hours (and sometimes 48 hours) for your latest push to git@git.bioconductor.org:packages/INSPEcT.git to
reflect on this report. See How and When does the builder pull? When will my changes propagate? for more information.
- Make sure to use the following settings in order to reproduce any error or warning you see on this page.

raw results

Package 983/2189HostnameOS / ArchINSTALLBUILDCHECKBUILD BIN
INSPEcT 1.29.0  (landing page)
Stefano de Pretis
Snapshot Date: 2023-03-21 14:00:22 -0400 (Tue, 21 Mar 2023)
git_url: https://git.bioconductor.org/packages/INSPEcT
git_branch: master
git_last_commit: 5409025
git_last_commit_date: 2022-11-01 11:11:51 -0400 (Tue, 01 Nov 2022)
nebbiolo1Linux (Ubuntu 22.04.1 LTS) / x86_64  OK    OK    OK  UNNEEDED, same version is already published
palomino3Windows Server 2022 Datacenter / x64  OK    OK    OK    OK  UNNEEDED, same version is already published
merida1macOS 10.14.6 Mojave / x86_64  OK    OK    OK    OK  UNNEEDED, same version is already published

Summary

Package: INSPEcT
Version: 1.29.0
Command: /Library/Frameworks/R.framework/Resources/bin/R CMD check --install=check:INSPEcT.install-out.txt --library=/Library/Frameworks/R.framework/Resources/library --no-vignettes --timings INSPEcT_1.29.0.tar.gz
StartedAt: 2023-03-22 02:41:37 -0400 (Wed, 22 Mar 2023)
EndedAt: 2023-03-22 03:17:34 -0400 (Wed, 22 Mar 2023)
EllapsedTime: 2156.9 seconds
RetCode: 0
Status:   OK  
CheckDir: INSPEcT.Rcheck
Warnings: 0

Command output

##############################################################################
##############################################################################
###
### Running command:
###
###   /Library/Frameworks/R.framework/Resources/bin/R CMD check --install=check:INSPEcT.install-out.txt --library=/Library/Frameworks/R.framework/Resources/library --no-vignettes --timings INSPEcT_1.29.0.tar.gz
###
##############################################################################
##############################################################################


* using log directory ‘/Users/biocbuild/bbs-3.17-bioc/meat/INSPEcT.Rcheck’
* using R Under development (unstable) (2023-03-16 r83985)
* using platform: x86_64-apple-darwin17.0 (64-bit)
* R was compiled by
    Apple clang version 12.0.0 (clang-1200.0.32.29)
    GNU Fortran (GCC) 8.2.0
* running under: macOS Mojave 10.14.6
* using session charset: UTF-8
* using option ‘--no-vignettes’
* checking for file ‘INSPEcT/DESCRIPTION’ ... OK
* checking extension type ... Package
* this is package ‘INSPEcT’ version ‘1.29.0’
* checking package namespace information ... OK
* checking package dependencies ... OK
* checking if this is a source package ... OK
* checking if there is a namespace ... OK
* checking for hidden files and directories ... OK
* checking for portable file names ... OK
* checking for sufficient/correct file permissions ... OK
* checking whether package ‘INSPEcT’ can be installed ... OK
* checking installed package size ... NOTE
  installed size is  7.1Mb
  sub-directories of 1Mb or more:
    R      1.8Mb
    data   2.8Mb
* checking package directory ... OK
* checking ‘build’ directory ... OK
* checking DESCRIPTION meta-information ... OK
* checking top-level files ... OK
* checking for left-over files ... OK
* checking index information ... OK
* checking package subdirectories ... OK
* checking R files for non-ASCII characters ... OK
* checking R files for syntax errors ... OK
* checking whether the package can be loaded ... OK
* checking whether the package can be loaded with stated dependencies ... OK
* checking whether the package can be unloaded cleanly ... OK
* checking whether the namespace can be loaded with stated dependencies ... OK
* checking whether the namespace can be unloaded cleanly ... OK
* checking dependencies in R code ... OK
* checking S3 generic/method consistency ... OK
* checking replacement functions ... OK
* checking foreign function calls ... OK
* checking R code for possible problems ... NOTE
output_pars: no visible global function definition for ‘plot.new’
plotSingleRNADynamic: no visible global function definition for ‘lines’
Undefined global functions or variables:
  lines plot.new
Consider adding
  importFrom("graphics", "lines", "plot.new")
to your NAMESPACE file.
* checking Rd files ... OK
* checking Rd metadata ... OK
* checking Rd cross-references ... OK
* checking for missing documentation entries ... OK
* checking for code/documentation mismatches ... OK
* checking Rd \usage sections ... OK
* checking Rd contents ... OK
* checking for unstated dependencies in examples ... OK
* checking contents of ‘data’ directory ... OK
* checking data for non-ASCII characters ... OK
* checking data for ASCII and uncompressed saves ... OK
* checking files in ‘vignettes’ ... OK
* checking examples ... OK
Examples with CPU (user + system) or elapsed time > 5s
                                   user system elapsed
makeSimDataset                  212.552  0.711 290.805
rocThresholds                    73.591  0.245  98.644
quantifyExpressionsFromBAMs      68.338  4.960  97.437
makeSimModel                     72.566  0.231  95.646
rocCurve                         72.393  0.223  98.703
INSPEcT_diffsteady-class         70.041  0.489 100.770
compareSteady                    63.176  0.198  88.345
plotMA                           62.437  0.181  83.404
modelRates                       41.437  0.115  54.775
newINSPEcT                       40.303  0.124  53.441
quantifyExpressionsFromTrCounts  35.050  0.123  46.861
processingDelay                  33.854  0.093  45.907
makeOscillatorySimModel          17.131  0.089  23.331
compareSteadyNoNascent           14.008  0.071  19.916
inspectFromPCR                    8.925  0.040  13.522
* checking for unstated dependencies in vignettes ... OK
* checking package vignettes in ‘inst/doc’ ... OK
* checking running R code from vignettes ... SKIPPED
* checking re-building of vignette outputs ... SKIPPED
* checking PDF version of manual ... OK
* DONE

Status: 2 NOTEs
See
  ‘/Users/biocbuild/bbs-3.17-bioc/meat/INSPEcT.Rcheck/00check.log’
for details.



Installation output

INSPEcT.Rcheck/00install.out

##############################################################################
##############################################################################
###
### Running command:
###
###   /Library/Frameworks/R.framework/Resources/bin/R CMD INSTALL INSPEcT
###
##############################################################################
##############################################################################


* installing to library ‘/Library/Frameworks/R.framework/Versions/4.3/Resources/library’
* installing *source* package ‘INSPEcT’ ...
** using staged installation
** R
** data
** inst
** byte-compile and prepare package for lazy loading
** help
*** installing help indices
** building package indices
** installing vignettes
** testing if installed package can be loaded from temporary location
** testing if installed package can be loaded from final location
** testing if installed package keeps a record of temporary installation path
* DONE (INSPEcT)

Tests output


Example timings

INSPEcT.Rcheck/INSPEcT-Ex.timings

nameusersystemelapsed
AIC-INSPEcT-method0.3830.0160.561
Extract0.8060.0351.179
INSPEcT_diffsteady-class 70.041 0.489100.770
calculateRatePvals0.5100.0140.717
chisqmodel0.3820.0120.558
chisqtest0.3790.0140.539
combine0.7610.0071.061
compareSteady63.176 0.19888.345
compareSteadyNoNascent14.008 0.07119.916
convergence0.3780.0110.539
geneClass0.4880.0120.698
inHeatmap0.4450.0130.626
inspectFromPCR 8.925 0.04013.522
labeledSF0.3820.0100.536
logLik0.3820.0130.561
makeModelRates0.4940.0160.701
makeOscillatorySimModel17.131 0.08923.331
makeSimDataset212.552 0.711290.805
makeSimModel72.566 0.23195.646
modelRates41.437 0.11554.775
modelRatesNF3.3000.0274.368
modelSelection0.3800.0130.510
modelingParams0.3840.0120.510
nGenes0.3750.0040.505
nTpts0.3790.0040.523
newINSPEcT40.303 0.12453.441
plotGene0.4660.0120.665
plotMA62.437 0.18183.404
processingDelay33.854 0.09345.907
quantifyExpressionsFromBAMs68.338 4.96097.437
quantifyExpressionsFromTrCounts35.050 0.12346.861
ratePvals0.3780.0030.519
ratesFirstGuess0.3790.0060.532
ratesFirstGuessVar0.3740.0050.518
removeModel0.5950.0050.852
rocCurve72.393 0.22398.703
rocThresholds73.591 0.24598.644
split0.5800.0040.796
tpts0.3780.0030.505
viewConfidenceIntervals0.3780.0050.506
viewModelRates0.3770.0050.541