Back to Multiple platform build/check report for BioC 3.17:   simplified   long
ABC[D]EFGHIJKLMNOPQRSTUVWXYZ

This page was generated on 2023-03-21 11:05:13 -0400 (Tue, 21 Mar 2023).

HostnameOSArch (*)R versionInstalled pkgs
nebbiolo1Linux (Ubuntu 22.04.1 LTS)x86_64R Under development (unstable) (2023-03-16 r83996) -- "Unsuffered Consequences" 4305
palomino3Windows Server 2022 Datacenterx64R Under development (unstable) (2023-03-15 r83984 ucrt) -- "Unsuffered Consequences" 4287
merida1macOS 10.14.6 Mojavex86_64R Under development (unstable) (2023-03-16 r83985) -- "Unsuffered Consequences" 4286
Click on any hostname to see more info about the system (e.g. compilers)      (*) as reported by 'uname -p', except on Windows and Mac OS X

INSTALL results for Doscheda on nebbiolo1


To the developers/maintainers of the Doscheda package:
- Please allow up to 24 hours (and sometimes 48 hours) for your latest push to git@git.bioconductor.org:packages/Doscheda.git to
reflect on this report. See How and When does the builder pull? When will my changes propagate? for more information.
- Make sure to use the following settings in order to reproduce any error or warning you see on this page.

raw results

Package 572/2189HostnameOS / ArchINSTALLBUILDCHECKBUILD BIN
Doscheda 1.21.0  (landing page)
Bruno Contrino
Snapshot Date: 2023-03-20 14:00:22 -0400 (Mon, 20 Mar 2023)
git_url: https://git.bioconductor.org/packages/Doscheda
git_branch: master
git_last_commit: d0929e1
git_last_commit_date: 2022-11-01 11:16:11 -0400 (Tue, 01 Nov 2022)
nebbiolo1Linux (Ubuntu 22.04.1 LTS) / x86_64  OK    OK    OK  UNNEEDED, same version is already published
palomino3Windows Server 2022 Datacenter / x64  OK    OK    OK    OK  UNNEEDED, same version is already published
merida1macOS 10.14.6 Mojave / x86_64  OK    OK    OK    OK  UNNEEDED, same version is already published

Summary

Package: Doscheda
Version: 1.21.0
Command: /home/biocbuild/bbs-3.17-bioc/R/bin/R CMD INSTALL Doscheda
StartedAt: 2023-03-20 15:40:48 -0400 (Mon, 20 Mar 2023)
EndedAt: 2023-03-20 15:41:02 -0400 (Mon, 20 Mar 2023)
EllapsedTime: 14.1 seconds
RetCode: 0
Status:   OK  

Command output

##############################################################################
##############################################################################
###
### Running command:
###
###   /home/biocbuild/bbs-3.17-bioc/R/bin/R CMD INSTALL Doscheda
###
##############################################################################
##############################################################################


* installing to library ‘/home/biocbuild/bbs-3.17-bioc/R/site-library’
* installing *source* package ‘Doscheda’ ...
** using staged installation
** R
** data
*** moving datasets to lazyload DB
** inst
** byte-compile and prepare package for lazy loading
in method for ‘getInput’ with signature ‘"ChemoProtSet"’: no definition for class “ChemoProtSet”
in method for ‘getNorm’ with signature ‘"ChemoProtSet"’: no definition for class “ChemoProtSet”
in method for ‘getFinal’ with signature ‘"ChemoProtSet"’: no definition for class “ChemoProtSet”
in method for ‘getParameters’ with signature ‘"ChemoProtSet"’: no definition for class “ChemoProtSet”
in method for ‘getDatasets’ with signature ‘"ChemoProtSet"’: no definition for class “ChemoProtSet”
in method for ‘boxplot’ with signature ‘"ChemoProtSet"’: no definition for class “ChemoProtSet”
in method for ‘corrPlot’ with signature ‘"ChemoProtSet"’: no definition for class “ChemoProtSet”
in method for ‘densityPlot’ with signature ‘"ChemoProtSet"’: no definition for class “ChemoProtSet”
Creating a new generic function for ‘meanSdPlot’ in package ‘Doscheda’
** help
*** installing help indices
** building package indices
** installing vignettes
** testing if installed package can be loaded from temporary location
** testing if installed package can be loaded from final location
** testing if installed package keeps a record of temporary installation path
* DONE (Doscheda)