Back to Multiple platform build/check report for BioC 3.17:   simplified   long
ABCDEFGHIJKLMNOPQR[S]TUVWXYZ

This page was generated on 2023-06-05 11:05:50 -0400 (Mon, 05 Jun 2023).

HostnameOSArch (*)R versionInstalled pkgs
nebbiolo1Linux (Ubuntu 22.04.2 LTS)x86_644.3.0 RC (2023-04-13 r84269) -- "Already Tomorrow" 4623
palomino3Windows Server 2022 Datacenterx644.3.0 RC (2023-04-13 r84269 ucrt) -- "Already Tomorrow" 4374
merida1macOS 12.6.4 Montereyx86_644.3.0 RC (2023-04-13 r84257) -- "Already Tomorrow" 4332
Click on any hostname to see more info about the system (e.g. compilers)      (*) as reported by 'uname -p', except on Windows and Mac OS X

CHECK results for SpliceWiz on merida1


To the developers/maintainers of the SpliceWiz package:
- Allow up to 24 hours (and sometimes 48 hours) for your latest push to git@git.bioconductor.org:packages/SpliceWiz.git to reflect on this report. See Troubleshooting Build Report for more information.

- Use the following Renviron settings to reproduce errors and warnings.

Note: If "R CMD check" recently failed on the Linux builder over a missing dependency, add the missing dependency to "Suggests" in your DESCRIPTION file. See the Renviron.bioc for details.

raw results

Package 1992/2229HostnameOS / ArchINSTALLBUILDCHECKBUILD BIN
SpliceWiz 1.2.1  (landing page)
Alex Chit Hei Wong
Snapshot Date: 2023-06-04 14:00:14 -0400 (Sun, 04 Jun 2023)
git_url: https://git.bioconductor.org/packages/SpliceWiz
git_branch: RELEASE_3_17
git_last_commit: d3a2512
git_last_commit_date: 2023-05-20 02:32:04 -0400 (Sat, 20 May 2023)
nebbiolo1Linux (Ubuntu 22.04.2 LTS) / x86_64  OK    OK    OK  UNNEEDED, same version is already published
palomino3Windows Server 2022 Datacenter / x64  OK    OK    OK    OK  UNNEEDED, same version is already published
merida1macOS 12.6.4 Monterey / x86_64  OK    OK    TIMEOUT    NA  

Summary

Package: SpliceWiz
Version: 1.2.1
Command: /Library/Frameworks/R.framework/Resources/bin/R CMD check --install=check:SpliceWiz.install-out.txt --library=/Library/Frameworks/R.framework/Resources/library --no-vignettes --timings SpliceWiz_1.2.1.tar.gz
StartedAt: 2023-06-05 08:51:50 -0400 (Mon, 05 Jun 2023)
EndedAt: 2023-06-05 09:31:51 -0400 (Mon, 05 Jun 2023)
EllapsedTime: 2400.5 seconds
RetCode: None
Status:   TIMEOUT  
CheckDir: SpliceWiz.Rcheck
Warnings: NA

Command output

##############################################################################
##############################################################################
###
### Running command:
###
###   /Library/Frameworks/R.framework/Resources/bin/R CMD check --install=check:SpliceWiz.install-out.txt --library=/Library/Frameworks/R.framework/Resources/library --no-vignettes --timings SpliceWiz_1.2.1.tar.gz
###
##############################################################################
##############################################################################


* using log directory ‘/Users/biocbuild/bbs-3.17-bioc/meat/SpliceWiz.Rcheck’
* using R version 4.3.0 RC (2023-04-13 r84257)
* using platform: x86_64-apple-darwin20 (64-bit)
* R was compiled by
    Apple clang version 14.0.3 (clang-1403.0.22.14.1)
    GNU Fortran (GCC) 12.2.0
* running under: macOS Monterey 12.6.4
* using session charset: UTF-8
* using option ‘--no-vignettes’
* checking for file ‘SpliceWiz/DESCRIPTION’ ... OK
* this is package ‘SpliceWiz’ version ‘1.2.1’
* package encoding: UTF-8
* checking package namespace information ... OK
* checking package dependencies ... OK
* checking if this is a source package ... OK
* checking if there is a namespace ... OK
* checking for hidden files and directories ... OK
* checking for portable file names ... OK
* checking for sufficient/correct file permissions ... OK
* checking whether package ‘SpliceWiz’ can be installed ... OK
* used C++ compiler: ‘Apple clang version 14.0.0 (clang-1400.0.29.202)’
* used SDK: ‘MacOSX11.3.sdk’
* checking C++ specification ... NOTE
  Specified C++11: please drop specification unless essential
* checking installed package size ... OK
* checking package directory ... OK
* checking ‘build’ directory ... OK
* checking DESCRIPTION meta-information ... OK
* checking top-level files ... OK
* checking for left-over files ... OK
* checking index information ... OK
* checking package subdirectories ... OK
* checking R files for non-ASCII characters ... OK
* checking R files for syntax errors ... OK
* checking whether the package can be loaded ... OK
* checking whether the package can be loaded with stated dependencies ... OK
* checking whether the package can be unloaded cleanly ... OK
* checking whether the namespace can be loaded with stated dependencies ... OK
* checking whether the namespace can be unloaded cleanly ... OK
* checking startup messages can be suppressed ... OK
* checking dependencies in R code ... OK
* checking S3 generic/method consistency ... OK
* checking replacement functions ... OK
* checking foreign function calls ... OK
* checking R code for possible problems ... OK
* checking Rd files ... OK
* checking Rd metadata ... OK
* checking Rd cross-references ... OK
* checking for missing documentation entries ... OK
* checking for code/documentation mismatches ... OK
* checking Rd \usage sections ... OK
* checking Rd contents ... OK
* checking for unstated dependencies in examples ... OK
* checking line endings in shell scripts ... OK
* checking line endings in C/C++/Fortran sources/headers ... OK
* checking line endings in Makefiles ... OK
* checking compilation flags in Makevars ... OK
* checking for GNU extensions in Makefiles ... OK
* checking for portable use of $(BLAS_LIBS) and $(LAPACK_LIBS) ... OK
* checking use of PKG_*FLAGS in Makefiles ... OK
* checking compiled code ... NOTE
Note: information on .o files is not available
* checking files in ‘vignettes’ ... OK
* checking examples ... OK
Examples with CPU (user + system) or elapsed time > 5s
                           user system elapsed
Build-Reference-methods 125.852  4.864 186.108
NxtSE-class              66.707  2.437  95.199
ASE-methods              46.991  1.115  64.794
covPlotObject-class      37.309  1.005  53.106
plotCoverage             29.476  0.659  42.515
Run_SpliceWiz_Filters     8.460  0.133  11.884
processBAM                6.028  1.362   6.176
ASE-GLM-edgeR             6.130  0.279   8.565
* checking for unstated dependencies in ‘tests’ ... OK
* checking tests ...
  Running ‘testthat.R’

Installation output

SpliceWiz.Rcheck/00install.out

##############################################################################
##############################################################################
###
### Running command:
###
###   /Library/Frameworks/R.framework/Resources/bin/R CMD INSTALL SpliceWiz
###
##############################################################################
##############################################################################


* installing to library ‘/Library/Frameworks/R.framework/Versions/4.3-x86_64/Resources/library’
* installing *source* package ‘SpliceWiz’ ...
** using staged installation
Configuring without OpenMP for MacOS
** libs
using C++ compiler: ‘Apple clang version 14.0.0 (clang-1400.0.29.202)’
using C++11
using SDK: ‘MacOSX11.3.sdk’
clang++ -arch x86_64 -std=gnu++11 -I"/Library/Frameworks/R.framework/Resources/include" -DNDEBUG  -I'/Library/Frameworks/R.framework/Versions/4.3-x86_64/Resources/library/ompBAM/include' -I'/Library/Frameworks/R.framework/Versions/4.3-x86_64/Resources/library/Rcpp/include' -I'/Library/Frameworks/R.framework/Versions/4.3-x86_64/Resources/library/zlibbioc/include' -I'/Library/Frameworks/R.framework/Versions/4.3-x86_64/Resources/library/RcppProgress/include' -I/opt/R/x86_64/include    -DSPLICEWIZ -fPIC  -falign-functions=64 -Wall -g -O2  -c BAM2blocks.cpp -o BAM2blocks.o
clang++ -arch x86_64 -std=gnu++11 -I"/Library/Frameworks/R.framework/Resources/include" -DNDEBUG  -I'/Library/Frameworks/R.framework/Versions/4.3-x86_64/Resources/library/ompBAM/include' -I'/Library/Frameworks/R.framework/Versions/4.3-x86_64/Resources/library/Rcpp/include' -I'/Library/Frameworks/R.framework/Versions/4.3-x86_64/Resources/library/zlibbioc/include' -I'/Library/Frameworks/R.framework/Versions/4.3-x86_64/Resources/library/RcppProgress/include' -I/opt/R/x86_64/include    -DSPLICEWIZ -fPIC  -falign-functions=64 -Wall -g -O2  -c FastaReader.cpp -o FastaReader.o
clang++ -arch x86_64 -std=gnu++11 -I"/Library/Frameworks/R.framework/Resources/include" -DNDEBUG  -I'/Library/Frameworks/R.framework/Versions/4.3-x86_64/Resources/library/ompBAM/include' -I'/Library/Frameworks/R.framework/Versions/4.3-x86_64/Resources/library/Rcpp/include' -I'/Library/Frameworks/R.framework/Versions/4.3-x86_64/Resources/library/zlibbioc/include' -I'/Library/Frameworks/R.framework/Versions/4.3-x86_64/Resources/library/RcppProgress/include' -I/opt/R/x86_64/include    -DSPLICEWIZ -fPIC  -falign-functions=64 -Wall -g -O2  -c FragmentBlocks.cpp -o FragmentBlocks.o
clang++ -arch x86_64 -std=gnu++11 -I"/Library/Frameworks/R.framework/Resources/include" -DNDEBUG  -I'/Library/Frameworks/R.framework/Versions/4.3-x86_64/Resources/library/ompBAM/include' -I'/Library/Frameworks/R.framework/Versions/4.3-x86_64/Resources/library/Rcpp/include' -I'/Library/Frameworks/R.framework/Versions/4.3-x86_64/Resources/library/zlibbioc/include' -I'/Library/Frameworks/R.framework/Versions/4.3-x86_64/Resources/library/RcppProgress/include' -I/opt/R/x86_64/include    -DSPLICEWIZ -fPIC  -falign-functions=64 -Wall -g -O2  -c GZTools.cpp -o GZTools.o
clang++ -arch x86_64 -std=gnu++11 -I"/Library/Frameworks/R.framework/Resources/include" -DNDEBUG  -I'/Library/Frameworks/R.framework/Versions/4.3-x86_64/Resources/library/ompBAM/include' -I'/Library/Frameworks/R.framework/Versions/4.3-x86_64/Resources/library/Rcpp/include' -I'/Library/Frameworks/R.framework/Versions/4.3-x86_64/Resources/library/zlibbioc/include' -I'/Library/Frameworks/R.framework/Versions/4.3-x86_64/Resources/library/RcppProgress/include' -I/opt/R/x86_64/include    -DSPLICEWIZ -fPIC  -falign-functions=64 -Wall -g -O2  -c RcppExports.cpp -o RcppExports.o
clang++ -arch x86_64 -std=gnu++11 -I"/Library/Frameworks/R.framework/Resources/include" -DNDEBUG  -I'/Library/Frameworks/R.framework/Versions/4.3-x86_64/Resources/library/ompBAM/include' -I'/Library/Frameworks/R.framework/Versions/4.3-x86_64/Resources/library/Rcpp/include' -I'/Library/Frameworks/R.framework/Versions/4.3-x86_64/Resources/library/zlibbioc/include' -I'/Library/Frameworks/R.framework/Versions/4.3-x86_64/Resources/library/RcppProgress/include' -I/opt/R/x86_64/include    -DSPLICEWIZ -fPIC  -falign-functions=64 -Wall -g -O2  -c ReadBlockProcessor.cpp -o ReadBlockProcessor.o
clang++ -arch x86_64 -std=gnu++11 -I"/Library/Frameworks/R.framework/Resources/include" -DNDEBUG  -I'/Library/Frameworks/R.framework/Versions/4.3-x86_64/Resources/library/ompBAM/include' -I'/Library/Frameworks/R.framework/Versions/4.3-x86_64/Resources/library/Rcpp/include' -I'/Library/Frameworks/R.framework/Versions/4.3-x86_64/Resources/library/zlibbioc/include' -I'/Library/Frameworks/R.framework/Versions/4.3-x86_64/Resources/library/RcppProgress/include' -I/opt/R/x86_64/include    -DSPLICEWIZ -fPIC  -falign-functions=64 -Wall -g -O2  -c ReadBlockProcessor_CoverageBlocks.cpp -o ReadBlockProcessor_CoverageBlocks.o
ReadBlockProcessor_CoverageBlocks.cpp:251:16: warning: variable 'len' set but not used [-Wunused-but-set-variable]
                unsigned int len=0;
                             ^
1 warning generated.
clang++ -arch x86_64 -std=gnu++11 -I"/Library/Frameworks/R.framework/Resources/include" -DNDEBUG  -I'/Library/Frameworks/R.framework/Versions/4.3-x86_64/Resources/library/ompBAM/include' -I'/Library/Frameworks/R.framework/Versions/4.3-x86_64/Resources/library/Rcpp/include' -I'/Library/Frameworks/R.framework/Versions/4.3-x86_64/Resources/library/zlibbioc/include' -I'/Library/Frameworks/R.framework/Versions/4.3-x86_64/Resources/library/RcppProgress/include' -I/opt/R/x86_64/include    -DSPLICEWIZ -fPIC  -falign-functions=64 -Wall -g -O2  -c ReadBlockProcessor_FragmentsMap.cpp -o ReadBlockProcessor_FragmentsMap.o
clang++ -arch x86_64 -std=gnu++11 -I"/Library/Frameworks/R.framework/Resources/include" -DNDEBUG  -I'/Library/Frameworks/R.framework/Versions/4.3-x86_64/Resources/library/ompBAM/include' -I'/Library/Frameworks/R.framework/Versions/4.3-x86_64/Resources/library/Rcpp/include' -I'/Library/Frameworks/R.framework/Versions/4.3-x86_64/Resources/library/zlibbioc/include' -I'/Library/Frameworks/R.framework/Versions/4.3-x86_64/Resources/library/RcppProgress/include' -I/opt/R/x86_64/include    -DSPLICEWIZ -fPIC  -falign-functions=64 -Wall -g -O2  -c ReadBlockProcessor_TandemJunctions.cpp -o ReadBlockProcessor_TandemJunctions.o
clang++ -arch x86_64 -std=gnu++11 -I"/Library/Frameworks/R.framework/Resources/include" -DNDEBUG  -I'/Library/Frameworks/R.framework/Versions/4.3-x86_64/Resources/library/ompBAM/include' -I'/Library/Frameworks/R.framework/Versions/4.3-x86_64/Resources/library/Rcpp/include' -I'/Library/Frameworks/R.framework/Versions/4.3-x86_64/Resources/library/zlibbioc/include' -I'/Library/Frameworks/R.framework/Versions/4.3-x86_64/Resources/library/RcppProgress/include' -I/opt/R/x86_64/include    -DSPLICEWIZ -fPIC  -falign-functions=64 -Wall -g -O2  -c covTools.cpp -o covTools.o
clang++ -arch x86_64 -std=gnu++11 -I"/Library/Frameworks/R.framework/Resources/include" -DNDEBUG  -I'/Library/Frameworks/R.framework/Versions/4.3-x86_64/Resources/library/ompBAM/include' -I'/Library/Frameworks/R.framework/Versions/4.3-x86_64/Resources/library/Rcpp/include' -I'/Library/Frameworks/R.framework/Versions/4.3-x86_64/Resources/library/zlibbioc/include' -I'/Library/Frameworks/R.framework/Versions/4.3-x86_64/Resources/library/RcppProgress/include' -I/opt/R/x86_64/include    -DSPLICEWIZ -fPIC  -falign-functions=64 -Wall -g -O2  -c main.cpp -o main.o
clang++ -arch x86_64 -std=gnu++11 -I"/Library/Frameworks/R.framework/Resources/include" -DNDEBUG  -I'/Library/Frameworks/R.framework/Versions/4.3-x86_64/Resources/library/ompBAM/include' -I'/Library/Frameworks/R.framework/Versions/4.3-x86_64/Resources/library/Rcpp/include' -I'/Library/Frameworks/R.framework/Versions/4.3-x86_64/Resources/library/zlibbioc/include' -I'/Library/Frameworks/R.framework/Versions/4.3-x86_64/Resources/library/RcppProgress/include' -I/opt/R/x86_64/include    -DSPLICEWIZ -fPIC  -falign-functions=64 -Wall -g -O2  -c swEngine.cpp -o swEngine.o
clang++ -arch x86_64 -std=gnu++11 -I"/Library/Frameworks/R.framework/Resources/include" -DNDEBUG  -I'/Library/Frameworks/R.framework/Versions/4.3-x86_64/Resources/library/ompBAM/include' -I'/Library/Frameworks/R.framework/Versions/4.3-x86_64/Resources/library/Rcpp/include' -I'/Library/Frameworks/R.framework/Versions/4.3-x86_64/Resources/library/zlibbioc/include' -I'/Library/Frameworks/R.framework/Versions/4.3-x86_64/Resources/library/RcppProgress/include' -I/opt/R/x86_64/include    -DSPLICEWIZ -fPIC  -falign-functions=64 -Wall -g -O2  -c synthReadGenerator.cpp -o synthReadGenerator.o
clang++ -arch x86_64 -std=gnu++11 -dynamiclib -Wl,-headerpad_max_install_names -undefined dynamic_lookup -single_module -multiply_defined suppress -L/Library/Frameworks/R.framework/Resources/lib -L/opt/R/x86_64/lib -o SpliceWiz.so BAM2blocks.o FastaReader.o FragmentBlocks.o GZTools.o RcppExports.o ReadBlockProcessor.o ReadBlockProcessor_CoverageBlocks.o ReadBlockProcessor_FragmentsMap.o ReadBlockProcessor_TandemJunctions.o covTools.o main.o swEngine.o synthReadGenerator.o -DSPLICEWIZ -F/Library/Frameworks/R.framework/.. -framework R -Wl,-framework -Wl,CoreFoundation
installing to /Library/Frameworks/R.framework/Versions/4.3-x86_64/Resources/library/00LOCK-SpliceWiz/00new/SpliceWiz/libs
** R
** inst
** byte-compile and prepare package for lazy loading
** help
*** installing help indices
** building package indices
** installing vignettes
** testing if installed package can be loaded from temporary location
** checking absolute paths in shared objects and dynamic libraries
** testing if installed package can be loaded from final location
** testing if installed package keeps a record of temporary installation path
* DONE (SpliceWiz)

Tests output

SpliceWiz.Rcheck/tests/testthat.Rout


R version 4.3.0 RC (2023-04-13 r84257) -- "Already Tomorrow"
Copyright (C) 2023 The R Foundation for Statistical Computing
Platform: x86_64-apple-darwin20 (64-bit)

R is free software and comes with ABSOLUTELY NO WARRANTY.
You are welcome to redistribute it under certain conditions.
Type 'license()' or 'licence()' for distribution details.

R is a collaborative project with many contributors.
Type 'contributors()' for more information and
'citation()' on how to cite R or R packages in publications.

Type 'demo()' for some demos, 'help()' for on-line help, or
'help.start()' for an HTML browser interface to help.
Type 'q()' to quit R.

> library(testthat)
> library(SpliceWiz)
Loading required package: NxtIRFdata
SpliceWiz package loaded with 1 threads
Use setSWthreads() to set the number of SpliceWiz threads
> 
> test_check("SpliceWiz")
Loading required package: Rsubread
Jun 05 09:15:08 Converting FASTA to local TwoBitFile...done
Jun 05 09:15:10 Connecting to genome TwoBitFile...done
Jun 05 09:15:10 Making local copy of GTF file...done
Jun 05 09:15:10 Extracting temp genome FASTA from TwoBit file
Jun 05 09:15:12 Generating synthetic reads, saving to /private/tmp/RtmpwpMdC1/refWithMapExcl/Mappability/Reads.fa
0%   10   20   30   40   50   60   70   80   90   100%
[----|----|----|----|----|----|----|----|----|----|
**************************************************|
10145 synthetic reads generated
Jun 05 09:15:12 Cleaning temp genome / gene annotation files

        ==========     _____ _    _ ____  _____  ______          _____  
        =====         / ____| |  | |  _ \|  __ \|  ____|   /\   |  __ \ 
          =====      | (___ | |  | | |_) | |__) | |__     /  \  | |  | |
            ====      \___ \| |  | |  _ <|  _  /|  __|   / /\ \ | |  | |
              ====    ____) | |__| | |_) | | \ \| |____ / ____ \| |__| |
        ==========   |_____/ \____/|____/|_|  \_\______/_/    \_\_____/
       Rsubread 2.14.2

//================================= setting ==================================\\
||                                                                            ||
||                Index name : reference_index                                ||
||               Index space : base space                                     ||
||               Index split : no-split                                       ||
||          Repeat threshold : 100 repeats                                    ||
||              Gapped index : no                                             ||
||                                                                            ||
||       Free / total memory : 32.9GB / 64.0GB                                ||
||                                                                            ||
||               Input files : 1 file in total                                ||
||                             o genome.fa                                    ||
||                                                                            ||
\\============================================================================//

//================================= Running ==================================\\
||                                                                            ||
|| Check the integrity of provided reference sequences ...                    ||
|| No format issues were found                                                ||
|| Scan uninformative subreads in reference sequences ...                     ||
|| Estimate the index size...                                                 ||
||    8%,   0 mins elapsed, rate=18.1k bps/s                                  ||
||   16%,   0 mins elapsed, rate=35.9k bps/s                                  ||
||   24%,   0 mins elapsed, rate=53.3k bps/s                                  ||
||   33%,   0 mins elapsed, rate=70.1k bps/s                                  ||
||   41%,   0 mins elapsed, rate=87.0k bps/s                                  ||
||   49%,   0 mins elapsed, rate=102.9k bps/s                                 ||
||   58%,   0 mins elapsed, rate=119.2k bps/s                                 ||
||   66%,   0 mins elapsed, rate=135.3k bps/s                                 ||
||   74%,   0 mins elapsed, rate=150.3k bps/s                                 ||
||   83%,   0 mins elapsed, rate=165.9k bps/s                                 ||
||   91%,   0 mins elapsed, rate=181.4k bps/s                                 ||
|| 3.0 GB of memory is needed for index building.                             ||
|| Build the index...                                                         ||
||    8%,   0 mins elapsed, rate=2.1k bps/s                                   ||
||   16%,   0 mins elapsed, rate=4.1k bps/s                                   ||
||   24%,   0 mins elapsed, rate=6.2k bps/s                                   ||
||   33%,   0 mins elapsed, rate=8.2k bps/s                                   ||
||   41%,   0 mins elapsed, rate=10.2k bps/s                                  ||
||   49%,   0 mins elapsed, rate=12.2k bps/s                                  ||
||   58%,   0 mins elapsed, rate=14.3k bps/s                                  ||
||   66%,   0 mins elapsed, rate=16.3k bps/s                                  ||
||   74%,   0 mins elapsed, rate=18.3k bps/s                                  ||
||   83%,   0 mins elapsed, rate=20.3k bps/s                                  ||
||   91%,   0 mins elapsed, rate=22.3k bps/s                                  ||
|| Save current index block...                                                ||
||  [ 0.0% finished ]                                                         ||
||  [ 10.0% finished ]                                                        ||
||  [ 20.0% finished ]                                                        ||
||  [ 30.0% finished ]                                                        ||
||  [ 40.0% finished ]                                                        ||
||  [ 50.0% finished ]                                                        ||
||  [ 60.0% finished ]                                                        ||
||  [ 70.0% finished ]                                                        ||
||  [ 80.0% finished ]                                                        ||
||  [ 90.0% finished ]                                                        ||
||  [ 100.0% finished ]                                                       ||
||                                                                            ||
||                      Total running time: 0.8 minutes.                      ||
||              Index ./reference_index was successfully built.               ||
||                                                                            ||
\\============================================================================//


        ==========     _____ _    _ ____  _____  ______          _____  
        =====         / ____| |  | |  _ \|  __ \|  ____|   /\   |  __ \ 
          =====      | (___ | |  | | |_) | |__) | |__     /  \  | |  | |
            ====      \___ \| |  | |  _ <|  _  /|  __|   / /\ \ | |  | |
              ====    ____) | |__| | |_) | | \ \| |____ / ____ \| |__| |
        ==========   |_____/ \____/|____/|_|  \_\______/_/    \_\_____/
       Rsubread 2.14.2

//================================= setting ==================================\\
||                                                                            ||
|| Function      : Read alignment + Junction detection (RNA-Seq)              ||
|| Input file    : Reads.fa                                                   ||
|| Output file   : AlignedReads.bam (BAM)                                     ||
|| Index name    : reference_index                                            ||
||                                                                            ||
||                    ------------------------------------                    ||
||                                                                            ||
||                               Threads : 1                                  ||
||                          Phred offset : 33                                 ||
||                             Min votes : 1 / 14                             ||
||                        Max mismatches : 3                                  ||
||                      Max indel length : 5                                  ||
||            Report multi-mapping reads : yes                                ||
|| Max alignments per multi-mapping read : 1                                  ||
||                           Annotations : transcripts.gtf (GTF)              ||
||                                                                            ||
\\============================================================================//

//================ Running (05-Jun-2023 09:16:01, pid=86447) =================\\
||                                                                            ||
|| Check the input reads.                                                     ||
|| The input file contains base space reads.                                  ||
|| Initialise the memory objects.                                             ||
|| Estimate the mean read length.                                             ||
|| Create the output BAM file.                                                ||
|| Check the index.                                                           ||
|| Init the voting space.                                                     ||
|| Load the annotation file.                                                  ||
|| 538 annotation records were loaded.                                        ||
|| Global environment is initialised.                                         ||
|| Load the 1-th index block...                                               ||
|| The index block has been loaded.                                           ||
|| Start read mapping in chunk.                                               ||
||   65% completed,  12 mins elapsed, rate=13.7k reads per second             ||
||   83% completed,  12 mins elapsed, rate=0.0k reads per second              ||
||   99% completed,  12 mins elapsed, rate=0.0k reads per second              ||
||                                                                            ||
||                           Completed successfully.                          ||
||                                                                            ||
\\====================================    ====================================//

//================================   Summary =================================\\
||                                                                            ||
||                 Total reads : 10,145                                       ||
||                      Mapped : 10,145 (100.0%)                              ||
||             Uniquely mapped : 10,145                                       ||
||               Multi-mapping : 0                                            ||
||                                                                            ||
||                    Unmapped : 0                                            ||
||                                                                            ||
||                   Junctions : 0                                            ||
||                      Indels : 1                                            ||
||                                                                            ||
||                Running time : 12.4 minutes                                 ||
||                                                                            ||
\\============================================================================//

Jun 05 09:28:27 Calculating Mappability Exclusion regions from: /tmp/RtmpwpMdC1/refWithMapExcl/Mappability/AlignedReads.bam
Calculating Mappability Exclusions: /private/tmp/RtmpwpMdC1/refWithMapExcl/Mappability/AlignedReads.bam
0%   10   20   30   40   50   60   70   80   90   100%
[----|----|----|----|----|----|----|----|----|----|
**************************************************|
Performing final sort of fragment maps
Writing Mappability Exclusions
**************************************************|
0%   10   20   30   40   50   60   70   80   90   100%
[----|----|----|----|----|----|----|----|----|----|
**************************************************|
SpliceWiz was compiled without OpenMP
Jun 05 09:28:36 Reference generated without non-polyA reference
Jun 05 09:28:36 Reference generated without Mappability reference
Jun 05 09:28:36 Reference generated without Blacklist exclusion
Jun 05 09:28:36 Converting FASTA to local TwoBitFile...done
Jun 05 09:28:38 Connecting to genome TwoBitFile...done
Jun 05 09:28:38 Making local copy of GTF file...done
Jun 05 09:28:38 Reading source GTF file...done
Jun 05 09:28:39 Processing gtf file...
...genes
...transcripts
...CDS
...exons
done
Jun 05 09:28:43 Gene ontology not prepared for this reference
Jun 05 09:28:46 Processing introns...
...data
...basic annotations
...splice motifs
...other info
...defining flanking exon clusters
done
Jun 05 09:28:54 Generating processBAM reference
...prepping data
...determining measurable introns (directional)
...determining measurable introns (non-directional)
...writing ref-cover.bed
...writing ref-ROI.bed
...writing ref-read-continues.ref
...writing ref-sj.ref
...writing ref-tj.ref
processBAM reference generated
Jun 05 09:29:09 Predicting NMD transcripts from genome sequence
...exonic transcripts
...retained introns

  |                                                                            
  |                                                                      |   0%
  |                                                                            
  |======================================================================| 100%
done
Jun 05 09:29:13 Annotating Splice Events
Annotating Mutually-Exclusive-Exon Splice Events...done
Annotating Skipped-Exon Splice Events...done
Annotating Alternate 5' / 3' Splice Site Splice Events...done
Annotating Alternate First / Last Exon Splice Events...done
Annotating known retained introns...done
Jun 05 09:29:15 Splice Annotations Filtered
Jun 05 09:29:17 Translating Alternate Splice Peptides...done
Jun 05 09:29:17 Splice Annotations finished

Reference build finished
Jun 05 09:29:19 Running SpliceWiz processBAM
Jun 05 09:29:21 Using MulticoreParam 1 threads
Reading reference file
Allocating memory to 1 threads for SpliceWiz (ompBAM)...initialized (1 milliseconds)
Processing BAM file /private/tmp/RtmpwpMdC1/02H003.bam
0%   10   20   30   40   50   60   70   80   90   100%
[----|----|----|----|----|----|----|----|----|----|
**************************************************|
Performing final sort of fragment maps
Writing COV file
**************************************************|
0%   10   20   30   40   50   60   70   80   90   100%
[----|----|----|----|----|----|----|----|----|----|
**************************************************|
Writing output file
/private/tmp/RtmpwpMdC1/02H003.bam processed (1013 milliseconds)
Jun 05 09:29:22 SpliceWiz processBAM processed RtmpwpMdC1/02H003.bam
Jun 05 09:29:22 Running SpliceWiz processBAM
Jun 05 09:29:23 Using MulticoreParam 1 threads
Reading reference file
Allocating memory to 1 threads for SpliceWiz (ompBAM)...initialized (1 milliseconds)
Processing BAM file /private/tmp/RtmpwpMdC1/02H003.bam
0%   10   20   30   40   50   60   70   80   90   100%
[----|----|----|----|----|----|----|----|----|----|
**************************************************|
Performing final sort of fragment maps
Writing COV file
**************************************************|
0%   10   20   30   40   50   60   70   80   90   100%
[----|----|----|----|----|----|----|----|----|----|
**************************************************|
Writing output file
/private/tmp/RtmpwpMdC1/02H003.bam processed (984 milliseconds)
Jun 05 09:29:24 SpliceWiz processBAM processed RtmpwpMdC1/02H003.bam
Jun 05 09:29:24 SpliceWiz reference already exists in given directory
Jun 05 09:29:24 Running SpliceWiz processBAM
Jun 05 09:29:26 Using MulticoreParam 1 threads
Allocating memory to 1 threads for SpliceWiz (ompBAM)...initialized (1 milliseconds)
/private/tmp/RtmpwpMdC1/02H003.bam processed (964 milliseconds)
Jun 05 09:29:27 SpliceWiz processBAM processed RtmpwpMdC1/02H003.bam
Allocating memory to 1 threads for SpliceWiz (ompBAM)...initialized (1 milliseconds)
/private/tmp/RtmpwpMdC1/02H025.bam processed (816 milliseconds)
Jun 05 09:29:28 SpliceWiz processBAM processed RtmpwpMdC1/02H025.bam
Allocating memory to 1 threads for SpliceWiz (ompBAM)...initialized (1 milliseconds)
/private/tmp/RtmpwpMdC1/02H026.bam processed (1232 milliseconds)
Jun 05 09:29:29 SpliceWiz processBAM processed RtmpwpMdC1/02H026.bam
Allocating memory to 1 threads for SpliceWiz (ompBAM)...initialized (1 milliseconds)
/private/tmp/RtmpwpMdC1/02H033.bam processed (1217 milliseconds)
Jun 05 09:29:30 SpliceWiz processBAM processed RtmpwpMdC1/02H033.bam
Allocating memory to 1 threads for SpliceWiz (ompBAM)...initialized (1 milliseconds)
/private/tmp/RtmpwpMdC1/02H043.bam processed (794 milliseconds)
Jun 05 09:29:31 SpliceWiz processBAM processed RtmpwpMdC1/02H043.bam
Allocating memory to 1 threads for SpliceWiz (ompBAM)...initialized (1 milliseconds)
/private/tmp/RtmpwpMdC1/02H046.bam processed (1142 milliseconds)
Jun 05 09:29:32 SpliceWiz processBAM processed RtmpwpMdC1/02H046.bam
Jun 05 09:29:34 Using MulticoreParam 1 threads
Jun 05 09:29:34 Validating Experiment; checking COV files...
Jun 05 09:29:34 Compiling Sample Stats
Jun 05 09:29:34 Compiling Junction List...merging...done
Jun 05 09:29:36 Compiling Junction Stats...merging...done
Jun 05 09:29:47 Compiling Intron Retention List...done
Jun 05 09:29:49 Compiling Tandem Junction List...merging...done
Jun 05 09:29:51 Tidying up splice junctions and intron retentions...
...annotating splice junctions
...looking for novel exons
Jun 05 09:29:56 Assembling novel splicing reference:
...loading reference FASTA/GTF
...injecting novel transcripts to GTF
...processing GTF
...processing introns from GTF
...annotating alternative splicing events
done
Jun 05 09:30:16 Tidying up splice junctions and intron retentions (part 2)...
...grouping splice junctions
...grouping introns
...loading splice events
...compiling rowEvents
done

Jun 05 09:30:30 Generating NxtSE assays
Jun 05 09:30:31 Using MulticoreParam 1 threads

  |                                                                            
  |                                                                      |   0%
  |                                                                            
  |============                                                          |  17%
  |                                                                            
  |=======================                                               |  33%
  |                                                                            
  |===================================                                   |  50%
  |                                                                            
  |===============================================                       |  67%
  |                                                                            
  |==========================================================            |  83%
  |                                                                            
  |======================================================================| 100%

Jun 05 09:30:56 Building Final NxtSE Object
Jun 05 09:30:56 ...consolidating assays to H5 file
Jun 05 09:30:59 ...packaging reference
Jun 05 09:30:59 ...synthesising NxtSE
Jun 05 09:31:00 ...determining how overlapping introns should be removed
Jun 05 09:31:10 SpliceWiz (NxtSE) Collation Finished
Jun 05 09:31:10 Loading NxtSE object from file...
Jun 05 09:31:10 ...loading reference (NxtSE)
Jun 05 09:31:10 ...linking assays
Jun 05 09:31:10 ...linking COV files
Jun 05 09:31:10 ...loading rowData
Jun 05 09:31:10 ...removing overlapping introns...
Jun 05 09:31:10 NxtSE loaded
Jun 05 09:31:12 SpliceWiz reference already exists in given directory
Jun 05 09:31:12 Running SpliceWiz processBAM
Jun 05 09:31:13 Using MulticoreParam 1 threads
Allocating memory to 1 threads for SpliceWiz (ompBAM)...initialized (1 milliseconds)
/private/tmp/RtmpwpMdC1/02H003.bam processed (1026 milliseconds)
Jun 05 09:31:14 SpliceWiz processBAM processed RtmpwpMdC1/02H003.bam
Allocating memory to 1 threads for SpliceWiz (ompBAM)...initialized (1 milliseconds)
/private/tmp/RtmpwpMdC1/02H025.bam processed (825 milliseconds)
Jun 05 09:31:15 SpliceWiz processBAM processed RtmpwpMdC1/02H025.bam
Allocating memory to 1 threads for SpliceWiz (ompBAM)...initialized (1 milliseconds)
/private/tmp/RtmpwpMdC1/02H026.bam processed (1256 milliseconds)
Jun 05 09:31:16 SpliceWiz processBAM processed RtmpwpMdC1/02H026.bam
Allocating memory to 1 threads for SpliceWiz (ompBAM)...initialized (1 milliseconds)
/private/tmp/RtmpwpMdC1/02H033.bam processed (1234 milliseconds)
Jun 05 09:31:18 SpliceWiz processBAM processed RtmpwpMdC1/02H033.bam
Allocating memory to 1 threads for SpliceWiz (ompBAM)...initialized (1 milliseconds)
/private/tmp/RtmpwpMdC1/02H043.bam processed (786 milliseconds)
Jun 05 09:31:18 SpliceWiz processBAM processed RtmpwpMdC1/02H043.bam
Allocating memory to 1 threads for SpliceWiz (ompBAM)...initialized (1 milliseconds)
/private/tmp/RtmpwpMdC1/02H046.bam processed (1117 milliseconds)
Jun 05 09:31:20 SpliceWiz processBAM processed RtmpwpMdC1/02H046.bam
Jun 05 09:31:21 Using MulticoreParam 1 threads
Jun 05 09:31:21 Validating Experiment; checking COV files...
Jun 05 09:31:21 Compiling Sample Stats
Jun 05 09:31:21 Compiling Junction List...merging...done
Jun 05 09:31:23 Compiling Junction Stats...merging...done
Jun 05 09:31:34 Compiling Intron Retention List...done
Jun 05 09:31:36 Tidying up splice junctions and intron retentions...
...annotating splice junctions
...copying splicing reference
...grouping splice junctions
...grouping introns
...loading splice events
...compiling rowEvents

Example timings

SpliceWiz.Rcheck/SpliceWiz-Ex.timings

nameusersystemelapsed
ASE-GLM-edgeR6.1300.2798.565
ASE-methods46.991 1.11564.794
ASEFilter-class0.1130.0120.187
Build-Reference-methods125.852 4.864186.108
Coverage2.0060.0822.958
Gene-ontology-methods2.5700.1433.686
Graphics-User-Interface0.0010.0000.001
Mappability-methods2.5820.0983.646
NxtSE-class66.707 2.43795.199
Run_SpliceWiz_Filters 8.460 0.13311.884
STAR-methods0.0070.0170.037
View-Reference-methods0.2900.0380.440
collateData2.9660.1214.492
coord2GR0.0480.0050.080
covDataObject-class3.2420.0844.645
covPlotObject-class37.309 1.00553.106
covPlotly-class2.2610.0553.068
example-SpliceWiz-data0.0250.0050.041
findSamples0.0110.0080.023
isCOV0.0240.0060.040
makeSE2.4360.1673.466
make_plot_data0.1040.0050.153
plotCoverage29.476 0.65942.515
processBAM6.0281.3626.176
setSWthreads0.0050.0170.028
theme_white0.3170.0860.476