Back to Multiple platform build/check report for BioC 3.17:   simplified   long
ABCDEFGHIJK[L]MNOPQRSTUVWXYZ

This page was generated on 2023-10-04 11:37:29 -0400 (Wed, 04 Oct 2023).

HostnameOSArch (*)R versionInstalled pkgs
nebbiolo1Linux (Ubuntu 22.04.2 LTS)x86_644.3.1 (2023-06-16) -- "Beagle Scouts" 4626
palomino3Windows Server 2022 Datacenterx644.3.1 (2023-06-16 ucrt) -- "Beagle Scouts" 4379
merida1macOS 12.6.4 Montereyx86_644.3.1 (2023-06-16) -- "Beagle Scouts" 4395
Click on any hostname to see more info about the system (e.g. compilers)      (*) as reported by 'uname -p', except on Windows and Mac OS X

Package 1089/2230HostnameOS / ArchINSTALLBUILDCHECKBUILD BIN
LymphoSeq 1.28.0  (landing page)
David Coffey
Snapshot Date: 2023-10-03 14:00:15 -0400 (Tue, 03 Oct 2023)
git_url: https://git.bioconductor.org/packages/LymphoSeq
git_branch: RELEASE_3_17
git_last_commit: 6173b0b
git_last_commit_date: 2023-04-25 10:46:30 -0400 (Tue, 25 Apr 2023)
nebbiolo1Linux (Ubuntu 22.04.2 LTS) / x86_64  OK    OK    OK  UNNEEDED, same version is already published
palomino3Windows Server 2022 Datacenter / x64  OK    OK    OK    OK  UNNEEDED, same version is already published
merida1macOS 12.6.4 Monterey / x86_64  OK    OK    OK    OK  UNNEEDED, same version is already published

CHECK results for LymphoSeq on merida1


To the developers/maintainers of the LymphoSeq package:
- Allow up to 24 hours (and sometimes 48 hours) for your latest push to git@git.bioconductor.org:packages/LymphoSeq.git to reflect on this report. See Troubleshooting Build Report for more information.
- Use the following Renviron settings to reproduce errors and warnings.
- If 'R CMD check' started to fail recently on the Linux builder(s) over a missing dependency, add the missing dependency to 'Suggests:' in your DESCRIPTION file. See Renviron.bioc for more information.

raw results


Summary

Package: LymphoSeq
Version: 1.28.0
Command: /Library/Frameworks/R.framework/Resources/bin/R CMD check --install=check:LymphoSeq.install-out.txt --library=/Library/Frameworks/R.framework/Resources/library --no-vignettes --timings LymphoSeq_1.28.0.tar.gz
StartedAt: 2023-10-04 03:16:57 -0400 (Wed, 04 Oct 2023)
EndedAt: 2023-10-04 03:24:37 -0400 (Wed, 04 Oct 2023)
EllapsedTime: 459.9 seconds
RetCode: 0
Status:   OK  
CheckDir: LymphoSeq.Rcheck
Warnings: 0

Command output

##############################################################################
##############################################################################
###
### Running command:
###
###   /Library/Frameworks/R.framework/Resources/bin/R CMD check --install=check:LymphoSeq.install-out.txt --library=/Library/Frameworks/R.framework/Resources/library --no-vignettes --timings LymphoSeq_1.28.0.tar.gz
###
##############################################################################
##############################################################################


* using log directory ‘/Users/biocbuild/bbs-3.17-bioc/meat/LymphoSeq.Rcheck’
* using R version 4.3.1 (2023-06-16)
* using platform: x86_64-apple-darwin20 (64-bit)
* R was compiled by
    Apple clang version 14.0.3 (clang-1403.0.22.14.1)
    GNU Fortran (GCC) 12.2.0
* running under: macOS Monterey 12.6.4
* using session charset: UTF-8
* using option ‘--no-vignettes’
* checking for file ‘LymphoSeq/DESCRIPTION’ ... OK
* this is package ‘LymphoSeq’ version ‘1.28.0’
* checking package namespace information ... OK
* checking package dependencies ... OK
* checking if this is a source package ... OK
* checking if there is a namespace ... OK
* checking for hidden files and directories ... OK
* checking for portable file names ... OK
* checking for sufficient/correct file permissions ... OK
* checking whether package ‘LymphoSeq’ can be installed ... OK
* checking installed package size ... NOTE
  installed size is  5.7Mb
  sub-directories of 1Mb or more:
    extdata   5.5Mb
* checking package directory ... OK
* checking ‘build’ directory ... OK
* checking DESCRIPTION meta-information ... OK
* checking top-level files ... OK
* checking for left-over files ... OK
* checking index information ... OK
* checking package subdirectories ... OK
* checking R files for non-ASCII characters ... OK
* checking R files for syntax errors ... OK
* checking whether the package can be loaded ... OK
* checking whether the package can be loaded with stated dependencies ... OK
* checking whether the package can be unloaded cleanly ... OK
* checking whether the namespace can be loaded with stated dependencies ... OK
* checking whether the namespace can be unloaded cleanly ... OK
* checking dependencies in R code ... OK
* checking S3 generic/method consistency ... OK
* checking replacement functions ... OK
* checking foreign function calls ... OK
* checking R code for possible problems ... OK
* checking Rd files ... OK
* checking Rd metadata ... OK
* checking Rd cross-references ... OK
* checking for missing documentation entries ... OK
* checking for code/documentation mismatches ... OK
* checking Rd \usage sections ... OK
* checking Rd contents ... OK
* checking for unstated dependencies in examples ... OK
* checking files in ‘vignettes’ ... OK
* checking examples ... OK
Examples with CPU (user + system) or elapsed time > 5s
                        user system elapsed
cloneTrack            36.437  2.209  48.988
productiveSeq         31.145  0.986  42.160
phyloTree              9.495  0.059  12.440
differentialAbundance  6.431  0.122   8.417
lorenzCurve            4.316  0.089   5.784
topFreq                3.934  0.096   5.125
* checking for unstated dependencies in vignettes ... OK
* checking package vignettes in ‘inst/doc’ ... OK
* checking running R code from vignettes ... SKIPPED
* checking re-building of vignette outputs ... SKIPPED
* checking PDF version of manual ... OK
* DONE

Status: 1 NOTE
See
  ‘/Users/biocbuild/bbs-3.17-bioc/meat/LymphoSeq.Rcheck/00check.log’
for details.



Installation output

LymphoSeq.Rcheck/00install.out

##############################################################################
##############################################################################
###
### Running command:
###
###   /Library/Frameworks/R.framework/Resources/bin/R CMD INSTALL LymphoSeq
###
##############################################################################
##############################################################################


* installing to library ‘/Library/Frameworks/R.framework/Versions/4.3-x86_64/Resources/library’
* installing *source* package ‘LymphoSeq’ ...
** using staged installation
** R
** inst
** byte-compile and prepare package for lazy loading
** help
*** installing help indices
** building package indices
** installing vignettes
** testing if installed package can be loaded from temporary location
** testing if installed package can be loaded from final location
** testing if installed package keeps a record of temporary installation path
* DONE (LymphoSeq)

Tests output


Example timings

LymphoSeq.Rcheck/LymphoSeq-Ex.timings

nameusersystemelapsed
alignSeq1.8730.0582.447
bhattacharyyaCoefficient0.3170.0320.477
bhattacharyyaMatrix0.4400.0150.586
chordDiagramVDJ2.2390.0552.916
clonalRelatedness0.8510.0091.077
clonality0.1000.0070.136
cloneTrack36.437 2.20948.988
commonSeqs0.3160.0420.445
commonSeqsBar1.9510.3092.830
commonSeqsPlot0.8900.1241.274
commonSeqsVenn1.5210.1992.144
differentialAbundance6.4310.1228.417
exportFasta0.4350.0330.603
geneFreq3.4270.1034.700
lorenzCurve4.3160.0895.784
mergeFiles0.1270.0050.173
pairwisePlot1.5360.0162.060
phyloTree 9.495 0.05912.440
productive0.0970.0060.133
productiveSeq31.145 0.98642.160
readImmunoSeq0.0680.0060.091
removeSeq0.0960.0070.132
searchPublished0.3190.0200.422
searchSeq0.7460.0200.940
seqMatrix3.2850.0293.989
similarityMatrix0.3300.0240.418
similarityScore0.3010.0240.397
topFreq3.9340.0965.125
topSeqs0.3020.0080.366
topSeqsPlot0.9290.0161.214
uniqueSeqs0.3680.0100.490