Back to Multiple platform build/check report for BioC 3.17:   simplified   long
ABCDEFGHIJKLMNOPQ[R]STUVWXYZ

This page was generated on 2023-06-09 11:06:23 -0400 (Fri, 09 Jun 2023).

HostnameOSArch (*)R versionInstalled pkgs
nebbiolo1Linux (Ubuntu 22.04.2 LTS)x86_644.3.0 RC (2023-04-13 r84269) -- "Already Tomorrow" 4628
palomino3Windows Server 2022 Datacenterx644.3.0 RC (2023-04-13 r84269 ucrt) -- "Already Tomorrow" 4379
merida1macOS 12.6.4 Montereyx86_644.3.0 RC (2023-04-13 r84257) -- "Already Tomorrow" 4385
Click on any hostname to see more info about the system (e.g. compilers)      (*) as reported by 'uname -p', except on Windows and Mac OS X

CHECK results for RIPAT on palomino3


To the developers/maintainers of the RIPAT package:
- Allow up to 24 hours (and sometimes 48 hours) for your latest push to git@git.bioconductor.org:packages/RIPAT.git to reflect on this report. See Troubleshooting Build Report for more information.
- Use the following Renviron settings to reproduce errors and warnings.
- If 'R CMD check' started to fail recently on the Linux builder(s) over a missing dependency, add the missing dependency to 'Suggests:' in your DESCRIPTION file. See Renviron.bioc for more information.

raw results

Package 1723/2229HostnameOS / ArchINSTALLBUILDCHECKBUILD BIN
RIPAT 1.10.0  (landing page)
Min-Jeong Baek
Snapshot Date: 2023-06-08 14:00:15 -0400 (Thu, 08 Jun 2023)
git_url: https://git.bioconductor.org/packages/RIPAT
git_branch: RELEASE_3_17
git_last_commit: 711cf3d
git_last_commit_date: 2023-04-25 11:22:02 -0400 (Tue, 25 Apr 2023)
nebbiolo1Linux (Ubuntu 22.04.2 LTS) / x86_64  OK    OK    ERROR  
palomino3Windows Server 2022 Datacenter / x64  OK    OK    OK    OK  UNNEEDED, same version is already published
merida1macOS 12.6.4 Monterey / x86_64  OK    OK    OK    OK  UNNEEDED, same version is already published

Summary

Package: RIPAT
Version: 1.10.0
Command: F:\biocbuild\bbs-3.17-bioc\R\bin\R.exe CMD check --no-multiarch --install=check:RIPAT.install-out.txt --library=F:\biocbuild\bbs-3.17-bioc\R\library --no-vignettes --timings RIPAT_1.10.0.tar.gz
StartedAt: 2023-06-09 06:13:13 -0400 (Fri, 09 Jun 2023)
EndedAt: 2023-06-09 06:14:40 -0400 (Fri, 09 Jun 2023)
EllapsedTime: 87.7 seconds
RetCode: 0
Status:   OK  
CheckDir: RIPAT.Rcheck
Warnings: 0

Command output

##############################################################################
##############################################################################
###
### Running command:
###
###   F:\biocbuild\bbs-3.17-bioc\R\bin\R.exe CMD check --no-multiarch --install=check:RIPAT.install-out.txt --library=F:\biocbuild\bbs-3.17-bioc\R\library --no-vignettes --timings RIPAT_1.10.0.tar.gz
###
##############################################################################
##############################################################################


* using log directory 'F:/biocbuild/bbs-3.17-bioc/meat/RIPAT.Rcheck'
* using R version 4.3.0 RC (2023-04-13 r84269 ucrt)
* using platform: x86_64-w64-mingw32 (64-bit)
* R was compiled by
    gcc.exe (GCC) 12.2.0
    GNU Fortran (GCC) 12.2.0
* running under: Windows Server 2022 x64 (build 20348)
* using session charset: UTF-8
* using option '--no-vignettes'
* checking for file 'RIPAT/DESCRIPTION' ... OK
* this is package 'RIPAT' version '1.10.0'
* package encoding: UTF-8
* checking package namespace information ... OK
* checking package dependencies ... OK
* checking if this is a source package ... OK
* checking if there is a namespace ... OK
* checking for hidden files and directories ... OK
* checking for portable file names ... OK
* checking whether package 'RIPAT' can be installed ... OK
* checking installed package size ... OK
* checking package directory ... OK
* checking 'build' directory ... OK
* checking DESCRIPTION meta-information ... OK
* checking top-level files ... OK
* checking for left-over files ... OK
* checking index information ... OK
* checking package subdirectories ... OK
* checking R files for non-ASCII characters ... OK
* checking R files for syntax errors ... OK
* checking whether the package can be loaded ... OK
* checking whether the package can be loaded with stated dependencies ... OK
* checking whether the package can be unloaded cleanly ... OK
* checking whether the namespace can be loaded with stated dependencies ... OK
* checking whether the namespace can be unloaded cleanly ... OK
* checking dependencies in R code ... OK
* checking S3 generic/method consistency ... OK
* checking replacement functions ... OK
* checking foreign function calls ... OK
* checking R code for possible problems ... NOTE
annoByCpG: no visible global function definition for 'hist'
annoByCpG: no visible binding for global variable 'Range'
annoByCpG: no visible binding for global variable 'Freq'
annoByCpG: no visible binding for global variable 'Group'
annoByGene: no visible global function definition for 'hist'
annoByGene: no visible binding for global variable 'Range'
annoByGene: no visible binding for global variable 'Freq'
annoByGene: no visible binding for global variable 'Group'
annoByRepeat: no visible global function definition for 'hist'
annoByRepeat: no visible binding for global variable 'all_dist_dup_m'
annoByRepeat: no visible binding for global variable 'Range'
annoByRepeat: no visible binding for global variable 'Freq'
annoByRepeat: no visible binding for global variable 'Group'
annoByVar: no visible global function definition for 'hist'
annoByVar: no visible binding for global variable 'Range'
annoByVar: no visible binding for global variable 'Freq'
annoByVar: no visible binding for global variable 'Group'
makeDocument : <anonymous>: no visible global function definition for
  'hist'
makeDocument: no visible binding for global variable 'group'
makeDocument: no visible binding for global variable 'type'
makeDocument: no visible binding for global variable 'convert_p'
makeDocument: no visible global function definition for 'par'
Undefined global functions or variables:
  Freq Group Range all_dist_dup_m convert_p group hist par type
Consider adding
  importFrom("graphics", "hist", "par")
to your NAMESPACE file.
* checking Rd files ... OK
* checking Rd metadata ... OK
* checking Rd cross-references ... OK
* checking for missing documentation entries ... OK
* checking for code/documentation mismatches ... OK
* checking Rd \usage sections ... OK
* checking Rd contents ... OK
* checking for unstated dependencies in examples ... OK
* checking contents of 'data' directory ... OK
* checking data for non-ASCII characters ... OK
* checking data for ASCII and uncompressed saves ... OK
* checking files in 'vignettes' ... OK
* checking examples ... OK
Examples with CPU (user + system) or elapsed time > 5s
              user system elapsed
drawingKaryo 11.30   0.87   12.20
makeData      5.35   0.25    6.88
* checking for unstated dependencies in vignettes ... OK
* checking package vignettes in 'inst/doc' ... OK
* checking running R code from vignettes ... SKIPPED
* checking re-building of vignette outputs ... SKIPPED
* checking PDF version of manual ... OK
* DONE

Status: 1 NOTE
See
  'F:/biocbuild/bbs-3.17-bioc/meat/RIPAT.Rcheck/00check.log'
for details.



Installation output

RIPAT.Rcheck/00install.out

##############################################################################
##############################################################################
###
### Running command:
###
###   F:\biocbuild\bbs-3.17-bioc\R\bin\R.exe CMD INSTALL RIPAT
###
##############################################################################
##############################################################################


* installing to library 'F:/biocbuild/bbs-3.17-bioc/R/library'
* installing *source* package 'RIPAT' ...
** using staged installation
** R
** data
** inst
** byte-compile and prepare package for lazy loading
** help
*** installing help indices
** building package indices
** installing vignettes
** testing if installed package can be loaded from temporary location
** testing if installed package can be loaded from final location
** testing if installed package keeps a record of temporary installation path
* DONE (RIPAT)

Tests output


Example timings

RIPAT.Rcheck/RIPAT-Ex.timings

nameusersystemelapsed
annoByCpG3.850.294.14
annoByGene1.40.11.5
annoByRepeat1.280.121.41
annoByVar0.770.030.81
blast_gene0.040.020.06
blast_obj000
cpg_exam_db0.020.000.02
drawingKaryo11.30 0.8712.20
gene_exam_db0.010.020.03
makeData5.350.256.88
makeDocument3.010.805.00
makeInputObj0.830.042.98
makeInputObj20.730.050.78
micro_exam_db000
repeat_exam_db0.000.020.02
tss_exam_db0.020.010.03
var_exam_db0.060.000.06