Back to Multiple platform build/check report for BioC 3.17:   simplified   long
AB[C]DEFGHIJKLMNOPQRSTUVWXYZ

This page was generated on 2023-04-21 11:02:22 -0400 (Fri, 21 Apr 2023).

HostnameOSArch (*)R versionInstalled pkgs
nebbiolo1Linux (Ubuntu 22.04.1 LTS)x86_644.3.0 RC (2023-04-13 r84269) -- "Already Tomorrow" 4590
palomino3Windows Server 2022 Datacenterx644.3.0 RC (2023-04-13 r84269 ucrt) -- "Already Tomorrow" 4320
Click on any hostname to see more info about the system (e.g. compilers)      (*) as reported by 'uname -p', except on Windows and Mac OS X

All results for package CoGAPS


To the developers/maintainers of the CoGAPS package:
- Allow up to 24 hours (and sometimes 48 hours) for your latest push to git@git.bioconductor.org:packages/CoGAPS.git to reflect on this report. See Troubleshooting Build Report for more information.

- Use the following Renviron settings to reproduce errors and warnings.

Note: If "R CMD check" recently failed on the Linux builder over a missing dependency, add the missing dependency to "Suggests" in your DESCRIPTION file. See the Renviron.bioc for details.

raw results

Package 395/2227HostnameOS / ArchINSTALLBUILDCHECKBUILD BIN
CoGAPS 3.19.1  (landing page)
Elana J. Fertig
Snapshot Date: 2023-04-20 14:00:15 -0400 (Thu, 20 Apr 2023)
git_url: https://git.bioconductor.org/packages/CoGAPS
git_branch: devel
git_last_commit: b49bab1
git_last_commit_date: 2023-04-10 16:26:58 -0400 (Mon, 10 Apr 2023)
nebbiolo1Linux (Ubuntu 22.04.1 LTS) / x86_64  OK    OK    ERROR  
palomino3Windows Server 2022 Datacenter / x64  OK    ERROR  skippedskipped

Results for Bioconductor software packages that depend directly on package CoGAPS

QUICK STATSOS / ArchINSTALLBUILDCHECKBUILD BIN
nebbiolo1Linux (Ubuntu 22.04.1 LTS) / x86_64
002
002
0002
palomino3Windows Server 2022 Datacenter / x64
002
002
0002
002
Package 1/2HostnameOS / ArchINSTALLBUILDCHECKBUILD BIN
ATACCoGAPS 1.1.0  (landing page)
Rossin Erbe
git_last_commit: 234877c
git_last_commit_date: 2022-11-01 11:27:16 -0400
nebbiolo1Linux (Ubuntu 22.04.1 LTS) / x86_64  OK    OK    OK  UNNEEDED, same version is already published
palomino3Windows Server 2022 Datacenter / x64  OK    OK    OK    OK  UNNEEDED, same version is already published
Package 2/2HostnameOS / ArchINSTALLBUILDCHECKBUILD BIN
projectR 1.15.0  (landing page)
Genevieve Stein-O'Brien
git_last_commit: 4186eb9
git_last_commit_date: 2022-11-01 11:19:29 -0400
nebbiolo1Linux (Ubuntu 22.04.1 LTS) / x86_64  OK    OK    OK  UNNEEDED, same version is already published
palomino3Windows Server 2022 Datacenter / x64  OK    OK    OK    OK  UNNEEDED, same version is already published