Back to Multiple platform build/check report for BioC 3.17:   simplified   long
AB[C]DEFGHIJKLMNOPQRSTUVWXYZ

This page was generated on 2023-03-31 11:03:00 -0400 (Fri, 31 Mar 2023).

HostnameOSArch (*)R versionInstalled pkgs
nebbiolo1Linux (Ubuntu 22.04.1 LTS)x86_64R Under development (unstable) (2023-03-16 r83996) -- "Unsuffered Consequences" 4547
palomino3Windows Server 2022 Datacenterx64R Under development (unstable) (2023-03-15 r83984 ucrt) -- "Unsuffered Consequences" 4308
Click on any hostname to see more info about the system (e.g. compilers)      (*) as reported by 'uname -p', except on Windows and Mac OS X

BUILD BIN results for Cardinal on palomino3


To the developers/maintainers of the Cardinal package:
- Allow up to 24 hours (and sometimes 48 hours) for your latest push to git@git.bioconductor.org:packages/Cardinal.git to reflect on this report. See Troubleshooting Build Report for more information.

- Use the following Renviron settings to reproduce errors and warnings.

Note: If "R CMD check" recently failed on the Linux builder over a missing dependency, add the missing dependency to "Suggests" in your DESCRIPTION file. See the Renviron.bioc for details.

raw results

Package 264/2195HostnameOS / ArchINSTALLBUILDCHECKBUILD BIN
Cardinal 3.1.0  (landing page)
Kylie A. Bemis
Snapshot Date: 2023-03-30 14:00:16 -0400 (Thu, 30 Mar 2023)
git_url: https://git.bioconductor.org/packages/Cardinal
git_branch: devel
git_last_commit: 6a786e0
git_last_commit_date: 2022-11-14 15:04:46 -0400 (Mon, 14 Nov 2022)
nebbiolo1Linux (Ubuntu 22.04.1 LTS) / x86_64  OK    OK    WARNINGS  UNNEEDED, same version is already published
palomino3Windows Server 2022 Datacenter / x64  OK    OK    OK    OK  UNNEEDED, same version is already published

Summary

Package: Cardinal
Version: 3.1.0
Command: rm -rf Cardinal.buildbin-libdir && mkdir Cardinal.buildbin-libdir && F:\biocbuild\bbs-3.17-bioc\R\bin\R.exe CMD INSTALL --build --library=Cardinal.buildbin-libdir Cardinal_3.1.0.tar.gz
StartedAt: 2023-03-31 08:08:06 -0400 (Fri, 31 Mar 2023)
EndedAt: 2023-03-31 08:09:32 -0400 (Fri, 31 Mar 2023)
EllapsedTime: 86.0 seconds
RetCode: 0
Status:   OK  
PackageFile: Cardinal_3.1.0.zip
PackageFileSize: 3.278 MiB

Command output

##############################################################################
##############################################################################
###
### Running command:
###
###   rm -rf Cardinal.buildbin-libdir && mkdir Cardinal.buildbin-libdir && F:\biocbuild\bbs-3.17-bioc\R\bin\R.exe CMD INSTALL --build --library=Cardinal.buildbin-libdir Cardinal_3.1.0.tar.gz
###
##############################################################################
##############################################################################


* installing *source* package 'Cardinal' ...
** using staged installation
** libs
using C++ compiler: 'G__~1.EXE (GCC) 12.2.0'
g++ -std=gnu++17  -I"F:/biocbuild/bbs-3.17-bioc/R/include" -DNDEBUG     -I"C:/rtools43/x86_64-w64-mingw32.static.posix/include"     -O2 -Wall  -mfpmath=sse -msse2 -mstackrealign  -c DIP.cpp -o DIP.o
g++ -std=gnu++17  -I"F:/biocbuild/bbs-3.17-bioc/R/include" -DNDEBUG     -I"C:/rtools43/x86_64-w64-mingw32.static.posix/include"     -O2 -Wall  -mfpmath=sse -msse2 -mstackrealign  -c imzML.cpp -o imzML.o
g++ -std=gnu++17  -I"F:/biocbuild/bbs-3.17-bioc/R/include" -DNDEBUG     -I"C:/rtools43/x86_64-w64-mingw32.static.posix/include"     -O2 -Wall  -mfpmath=sse -msse2 -mstackrealign  -c init.cpp -o init.o
g++ -std=gnu++17  -I"F:/biocbuild/bbs-3.17-bioc/R/include" -DNDEBUG     -I"C:/rtools43/x86_64-w64-mingw32.static.posix/include"     -O2 -Wall  -mfpmath=sse -msse2 -mstackrealign  -c pugixml.cpp -o pugixml.o
pugixml.cpp:2264:23: warning: 'void pugi::impl::{anonymous}::as_utf8_end(char*, size_t, const wchar_t*, size_t)' defined but not used [-Wunused-function]
 2264 |         PUGI__FN void as_utf8_end(char* buffer, size_t size, const wchar_t* str, size_t length)
      |                       ^~~~~~~~~~~
pugixml.cpp:2258:25: warning: 'size_t pugi::impl::{anonymous}::as_utf8_begin(const wchar_t*, size_t)' defined but not used [-Wunused-function]
 2258 |         PUGI__FN size_t as_utf8_begin(const wchar_t* str, size_t length)
      |                         ^~~~~~~~~~~~~
pugixml.cpp:221:25: warning: 'size_t pugi::impl::{anonymous}::strlength_wide(const wchar_t*)' defined but not used [-Wunused-function]
  221 |         PUGI__FN size_t strlength_wide(const wchar_t* s)
      |                         ^~~~~~~~~~~~~~
g++ -std=gnu++17  -I"F:/biocbuild/bbs-3.17-bioc/R/include" -DNDEBUG     -I"C:/rtools43/x86_64-w64-mingw32.static.posix/include"     -O2 -Wall  -mfpmath=sse -msse2 -mstackrealign  -c spatial.cpp -o spatial.o
g++ -std=gnu++17  -I"F:/biocbuild/bbs-3.17-bioc/R/include" -DNDEBUG     -I"C:/rtools43/x86_64-w64-mingw32.static.posix/include"     -O2 -Wall  -mfpmath=sse -msse2 -mstackrealign  -c utils.cpp -o utils.o
g++ -std=gnu++17 -shared -s -static-libgcc -o Cardinal.dll tmp.def DIP.o imzML.o init.o pugixml.o spatial.o utils.o -LC:/rtools43/x86_64-w64-mingw32.static.posix/lib/x64 -LC:/rtools43/x86_64-w64-mingw32.static.posix/lib -LF:/biocbuild/bbs-3.17-bioc/R/bin/x64 -lR
installing to F:/biocbuild/bbs-3.17-bioc/meat/Cardinal.buildbin-libdir/00LOCK-Cardinal/00new/Cardinal/libs/x64
** R
** inst
** byte-compile and prepare package for lazy loading
** help
*** installing help indices
** building package indices
** installing vignettes
** testing if installed package can be loaded from temporary location
** testing if installed package can be loaded from final location
** testing if installed package keeps a record of temporary installation path
* MD5 sums
packaged installation of 'Cardinal' as Cardinal_3.1.0.zip
* DONE (Cardinal)