Back to Multiple platform build/check report for BioC 3.17: simplified long |
|
This page was generated on 2023-03-21 11:06:17 -0400 (Tue, 21 Mar 2023).
Hostname | OS | Arch (*) | R version | Installed pkgs |
---|---|---|---|---|
nebbiolo1 | Linux (Ubuntu 22.04.1 LTS) | x86_64 | R Under development (unstable) (2023-03-16 r83996) -- "Unsuffered Consequences" | 4305 |
palomino3 | Windows Server 2022 Datacenter | x64 | R Under development (unstable) (2023-03-15 r83984 ucrt) -- "Unsuffered Consequences" | 4287 |
merida1 | macOS 10.14.6 Mojave | x86_64 | R Under development (unstable) (2023-03-16 r83985) -- "Unsuffered Consequences" | 4286 |
Click on any hostname to see more info about the system (e.g. compilers) (*) as reported by 'uname -p', except on Windows and Mac OS X |
To the developers/maintainers of the pkgDepTools package: - Please allow up to 24 hours (and sometimes 48 hours) for your latest push to git@git.bioconductor.org:packages/pkgDepTools.git to reflect on this report. See How and When does the builder pull? When will my changes propagate? for more information. - Make sure to use the following settings in order to reproduce any error or warning you see on this page. |
Package 1499/2189 | Hostname | OS / Arch | INSTALL | BUILD | CHECK | BUILD BIN | ||||||||
Bioconductor Package Maintainer
| nebbiolo1 | Linux (Ubuntu 22.04.1 LTS) / x86_64 | OK | OK | TIMEOUT | |||||||||
palomino3 | Windows Server 2022 Datacenter / x64 | OK | OK | WARNINGS | OK | ![]() | ||||||||
merida1 | macOS 10.14.6 Mojave / x86_64 | OK | TIMEOUT | skipped | skipped | |||||||||
Package: pkgDepTools |
Version: 1.65.1 |
Command: chmod a+r pkgDepTools -R && F:\biocbuild\bbs-3.17-bioc\R\bin\R.exe CMD build --keep-empty-dirs --no-resave-data pkgDepTools |
StartedAt: 2023-03-20 21:08:43 -0400 (Mon, 20 Mar 2023) |
EndedAt: 2023-03-20 21:39:31 -0400 (Mon, 20 Mar 2023) |
EllapsedTime: 1847.5 seconds |
RetCode: 0 |
Status: OK |
PackageFile: pkgDepTools_1.65.1.tar.gz |
PackageFileSize: 123.9 KiB |
############################################################################## ############################################################################## ### ### Running command: ### ### chmod a+r pkgDepTools -R && F:\biocbuild\bbs-3.17-bioc\R\bin\R.exe CMD build --keep-empty-dirs --no-resave-data pkgDepTools ### ############################################################################## ############################################################################## * checking for file 'pkgDepTools/DESCRIPTION' ... OK * preparing 'pkgDepTools': * checking DESCRIPTION meta-information ... OK * installing the package to build vignettes * creating vignettes ... OK * checking for LF line-endings in source and make files and shell scripts * checking for empty or unneeded directories * building 'pkgDepTools_1.65.1.tar.gz'