Back to Multiple platform build/check report for BioC 3.17:   simplified   long
ABCDEFGHIJKLMNO[P]QRSTUVWXYZ

This page was generated on 2023-06-05 11:03:31 -0400 (Mon, 05 Jun 2023).

HostnameOSArch (*)R versionInstalled pkgs
nebbiolo1Linux (Ubuntu 22.04.2 LTS)x86_644.3.0 RC (2023-04-13 r84269) -- "Already Tomorrow" 4623
palomino3Windows Server 2022 Datacenterx644.3.0 RC (2023-04-13 r84269 ucrt) -- "Already Tomorrow" 4374
merida1macOS 12.6.4 Montereyx86_644.3.0 RC (2023-04-13 r84257) -- "Already Tomorrow" 4332
Click on any hostname to see more info about the system (e.g. compilers)      (*) as reported by 'uname -p', except on Windows and Mac OS X

All results for package ProtGenerics


To the developers/maintainers of the ProtGenerics package:
- Allow up to 24 hours (and sometimes 48 hours) for your latest push to git@git.bioconductor.org:packages/ProtGenerics.git to reflect on this report. See Troubleshooting Build Report for more information.

- Use the following Renviron settings to reproduce errors and warnings.

Note: If "R CMD check" recently failed on the Linux builder over a missing dependency, add the missing dependency to "Suggests" in your DESCRIPTION file. See the Renviron.bioc for details.

raw results

Package 1577/2229HostnameOS / ArchINSTALLBUILDCHECKBUILD BIN
ProtGenerics 1.32.0  (landing page)
Laurent Gatto
Snapshot Date: 2023-06-04 14:00:14 -0400 (Sun, 04 Jun 2023)
git_url: https://git.bioconductor.org/packages/ProtGenerics
git_branch: RELEASE_3_17
git_last_commit: 30c6458
git_last_commit_date: 2023-04-25 10:37:44 -0400 (Tue, 25 Apr 2023)
nebbiolo1Linux (Ubuntu 22.04.2 LTS) / x86_64  OK    OK    OK  UNNEEDED, same version is already published
palomino3Windows Server 2022 Datacenter / x64  OK    OK    OK    OK  UNNEEDED, same version is already published
merida1macOS 12.6.4 Monterey / x86_64  OK    OK    OK    NA  

Results for Bioconductor software packages that depend directly on package ProtGenerics

QUICK STATSOS / ArchINSTALLBUILDCHECKBUILD BIN
nebbiolo1Linux (Ubuntu 22.04.2 LTS) / x86_64
0019
0019
00118
palomino3Windows Server 2022 Datacenter / x64
0019
0118
00117
0018
merida1macOS 12.6.4 Monterey / x86_64
0019
0019
00118
003
Package 1/19HostnameOS / ArchINSTALLBUILDCHECKBUILD BIN
Cardinal 3.2.1  (landing page)
Kylie A. Bemis
git_last_commit: c16ca40
git_last_commit_date: 2023-05-02 20:47:36 -0400
nebbiolo1Linux (Ubuntu 22.04.2 LTS) / x86_64  OK    OK    OK  UNNEEDED, same version is already published
palomino3Windows Server 2022 Datacenter / x64  OK    ERROR  skippedskipped
merida1macOS 12.6.4 Monterey / x86_64  OK    OK    OK    OK  UNNEEDED, same version is already published
Package 2/19HostnameOS / ArchINSTALLBUILDCHECKBUILD BIN
CompoundDb 1.4.0  (landing page)
Johannes Rainer
git_last_commit: 5c0f833
git_last_commit_date: 2023-04-25 11:35:41 -0400
nebbiolo1Linux (Ubuntu 22.04.2 LTS) / x86_64  OK    OK    OK  UNNEEDED, same version is already published
palomino3Windows Server 2022 Datacenter / x64  OK    OK    OK    OK  UNNEEDED, same version is already published
merida1macOS 12.6.4 Monterey / x86_64  OK    OK    OK    OK  UNNEEDED, same version is already published
Package 3/19HostnameOS / ArchINSTALLBUILDCHECKBUILD BIN
ensembldb 2.24.0  (landing page)
Johannes Rainer
git_last_commit: 45a79a4
git_last_commit_date: 2023-04-25 10:38:28 -0400
nebbiolo1Linux (Ubuntu 22.04.2 LTS) / x86_64  OK    OK    OK  UNNEEDED, same version is already published
palomino3Windows Server 2022 Datacenter / x64  OK    OK    OK    OK  UNNEEDED, same version is already published
merida1macOS 12.6.4 Monterey / x86_64  OK    OK    OK    OK  UNNEEDED, same version is already published
Package 4/19HostnameOS / ArchINSTALLBUILDCHECKBUILD BIN
matter 2.2.0  (landing page)
Kylie A. Bemis
git_last_commit: 54f665e
git_last_commit_date: 2023-04-25 10:50:19 -0400
nebbiolo1Linux (Ubuntu 22.04.2 LTS) / x86_64  OK    OK    OK  UNNEEDED, same version is already published
palomino3Windows Server 2022 Datacenter / x64  OK    OK    OK    OK  UNNEEDED, same version is already published
merida1macOS 12.6.4 Monterey / x86_64  OK    OK    OK    NA  
Package 5/19HostnameOS / ArchINSTALLBUILDCHECKBUILD BIN
MetaboAnnotation 1.4.1  (landing page)
Johannes Rainer
git_last_commit: ca06eed
git_last_commit_date: 2023-05-02 02:06:41 -0400
nebbiolo1Linux (Ubuntu 22.04.2 LTS) / x86_64  OK    OK    OK  UNNEEDED, same version is already published
palomino3Windows Server 2022 Datacenter / x64  OK    OK    OK    OK  UNNEEDED, same version is already published
merida1macOS 12.6.4 Monterey / x86_64  OK    OK    OK    NA  
Package 6/19HostnameOS / ArchINSTALLBUILDCHECKBUILD BIN
MsBackendMassbank 1.8.0  (landing page)
RforMassSpectrometry Package Maintainer
git_last_commit: 8b032ac
git_last_commit_date: 2023-04-25 11:26:59 -0400
nebbiolo1Linux (Ubuntu 22.04.2 LTS) / x86_64  OK    OK    OK  UNNEEDED, same version is already published
palomino3Windows Server 2022 Datacenter / x64  OK    OK    OK    OK  UNNEEDED, same version is already published
merida1macOS 12.6.4 Monterey / x86_64  OK    OK    OK    NA  
Package 7/19HostnameOS / ArchINSTALLBUILDCHECKBUILD BIN
MsBackendSql 1.0.1  (landing page)
Johannes Rainer
git_last_commit: ac59a16
git_last_commit_date: 2023-04-27 08:07:45 -0400
nebbiolo1Linux (Ubuntu 22.04.2 LTS) / x86_64  OK    OK    OK  UNNEEDED, same version is already published
palomino3Windows Server 2022 Datacenter / x64  OK    OK    OK    OK  UNNEEDED, same version is already published
merida1macOS 12.6.4 Monterey / x86_64  OK    OK    OK    NA  
Package 8/19HostnameOS / ArchINSTALLBUILDCHECKBUILD BIN
MsExperiment 1.2.0  (landing page)
Laurent Gatto
git_last_commit: 14d0c19
git_last_commit_date: 2023-04-25 11:40:15 -0400
nebbiolo1Linux (Ubuntu 22.04.2 LTS) / x86_64  OK    OK    OK  UNNEEDED, same version is already published
palomino3Windows Server 2022 Datacenter / x64  OK    OK    OK    OK  UNNEEDED, same version is already published
merida1macOS 12.6.4 Monterey / x86_64  OK    OK    OK    NA  
Package 9/19HostnameOS / ArchINSTALLBUILDCHECKBUILD BIN
MsFeatures 1.8.0  (landing page)
Johannes Rainer
git_last_commit: b4b415e
git_last_commit_date: 2023-04-25 11:26:25 -0400
nebbiolo1Linux (Ubuntu 22.04.2 LTS) / x86_64  OK    OK    OK  UNNEEDED, same version is already published
palomino3Windows Server 2022 Datacenter / x64  OK    OK    OK    OK  UNNEEDED, same version is already published
merida1macOS 12.6.4 Monterey / x86_64  OK    OK    OK    NA  
Package 10/19HostnameOS / ArchINSTALLBUILDCHECKBUILD BIN
MSnbase 2.26.0  (landing page)
Laurent Gatto
git_last_commit: 3e6268a
git_last_commit_date: 2023-04-25 10:19:06 -0400
nebbiolo1Linux (Ubuntu 22.04.2 LTS) / x86_64  OK    OK    OK  UNNEEDED, same version is already published
palomino3Windows Server 2022 Datacenter / x64  OK    OK    OK    OK  UNNEEDED, same version is already published
merida1macOS 12.6.4 Monterey / x86_64  OK    OK    OK    NA  
Package 11/19HostnameOS / ArchINSTALLBUILDCHECKBUILD BIN
MSnID 1.34.0  (landing page)
Vlad Petyuk
git_last_commit: 587f568
git_last_commit_date: 2023-04-25 10:34:42 -0400
nebbiolo1Linux (Ubuntu 22.04.2 LTS) / x86_64  OK    OK    OK  UNNEEDED, same version is already published
palomino3Windows Server 2022 Datacenter / x64  OK    OK    OK    OK  UNNEEDED, same version is already published
merida1macOS 12.6.4 Monterey / x86_64  OK    OK    OK    NA  
Package 12/19HostnameOS / ArchINSTALLBUILDCHECKBUILD BIN
MsQuality 1.0.0  (landing page)
Thomas Naake
git_last_commit: e4e396a
git_last_commit_date: 2023-04-25 11:41:52 -0400
nebbiolo1Linux (Ubuntu 22.04.2 LTS) / x86_64  OK    OK    OK  UNNEEDED, same version is already published
palomino3Windows Server 2022 Datacenter / x64  OK    OK    OK    OK  UNNEEDED, same version is already published
merida1macOS 12.6.4 Monterey / x86_64  OK    OK    OK    NA  
Package 13/19HostnameOS / ArchINSTALLBUILDCHECKBUILD BIN
mzID 1.38.0  (landing page)
Laurent Gatto
git_last_commit: d87d8b8
git_last_commit_date: 2023-04-25 10:28:39 -0400
nebbiolo1Linux (Ubuntu 22.04.2 LTS) / x86_64  OK    OK    OK  UNNEEDED, same version is already published
palomino3Windows Server 2022 Datacenter / x64  OK    OK    OK    OK  UNNEEDED, same version is already published
merida1macOS 12.6.4 Monterey / x86_64  OK    OK    OK    NA  
Package 14/19HostnameOS / ArchINSTALLBUILDCHECKBUILD BIN
mzR 2.34.0  (landing page)
Steffen Neumann
git_last_commit: 14ccc37
git_last_commit_date: 2023-04-25 10:20:39 -0400
nebbiolo1Linux (Ubuntu 22.04.2 LTS) / x86_64  OK    OK    WARNINGS  UNNEEDED, same version is already published
palomino3Windows Server 2022 Datacenter / x64  OK    OK    WARNINGS    OK  UNNEEDED, same version is already published
merida1macOS 12.6.4 Monterey / x86_64  OK    OK    WARNINGS    NA  
Package 15/19HostnameOS / ArchINSTALLBUILDCHECKBUILD BIN
PSMatch 1.4.0  (landing page)
Laurent Gatto
git_last_commit: a8811f4
git_last_commit_date: 2023-04-25 11:36:33 -0400
nebbiolo1Linux (Ubuntu 22.04.2 LTS) / x86_64  OK    OK    OK  UNNEEDED, same version is already published
palomino3Windows Server 2022 Datacenter / x64  OK    OK    OK    OK  UNNEEDED, same version is already published
merida1macOS 12.6.4 Monterey / x86_64  OK    OK    OK    NA  
Package 16/19HostnameOS / ArchINSTALLBUILDCHECKBUILD BIN
QFeatures 1.10.0  (landing page)
Laurent Gatto
git_last_commit: 8bf8485
git_last_commit_date: 2023-04-25 11:21:51 -0400
nebbiolo1Linux (Ubuntu 22.04.2 LTS) / x86_64  OK    OK    OK  UNNEEDED, same version is already published
palomino3Windows Server 2022 Datacenter / x64  OK    OK    OK    OK  UNNEEDED, same version is already published
merida1macOS 12.6.4 Monterey / x86_64  OK    OK    OK    NA  
Package 17/19HostnameOS / ArchINSTALLBUILDCHECKBUILD BIN
Spectra 1.10.1  (landing page)
RforMassSpectrometry Package Maintainer
git_last_commit: e0f2898
git_last_commit_date: 2023-04-28 03:46:51 -0400
nebbiolo1Linux (Ubuntu 22.04.2 LTS) / x86_64  OK    OK    OK  UNNEEDED, same version is already published
palomino3Windows Server 2022 Datacenter / x64  OK    OK    OK    OK  UNNEEDED, same version is already published
merida1macOS 12.6.4 Monterey / x86_64  OK    OK    OK    NA  
Package 18/19HostnameOS / ArchINSTALLBUILDCHECKBUILD BIN
topdownr 1.22.0  (landing page)
Sebastian Gibb
git_last_commit: ce41e9b
git_last_commit_date: 2023-04-25 10:57:34 -0400
nebbiolo1Linux (Ubuntu 22.04.2 LTS) / x86_64  OK    OK    OK  UNNEEDED, same version is already published
palomino3Windows Server 2022 Datacenter / x64  OK    OK    OK    OK  UNNEEDED, same version is already published
merida1macOS 12.6.4 Monterey / x86_64  OK    OK    OK    NA  
Package 19/19HostnameOS / ArchINSTALLBUILDCHECKBUILD BIN
xcms 3.22.0  (landing page)
Steffen Neumann
git_last_commit: 75010ce
git_last_commit_date: 2023-04-25 09:41:50 -0400
nebbiolo1Linux (Ubuntu 22.04.2 LTS) / x86_64  OK    OK    OK  UNNEEDED, same version is already published
palomino3Windows Server 2022 Datacenter / x64  OK    OK    OK    OK  UNNEEDED, same version is already published
merida1macOS 12.6.4 Monterey / x86_64  OK    OK    OK    NA