Back to Multiple platform build/check report for BioC 3.17: simplified long |
|
This page was generated on 2023-03-27 11:05:14 -0400 (Mon, 27 Mar 2023).
Hostname | OS | Arch (*) | R version | Installed pkgs |
---|---|---|---|---|
nebbiolo1 | Linux (Ubuntu 22.04.1 LTS) | x86_64 | R Under development (unstable) (2023-03-16 r83996) -- "Unsuffered Consequences" | 4547 |
palomino3 | Windows Server 2022 Datacenter | x64 | R Under development (unstable) (2023-03-15 r83984 ucrt) -- "Unsuffered Consequences" | 4308 |
merida1 | macOS 10.14.6 Mojave | x86_64 | R Under development (unstable) (2023-03-16 r83985) -- "Unsuffered Consequences" | 4300 |
Click on any hostname to see more info about the system (e.g. compilers) (*) as reported by 'uname -p', except on Windows and Mac OS X |
To the developers/maintainers of the netDx package: - Please allow up to 24 hours (and sometimes 48 hours) for your latest push to git@git.bioconductor.org:packages/netDx.git to reflect on this report. See How and When does the builder pull? When will my changes propagate? for more information. - Make sure to use the following settings in order to reproduce any error or warning you see on this page. |
Package 1356/2195 | Hostname | OS / Arch | INSTALL | BUILD | CHECK | BUILD BIN | ||||||||
netDx 1.11.0 (landing page) Shraddha Pai
| nebbiolo1 | Linux (Ubuntu 22.04.1 LTS) / x86_64 | OK | OK | TIMEOUT | |||||||||
palomino3 | Windows Server 2022 Datacenter / x64 | ... NOT SUPPORTED ... | ||||||||||||
merida1 | macOS 10.14.6 Mojave / x86_64 | OK | ERROR | skipped | skipped | |||||||||
Package: netDx |
Version: 1.11.0 |
Command: /home/biocbuild/bbs-3.17-bioc/R/bin/R CMD check --install=check:netDx.install-out.txt --library=/home/biocbuild/bbs-3.17-bioc/R/site-library --timings netDx_1.11.0.tar.gz |
StartedAt: 2023-03-26 22:19:20 -0400 (Sun, 26 Mar 2023) |
EndedAt: 2023-03-26 22:59:20 -0400 (Sun, 26 Mar 2023) |
EllapsedTime: 2400.3 seconds |
RetCode: None |
Status: TIMEOUT |
CheckDir: netDx.Rcheck |
Warnings: NA |
############################################################################## ############################################################################## ### ### Running command: ### ### /home/biocbuild/bbs-3.17-bioc/R/bin/R CMD check --install=check:netDx.install-out.txt --library=/home/biocbuild/bbs-3.17-bioc/R/site-library --timings netDx_1.11.0.tar.gz ### ############################################################################## ############################################################################## * using log directory ‘/home/biocbuild/bbs-3.17-bioc/meat/netDx.Rcheck’ * using R Under development (unstable) (2023-03-16 r83996) * using platform: x86_64-pc-linux-gnu (64-bit) * R was compiled by gcc (Ubuntu 11.3.0-1ubuntu1~22.04) 11.3.0 GNU Fortran (Ubuntu 11.3.0-1ubuntu1~22.04) 11.3.0 * running under: Ubuntu 22.04.2 LTS * using session charset: UTF-8 * checking for file ‘netDx/DESCRIPTION’ ... OK * this is package ‘netDx’ version ‘1.11.0’ * package encoding: UTF-8 * checking package namespace information ... OK * checking package dependencies ... OK * checking if this is a source package ... OK * checking if there is a namespace ... OK * checking for hidden files and directories ... NOTE Found the following hidden files and directories: .BBSoptions These were most likely included in error. See section ‘Package structure’ in the ‘Writing R Extensions’ manual. * checking for portable file names ... OK * checking for sufficient/correct file permissions ... OK * checking whether package ‘netDx’ can be installed ... OK * checking installed package size ... OK * checking package directory ... OK * checking ‘build’ directory ... OK * checking DESCRIPTION meta-information ... NOTE Malformed Description field: should contain one or more complete sentences. * checking top-level files ... OK * checking for left-over files ... OK * checking index information ... OK * checking package subdirectories ... NOTE Found the following CITATION file in a non-standard place: CITATION.cff Most likely ‘inst/CITATION’ should be used instead. * checking R files for non-ASCII characters ... OK * checking R files for syntax errors ... OK * checking whether the package can be loaded ... OK * checking whether the package can be loaded with stated dependencies ... OK * checking whether the package can be unloaded cleanly ... OK * checking whether the namespace can be loaded with stated dependencies ... OK * checking whether the namespace can be unloaded cleanly ... OK * checking loading without being on the library search path ... OK * checking startup messages can be suppressed ... OK * checking dependencies in R code ... OK * checking S3 generic/method consistency ... OK * checking replacement functions ... OK * checking foreign function calls ... OK * checking R code for possible problems ... OK * checking Rd files ... OK * checking Rd metadata ... OK * checking Rd cross-references ... OK * checking for missing documentation entries ... OK * checking for code/documentation mismatches ... OK * checking Rd \usage sections ... OK * checking Rd contents ... OK * checking for unstated dependencies in examples ... OK * checking contents of ‘data’ directory ... OK * checking data for non-ASCII characters ... OK * checking data for ASCII and uncompressed saves ... OK * checking files in ‘vignettes’ ... OK * checking examples ... OK Examples with CPU (user + system) or elapsed time > 5s user system elapsed buildPredictor 25.596 2.353 30.363 createPSN_MultiData 20.996 2.196 33.356 runFeatureSelection 10.208 0.583 4.888 RR_featureTally 8.784 0.728 9.512 smoothMutations_LabelProp 7.702 0.922 32.701 compileFeatures 7.123 0.508 21.904 thresholdSmoothedMutations 2.418 0.123 27.310 enrichLabelNets 2.265 0.218 58.429 getEnr 1.159 0.184 10.415 buildPredictor_sparseGenetic 0.757 0.028 15.690 makePSN_NamedMatrix 0.085 0.008 9.799 countIntType_batch 0.017 0.005 8.345 * checking for unstated dependencies in ‘tests’ ... OK * checking tests ... Running ‘testthat.R’ OK * checking for unstated dependencies in vignettes ... OK * checking package vignettes in ‘inst/doc’ ... OK * checking running R code from vignettes ... ‘RawDataConversion.Rmd’ using ‘UTF-8’... OK ‘ThreeWayClassifier.Rmd’ using ‘UTF-8’... OK NONE * checking re-building of vignette outputs ...
netDx.Rcheck/00install.out
############################################################################## ############################################################################## ### ### Running command: ### ### /home/biocbuild/bbs-3.17-bioc/R/bin/R CMD INSTALL netDx ### ############################################################################## ############################################################################## * installing to library ‘/home/biocbuild/bbs-3.17-bioc/R/site-library’ * installing *source* package ‘netDx’ ... ** using staged installation ** R ** data ** inst ** byte-compile and prepare package for lazy loading ** help *** installing help indices ** building package indices ** installing vignettes ** testing if installed package can be loaded from temporary location ** testing if installed package can be loaded from final location ** testing if installed package keeps a record of temporary installation path * DONE (netDx)
netDx.Rcheck/tests/testthat.Rout
R Under development (unstable) (2023-03-16 r83996) -- "Unsuffered Consequences" Copyright (C) 2023 The R Foundation for Statistical Computing Platform: x86_64-pc-linux-gnu (64-bit) R is free software and comes with ABSOLUTELY NO WARRANTY. You are welcome to redistribute it under certain conditions. Type 'license()' or 'licence()' for distribution details. R is a collaborative project with many contributors. Type 'contributors()' for more information and 'citation()' on how to cite R or R packages in publications. Type 'demo()' for some demos, 'help()' for on-line help, or 'help.start()' for an HTML browser interface to help. Type 'q()' to quit R. > library(testthat) > library(netDx) Attaching package: 'netDx' The following object is masked from 'package:stats': predict > > test_check("netDx") TT_STATUS STATUS TEST TRAIN LumA 52 178 notLumA 52 243 PRED_CLASS STATUS LumA notLumA LumA 41 11 notLumA 17 35 [1] TRUE [ FAIL 0 | WARN 2 | SKIP 0 | PASS 39 ] [ FAIL 0 | WARN 2 | SKIP 0 | PASS 39 ] > > proc.time() user system elapsed 70.168 6.429 253.679
netDx.Rcheck/netDx-Ex.timings
name | user | system | elapsed | |
MB.pheno | 0.007 | 0.000 | 0.007 | |
RR_featureTally | 8.784 | 0.728 | 9.512 | |
avgNormDiff | 0.042 | 0.004 | 0.046 | |
buildPredictor | 25.596 | 2.353 | 30.363 | |
buildPredictor_sparseGenetic | 0.757 | 0.028 | 15.690 | |
callFeatSel | 0.090 | 0.009 | 0.099 | |
callOverallSelectedFeatures | 0.079 | 0.028 | 0.107 | |
cleanPathwayName | 0 | 0 | 0 | |
cnv_GR | 0.038 | 0.000 | 0.038 | |
cnv_TTstatus | 0.009 | 0.016 | 0.025 | |
cnv_netPass | 0.003 | 0.002 | 0.004 | |
cnv_netScores | 0.003 | 0.021 | 0.025 | |
cnv_patientNetCount | 0.114 | 0.120 | 0.233 | |
cnv_pheno | 0.010 | 0.000 | 0.011 | |
compareShortestPath | 0.021 | 0.003 | 0.025 | |
compileFeatureScores | 0.009 | 0.000 | 0.009 | |
compileFeatures | 7.123 | 0.508 | 21.904 | |
confmat | 0.004 | 0.000 | 0.004 | |
confusionMatrix | 0.135 | 0.008 | 0.142 | |
convertToMAE | 0.131 | 0.008 | 0.139 | |
countIntType | 0.002 | 0.000 | 0.001 | |
countIntType_batch | 0.017 | 0.005 | 8.345 | |
countPatientsInNet | 0.003 | 0.000 | 0.003 | |
createPSN_MultiData | 20.996 | 2.196 | 33.356 | |
dataList2List | 0.346 | 0.020 | 0.367 | |
enrichLabelNets | 2.265 | 0.218 | 58.429 | |
featScores | 0.025 | 0.028 | 0.053 | |
fetchPathwayDefinitions | 0.561 | 0.061 | 1.300 | |
genes | 0.004 | 0.000 | 0.004 | |
getEMapInput | 0.801 | 0.252 | 1.225 | |
getEMapInput_many | 0.790 | 0.096 | 1.023 | |
getEnr | 1.159 | 0.184 | 10.415 | |
getFeatureScores | 0.015 | 0.000 | 0.014 | |
getFileSep | 0 | 0 | 0 | |
getGMjar_path | 0.162 | 0.022 | 0.160 | |
getNetConsensus | 0.011 | 0.004 | 0.014 | |
getOR | 0.004 | 0.000 | 0.004 | |
getPatientPredictions | 1.834 | 0.124 | 1.959 | |
getPatientRankings | 0.074 | 0.036 | 0.111 | |
getRegionOL | 0.300 | 0.012 | 0.313 | |
getResults | 0.129 | 0.016 | 0.146 | |
getSimilarity | 0.187 | 0.016 | 0.203 | |
makePSN_NamedMatrix | 0.085 | 0.008 | 9.799 | |
makePSN_RangeSets | 0.025 | 0.004 | 0.030 | |
makeQueries | 0.008 | 0.007 | 0.014 | |
makeSymmetric | 0.002 | 0.000 | 0.002 | |
mapNamedRangesToSets | 0.043 | 0.000 | 0.044 | |
modelres | 0.001 | 0.003 | 0.003 | |
normDiff | 0.001 | 0.001 | 0.001 | |
npheno | 0.003 | 0.000 | 0.002 | |
pathwayList | 0.000 | 0.007 | 0.007 | |
pathway_GR | 0.074 | 0.008 | 0.082 | |
perfCalc | 0.002 | 0.000 | 0.003 | |
pheno | 0.002 | 0.008 | 0.010 | |
pheno_full | 0.000 | 0.003 | 0.003 | |
plotEmap | 0.823 | 0.136 | 1.149 | |
plotPerf | 1.246 | 0.035 | 1.280 | |
plotPerf_multi | 0.035 | 0.008 | 0.043 | |
predRes | 0.004 | 0.000 | 0.004 | |
predictPatientLabels | 0.008 | 0.000 | 0.008 | |
pruneNets | 0.003 | 0.008 | 0.011 | |
randAlphanumString | 0.001 | 0.000 | 0.001 | |
readPathways | 0.693 | 0.116 | 0.915 | |
runFeatureSelection | 10.208 | 0.583 | 4.888 | |
runQuery | 2.977 | 0.313 | 4.255 | |
setupFeatureDB | 0.070 | 0.008 | 0.078 | |
silh | 0.000 | 0.004 | 0.004 | |
sim.eucscale | 0.318 | 0.092 | 0.409 | |
sim.pearscale | 0.514 | 0.032 | 0.546 | |
simpleCap | 0 | 0 | 0 | |
smoothMutations_LabelProp | 7.702 | 0.922 | 32.701 | |
sparsify2 | 1.002 | 0.184 | 1.186 | |
sparsify3 | 2.395 | 0.291 | 2.686 | |
splitTestTrain | 0.020 | 0.000 | 0.021 | |
splitTestTrain_resampling | 0.006 | 0.000 | 0.006 | |
tSNEPlotter | 0.886 | 0.040 | 0.926 | |
thresholdSmoothedMutations | 2.418 | 0.123 | 27.310 | |
toymodel | 0.914 | 2.141 | 3.054 | |
updateNets | 0.009 | 0.000 | 0.009 | |
writeNetsSIF | 0.007 | 0.000 | 0.007 | |
writeQueryBatchFile | 0.004 | 0.000 | 0.004 | |
writeQueryFile | 0.008 | 0.000 | 0.008 | |
xpr | 0.041 | 0.024 | 0.065 | |