Back to Multiple platform build/check report for BioC 3.17:   simplified   long
ABCDEFGHIJKLMNOPQRSTUVWX[Y]Z

This page was generated on 2023-09-27 11:36:09 -0400 (Wed, 27 Sep 2023).

HostnameOSArch (*)R versionInstalled pkgs
nebbiolo1Linux (Ubuntu 22.04.2 LTS)x86_644.3.1 (2023-06-16) -- "Beagle Scouts" 4625
palomino3Windows Server 2022 Datacenterx644.3.1 (2023-06-16 ucrt) -- "Beagle Scouts" 4378
merida1macOS 12.6.4 Montereyx86_644.3.1 (2023-06-16) -- "Beagle Scouts" 4394
Click on any hostname to see more info about the system (e.g. compilers)      (*) as reported by 'uname -p', except on Windows and Mac OS X

Package 2223/2230HostnameOS / ArchINSTALLBUILDCHECKBUILD BIN
YAPSA 1.26.8  (landing page)
Zuguang Gu
Snapshot Date: 2023-09-26 14:00:14 -0400 (Tue, 26 Sep 2023)
git_url: https://git.bioconductor.org/packages/YAPSA
git_branch: RELEASE_3_17
git_last_commit: 89c3669
git_last_commit_date: 2023-09-25 09:19:07 -0400 (Mon, 25 Sep 2023)
nebbiolo1Linux (Ubuntu 22.04.2 LTS) / x86_64  OK    OK    OK  UNNEEDED, same version is already published
palomino3Windows Server 2022 Datacenter / x64  OK    OK    OK    OK  UNNEEDED, same version is already published
merida1macOS 12.6.4 Monterey / x86_64  OK    OK    OK    OK  UNNEEDED, same version is already published

CHECK results for YAPSA on nebbiolo1


To the developers/maintainers of the YAPSA package:
- Allow up to 24 hours (and sometimes 48 hours) for your latest push to git@git.bioconductor.org:packages/YAPSA.git to reflect on this report. See Troubleshooting Build Report for more information.
- Use the following Renviron settings to reproduce errors and warnings.
- If 'R CMD check' started to fail recently on the Linux builder(s) over a missing dependency, add the missing dependency to 'Suggests:' in your DESCRIPTION file. See Renviron.bioc for more information.

raw results


Summary

Package: YAPSA
Version: 1.26.8
Command: /home/biocbuild/bbs-3.17-bioc/R/bin/R CMD check --install=check:YAPSA.install-out.txt --library=/home/biocbuild/bbs-3.17-bioc/R/site-library --timings YAPSA_1.26.8.tar.gz
StartedAt: 2023-09-27 02:19:36 -0400 (Wed, 27 Sep 2023)
EndedAt: 2023-09-27 02:31:30 -0400 (Wed, 27 Sep 2023)
EllapsedTime: 714.4 seconds
RetCode: 0
Status:   OK  
CheckDir: YAPSA.Rcheck
Warnings: 0

Command output

##############################################################################
##############################################################################
###
### Running command:
###
###   /home/biocbuild/bbs-3.17-bioc/R/bin/R CMD check --install=check:YAPSA.install-out.txt --library=/home/biocbuild/bbs-3.17-bioc/R/site-library --timings YAPSA_1.26.8.tar.gz
###
##############################################################################
##############################################################################


* using log directory ‘/home/biocbuild/bbs-3.17-bioc/meat/YAPSA.Rcheck’
* using R version 4.3.1 (2023-06-16)
* using platform: x86_64-pc-linux-gnu (64-bit)
* R was compiled by
    gcc (Ubuntu 11.3.0-1ubuntu1~22.04.1) 11.3.0
    GNU Fortran (Ubuntu 11.3.0-1ubuntu1~22.04.1) 11.3.0
* running under: Ubuntu 22.04.3 LTS
* using session charset: UTF-8
* checking for file ‘YAPSA/DESCRIPTION’ ... OK
* checking extension type ... Package
* this is package ‘YAPSA’ version ‘1.26.8’
* package encoding: UTF-8
* checking package namespace information ... OK
* checking package dependencies ... OK
* checking if this is a source package ... OK
* checking if there is a namespace ... OK
* checking for hidden files and directories ... OK
* checking for portable file names ... OK
* checking for sufficient/correct file permissions ... OK
* checking whether package ‘YAPSA’ can be installed ... OK
* checking installed package size ... OK
* checking package directory ... OK
* checking ‘build’ directory ... OK
* checking DESCRIPTION meta-information ... OK
* checking top-level files ... OK
* checking for left-over files ... OK
* checking index information ... OK
* checking package subdirectories ... OK
* checking R files for non-ASCII characters ... OK
* checking R files for syntax errors ... OK
* checking whether the package can be loaded ... OK
* checking whether the package can be loaded with stated dependencies ... OK
* checking whether the package can be unloaded cleanly ... OK
* checking whether the namespace can be loaded with stated dependencies ... OK
* checking whether the namespace can be unloaded cleanly ... OK
* checking loading without being on the library search path ... OK
* checking dependencies in R code ... OK
* checking S3 generic/method consistency ... OK
* checking replacement functions ... OK
* checking foreign function calls ... OK
* checking R code for possible problems ... OK
* checking Rd files ... OK
* checking Rd metadata ... OK
* checking Rd cross-references ... OK
* checking for missing documentation entries ... OK
* checking for code/documentation mismatches ... OK
* checking Rd \usage sections ... OK
* checking Rd contents ... OK
* checking for unstated dependencies in examples ... OK
* checking contents of ‘data’ directory ... OK
* checking data for non-ASCII characters ... OK
* checking data for ASCII and uncompressed saves ... OK
* checking files in ‘vignettes’ ... OK
* checking examples ... OK
Examples with CPU (user + system) or elapsed time > 5s
                                          user system elapsed
confidence_indel_only_calulation        21.523  0.724  22.248
create_indel_mutation_catalogue_from_df 12.663  0.780  13.444
build_gene_list_for_pathway              6.461  0.916  28.374
* checking for unstated dependencies in ‘tests’ ... OK
* checking tests ...
  Running ‘testthat.R’
 OK
* checking for unstated dependencies in vignettes ... OK
* checking package vignettes in ‘inst/doc’ ... OK
* checking running R code from vignettes ...
  ‘YAPSA.Rmd’ using ‘UTF-8’... OK
  ‘vignette_confidenceIntervals.Rmd’ using ‘UTF-8’... OK
  ‘vignette_exomes.Rmd’ using ‘UTF-8’... OK
  ‘vignette_signature_specific_cutoffs.Rmd’ using ‘UTF-8’... OK
  ‘vignette_stratifiedAnalysis.Rmd’ using ‘UTF-8’... OK
  ‘vignettes_Indel.Rmd’ using ‘UTF-8’... OK
 NONE
* checking re-building of vignette outputs ... OK
* checking PDF version of manual ... OK
* DONE

Status: OK


Installation output

YAPSA.Rcheck/00install.out

##############################################################################
##############################################################################
###
### Running command:
###
###   /home/biocbuild/bbs-3.17-bioc/R/bin/R CMD INSTALL YAPSA
###
##############################################################################
##############################################################################


* installing to library ‘/home/biocbuild/bbs-3.17-bioc/R/site-library’
* installing *source* package ‘YAPSA’ ...
** using staged installation
** R
** data
** inst
** byte-compile and prepare package for lazy loading
** help
*** installing help indices
** building package indices
** installing vignettes
** testing if installed package can be loaded from temporary location
** testing if installed package can be loaded from final location
** testing if installed package keeps a record of temporary installation path
* DONE (YAPSA)

Tests output

YAPSA.Rcheck/tests/testthat.Rout


R version 4.3.1 (2023-06-16) -- "Beagle Scouts"
Copyright (C) 2023 The R Foundation for Statistical Computing
Platform: x86_64-pc-linux-gnu (64-bit)

R is free software and comes with ABSOLUTELY NO WARRANTY.
You are welcome to redistribute it under certain conditions.
Type 'license()' or 'licence()' for distribution details.

R is a collaborative project with many contributors.
Type 'contributors()' for more information and
'citation()' on how to cite R or R packages in publications.

Type 'demo()' for some demos, 'help()' for on-line help, or
'help.start()' for an HTML browser interface to help.
Type 'q()' to quit R.

> Sys.setenv(R_TESTS=" ")
> library(testthat)
> library(YAPSA)
Loading required package: GenomicRanges
Loading required package: stats4
Loading required package: BiocGenerics

Attaching package: 'BiocGenerics'

The following objects are masked from 'package:stats':

    IQR, mad, sd, var, xtabs

The following objects are masked from 'package:base':

    Filter, Find, Map, Position, Reduce, anyDuplicated, aperm, append,
    as.data.frame, basename, cbind, colnames, dirname, do.call,
    duplicated, eval, evalq, get, grep, grepl, intersect, is.unsorted,
    lapply, mapply, match, mget, order, paste, pmax, pmax.int, pmin,
    pmin.int, rank, rbind, rownames, sapply, setdiff, sort, table,
    tapply, union, unique, unsplit, which.max, which.min

Loading required package: S4Vectors

Attaching package: 'S4Vectors'

The following object is masked from 'package:utils':

    findMatches

The following objects are masked from 'package:base':

    I, expand.grid, unname

Loading required package: IRanges
Loading required package: GenomeInfoDb
Loading required package: ggplot2
Loading required package: grid
> 
> test_check("YAPSA")
YAPSA:::shapiro_if_possible::error: Non-numeric inputYAPSA:::makeVRangesFromDataFrame::warning:strand  information missing, set to "+".
YAPSA:::makeVRangesFromDataFrame::in_PID.field found.  Retrieving PID information.
YAPSA:::makeVRangesFromDataFrame::in_subgroup.field found.  Retrieving subgroup information.
[ FAIL 0 | WARN 1 | SKIP 0 | PASS 62 ]

[ FAIL 0 | WARN 1 | SKIP 0 | PASS 62 ]
> 
> proc.time()
   user  system elapsed 
 16.757   0.937  17.688 

Example timings

YAPSA.Rcheck/YAPSA-Ex.timings

nameusersystemelapsed
GenomeOfNl_raw0.0050.0040.009
LCD0.0080.0000.008
LCD_complex_cutoff000
MutCat_indel_df0.0040.0000.004
SMC000
SMC_perPID000
add_annotation0.0000.0000.001
add_as_fist_to_list000
aggregate_exposures_by_category000
annotate_intermut_dist_PID0.0150.0030.018
annotate_intermut_dist_cohort0.0450.0040.050
annotation_exposures_barplot000
annotation_exposures_list_barplot0.0000.0000.001
annotation_heatmap_exposures000
attribute_nucleotide_exchanges0.0000.0030.003
attribute_sequence_contex_indel0.5180.0350.554
attribution_of_indels0.4570.0680.524
build_gene_list_for_pathway 6.461 0.91628.374
classify_indels0.0000.0000.001
compare_SMCs0.0000.0010.000
compare_exposures000
compare_expousre_sets0.0060.0000.006
compare_sets0.0040.0000.004
compare_to_catalogues000
complex_heatmap_exposures0.9750.0881.063
computeLogLik000
compute_comparison_stat_df000
confIntExp1.3560.4201.783
confidence_indel_calulation0.0010.0000.002
confidence_indel_only_calulation21.523 0.72422.248
correct_rounded000
cosineDist0.0000.0000.001
cosineMatchDist0.0020.0000.002
create_indel_mut_cat_from_df0.4090.0280.438
create_indel_mutation_catalogue_from_df12.663 0.78013.444
create_mutation_catalogue_from_VR1.1440.1881.332
create_mutation_catalogue_from_df0.7830.1820.965
cut_breaks_as_intervals0.1420.0120.155
deriveSigInd_df000
disambiguateVector000
enrichSigs000
exampleYAPSA0.0810.0080.089
exome_mutCatRaw_df0.0040.0080.012
exposures_barplot2.6430.0522.696
extract_names_from_gene_list000
find_affected_PIDs0.0010.0000.000
getSequenceContext0.1120.0080.120
get_extreme_PIDs0.0080.0000.008
hclust_exposures0.0060.0000.005
logLikelihood0.8500.1521.001
lymphomaNature2013_mutCat_df0.0000.0050.005
makeVRangesFromDataFrame0.1120.0020.113
make_catalogue_strata_df000
make_comparison_matrix0.0820.0070.089
make_strata_df000
make_subgroups_df0.0340.0040.037
melt_exposures000
merge_exposures000
normalizeMotifs_otherRownames0.0010.0000.000
normalize_df_per_dim0.0090.0000.009
plotExchangeSpectra000
plotExchangeSpectra_indel1.2780.0191.297
plotExposuresConfidence000
plotExposuresConfidence_indel000
plot_SMC000
plot_exposures0.6120.0040.616
plot_strata000
read_entry0.0000.0010.001
relateSigs000
repeat_df0.0010.0010.002
round_precision0.0010.0000.000
run_SMC4.5050.3844.890
run_annotate_vcf_pl000
run_comparison_catalogues000
run_comparison_general000
run_kmer_frequency_correction0.0010.0000.000
run_kmer_frequency_normalization0.0000.0010.000
run_plot_strata_general000
shapiro_if_possible0.0000.0010.001
split_exposures_by_subgroups000
stat_plot_subgroups000
stat_test_SMC0.0000.0010.000
stat_test_subgroups000
stderrmean000
sum_over_list_of_df0.0000.0010.002
testSigs000
test_exposureAffected000
test_gene_list_in_exposures0.0000.0000.001
transform_rownames_R_to_MATLAB000
translate_to_hg190.0040.0000.003
trellis_rainfall_plot1.7240.0401.764
variateExp2.4470.2482.695
variateExpSingle0.8490.1561.005