Back to Multiple platform build/check report for BioC 3.17:   simplified   long
ABCDEFGHIJKLMNOPQR[S]TUVWXYZ

This page was generated on 2023-10-04 11:37:49 -0400 (Wed, 04 Oct 2023).

HostnameOSArch (*)R versionInstalled pkgs
nebbiolo1Linux (Ubuntu 22.04.2 LTS)x86_644.3.1 (2023-06-16) -- "Beagle Scouts" 4626
palomino3Windows Server 2022 Datacenterx644.3.1 (2023-06-16 ucrt) -- "Beagle Scouts" 4379
merida1macOS 12.6.4 Montereyx86_644.3.1 (2023-06-16) -- "Beagle Scouts" 4395
Click on any hostname to see more info about the system (e.g. compilers)      (*) as reported by 'uname -p', except on Windows and Mac OS X

Package 1838/2230HostnameOS / ArchINSTALLBUILDCHECKBUILD BIN
scFeatures 1.0.0  (landing page)
Yue Cao
Snapshot Date: 2023-10-03 14:00:15 -0400 (Tue, 03 Oct 2023)
git_url: https://git.bioconductor.org/packages/scFeatures
git_branch: RELEASE_3_17
git_last_commit: b8b24b5
git_last_commit_date: 2023-04-25 11:42:27 -0400 (Tue, 25 Apr 2023)
nebbiolo1Linux (Ubuntu 22.04.2 LTS) / x86_64  OK    OK    OK  UNNEEDED, same version is already published
palomino3Windows Server 2022 Datacenter / x64  OK    OK    OK    OK  UNNEEDED, same version is already published
merida1macOS 12.6.4 Monterey / x86_64  OK    OK    OK    OK  UNNEEDED, same version is already published

CHECK results for scFeatures on merida1


To the developers/maintainers of the scFeatures package:
- Allow up to 24 hours (and sometimes 48 hours) for your latest push to git@git.bioconductor.org:packages/scFeatures.git to reflect on this report. See Troubleshooting Build Report for more information.
- Use the following Renviron settings to reproduce errors and warnings.
- If 'R CMD check' started to fail recently on the Linux builder(s) over a missing dependency, add the missing dependency to 'Suggests:' in your DESCRIPTION file. See Renviron.bioc for more information.

raw results


Summary

Package: scFeatures
Version: 1.0.0
Command: /Library/Frameworks/R.framework/Resources/bin/R CMD check --install=check:scFeatures.install-out.txt --library=/Library/Frameworks/R.framework/Resources/library --no-vignettes --timings scFeatures_1.0.0.tar.gz
StartedAt: 2023-10-04 06:40:28 -0400 (Wed, 04 Oct 2023)
EndedAt: 2023-10-04 07:00:50 -0400 (Wed, 04 Oct 2023)
EllapsedTime: 1221.7 seconds
RetCode: 0
Status:   OK  
CheckDir: scFeatures.Rcheck
Warnings: 0

Command output

##############################################################################
##############################################################################
###
### Running command:
###
###   /Library/Frameworks/R.framework/Resources/bin/R CMD check --install=check:scFeatures.install-out.txt --library=/Library/Frameworks/R.framework/Resources/library --no-vignettes --timings scFeatures_1.0.0.tar.gz
###
##############################################################################
##############################################################################


* using log directory ‘/Users/biocbuild/bbs-3.17-bioc/meat/scFeatures.Rcheck’
* using R version 4.3.1 (2023-06-16)
* using platform: x86_64-apple-darwin20 (64-bit)
* R was compiled by
    Apple clang version 14.0.3 (clang-1403.0.22.14.1)
    GNU Fortran (GCC) 12.2.0
* running under: macOS Monterey 12.6.4
* using session charset: UTF-8
* using option ‘--no-vignettes’
* checking for file ‘scFeatures/DESCRIPTION’ ... OK
* this is package ‘scFeatures’ version ‘1.0.0’
* package encoding: UTF-8
* checking package namespace information ... OK
* checking package dependencies ... OK
* checking if this is a source package ... OK
* checking if there is a namespace ... OK
* checking for hidden files and directories ... OK
* checking for portable file names ... OK
* checking for sufficient/correct file permissions ... OK
* checking whether package ‘scFeatures’ can be installed ... OK
* checking installed package size ... OK
* checking package directory ... OK
* checking ‘build’ directory ... OK
* checking DESCRIPTION meta-information ... OK
* checking top-level files ... OK
* checking for left-over files ... OK
* checking index information ... OK
* checking package subdirectories ... OK
* checking R files for non-ASCII characters ... OK
* checking R files for syntax errors ... OK
* checking whether the package can be loaded ... OK
* checking whether the package can be loaded with stated dependencies ... OK
* checking whether the package can be unloaded cleanly ... OK
* checking whether the namespace can be loaded with stated dependencies ... OK
* checking whether the namespace can be unloaded cleanly ... OK
* checking dependencies in R code ... NOTE
Namespace in Imports field not imported from: 'DT'
  All declared Imports should be used.
* checking S3 generic/method consistency ... OK
* checking replacement functions ... OK
* checking foreign function calls ... OK
* checking R code for possible problems ... NOTE
helper_CCI: no visible binding for global variable 'LRdb'
helper_CCI: no visible global function definition for 'capture.output'
run_pathway_gsva: no visible global function definition for
  'capture.output'
Undefined global functions or variables:
  LRdb capture.output
Consider adding
  importFrom("utils", "capture.output")
to your NAMESPACE file.
* checking Rd files ... OK
* checking Rd metadata ... OK
* checking Rd cross-references ... OK
* checking for missing documentation entries ... OK
* checking for code/documentation mismatches ... OK
* checking Rd \usage sections ... OK
* checking Rd contents ... OK
* checking for unstated dependencies in examples ... OK
* checking contents of ‘data’ directory ... OK
* checking data for non-ASCII characters ... OK
* checking data for ASCII and uncompressed saves ... OK
* checking files in ‘vignettes’ ... OK
* checking examples ... OK
Examples with CPU (user + system) or elapsed time > 5s
                               user system elapsed
run_pathway_prop             38.352  0.819  50.044
run_pathway_mean             20.090  0.770  26.947
run_pathway_gsva             15.747  0.931  21.582
run_gene_mean_celltype        9.654  0.075  12.914
run_gene_prop_celltype        9.622  0.055  13.022
run_gene_mean                 9.056  0.068  12.675
run_gene_cor_celltype         8.295  0.122  11.511
run_association_study_report  7.546  0.689  10.111
run_gene_cor                  5.780  0.204   7.586
run_gene_prop                 5.402  0.024   7.096
run_CCI                       4.615  0.383   6.377
* checking for unstated dependencies in vignettes ... OK
* checking package vignettes in ‘inst/doc’ ... OK
* checking running R code from vignettes ... SKIPPED
* checking re-building of vignette outputs ... SKIPPED
* checking PDF version of manual ... OK
* DONE

Status: 2 NOTEs
See
  ‘/Users/biocbuild/bbs-3.17-bioc/meat/scFeatures.Rcheck/00check.log’
for details.



Installation output

scFeatures.Rcheck/00install.out

##############################################################################
##############################################################################
###
### Running command:
###
###   /Library/Frameworks/R.framework/Resources/bin/R CMD INSTALL scFeatures
###
##############################################################################
##############################################################################


* installing to library ‘/Library/Frameworks/R.framework/Versions/4.3-x86_64/Resources/library’
* installing *source* package ‘scFeatures’ ...
** using staged installation
** R
** data
** inst
** byte-compile and prepare package for lazy loading
** help
*** installing help indices
** building package indices
** installing vignettes
** testing if installed package can be loaded from temporary location
** testing if installed package can be loaded from final location
** testing if installed package keeps a record of temporary installation path
* DONE (scFeatures)

Tests output


Example timings

scFeatures.Rcheck/scFeatures-Ex.timings

nameusersystemelapsed
get_num_cell_per_spot0.3310.0230.482
makeSeurat1.5580.0271.997
process_data0.8320.0361.102
remove_mito_ribo1.0680.2701.287
run_CCI4.6150.3836.377
run_L_function1.9420.0382.522
run_Morans_I3.1190.0374.023
run_association_study_report 7.546 0.68910.111
run_celltype_interaction1.6700.0102.069
run_gene_cor5.7800.2047.586
run_gene_cor_celltype 8.295 0.12211.511
run_gene_mean 9.056 0.06812.675
run_gene_mean_celltype 9.654 0.07512.914
run_gene_prop5.4020.0247.096
run_gene_prop_celltype 9.622 0.05513.022
run_nn_correlation2.0090.0202.648
run_pathway_gsva15.747 0.93121.582
run_pathway_mean20.090 0.77026.947
run_pathway_prop38.352 0.81950.044
run_proportion_logit0.6280.0120.753
run_proportion_ratio0.8650.0101.053
run_proportion_raw0.6770.0190.887
scFeatures1.2560.1210.850