Back to Multiple platform build/check report for BioC 3.17:   simplified   long
AB[C]DEFGHIJKLMNOPQRSTUVWXYZ

This page was generated on 2023-03-22 11:06:34 -0400 (Wed, 22 Mar 2023).

HostnameOSArch (*)R versionInstalled pkgs
nebbiolo1Linux (Ubuntu 22.04.1 LTS)x86_64R Under development (unstable) (2023-03-16 r83996) -- "Unsuffered Consequences" 4508
palomino3Windows Server 2022 Datacenterx64R Under development (unstable) (2023-03-15 r83984 ucrt) -- "Unsuffered Consequences" 4293
merida1macOS 10.14.6 Mojavex86_64R Under development (unstable) (2023-03-16 r83985) -- "Unsuffered Consequences" 4290
Click on any hostname to see more info about the system (e.g. compilers)      (*) as reported by 'uname -p', except on Windows and Mac OS X

CHECK results for crisprBwa on merida1


To the developers/maintainers of the crisprBwa package:
- Please allow up to 24 hours (and sometimes 48 hours) for your latest push to git@git.bioconductor.org:packages/crisprBwa.git to
reflect on this report. See How and When does the builder pull? When will my changes propagate? for more information.
- Make sure to use the following settings in order to reproduce any error or warning you see on this page.

raw results

Package 444/2189HostnameOS / ArchINSTALLBUILDCHECKBUILD BIN
crisprBwa 1.3.1  (landing page)
Jean-Philippe Fortin
Snapshot Date: 2023-03-21 14:00:22 -0400 (Tue, 21 Mar 2023)
git_url: https://git.bioconductor.org/packages/crisprBwa
git_branch: master
git_last_commit: 4a6b7b3
git_last_commit_date: 2023-02-28 10:39:02 -0400 (Tue, 28 Feb 2023)
nebbiolo1Linux (Ubuntu 22.04.1 LTS) / x86_64  OK    OK    OK  UNNEEDED, same version is already published
palomino3Windows Server 2022 Datacenter / x64... NOT SUPPORTED ...
merida1macOS 10.14.6 Mojave / x86_64  OK    OK    OK    OK  UNNEEDED, same version is already published

Summary

Package: crisprBwa
Version: 1.3.1
Command: /Library/Frameworks/R.framework/Resources/bin/R CMD check --install=check:crisprBwa.install-out.txt --library=/Library/Frameworks/R.framework/Resources/library --no-vignettes --timings crisprBwa_1.3.1.tar.gz
StartedAt: 2023-03-22 00:16:03 -0400 (Wed, 22 Mar 2023)
EndedAt: 2023-03-22 00:25:46 -0400 (Wed, 22 Mar 2023)
EllapsedTime: 582.9 seconds
RetCode: 0
Status:   OK  
CheckDir: crisprBwa.Rcheck
Warnings: 0

Command output

##############################################################################
##############################################################################
###
### Running command:
###
###   /Library/Frameworks/R.framework/Resources/bin/R CMD check --install=check:crisprBwa.install-out.txt --library=/Library/Frameworks/R.framework/Resources/library --no-vignettes --timings crisprBwa_1.3.1.tar.gz
###
##############################################################################
##############################################################################


* using log directory ‘/Users/biocbuild/bbs-3.17-bioc/meat/crisprBwa.Rcheck’
* using R Under development (unstable) (2023-03-16 r83985)
* using platform: x86_64-apple-darwin17.0 (64-bit)
* R was compiled by
    Apple clang version 12.0.0 (clang-1200.0.32.29)
    GNU Fortran (GCC) 8.2.0
* running under: macOS Mojave 10.14.6
* using session charset: UTF-8
* using option ‘--no-vignettes’
* checking for file ‘crisprBwa/DESCRIPTION’ ... OK
* this is package ‘crisprBwa’ version ‘1.3.1’
* package encoding: UTF-8
* checking package namespace information ... OK
* checking package dependencies ... OK
* checking if this is a source package ... OK
* checking if there is a namespace ... OK
* checking for hidden files and directories ... NOTE
Found the following hidden files and directories:
  .BBSoptions
These were most likely included in error. See section ‘Package
structure’ in the ‘Writing R Extensions’ manual.
* checking for portable file names ... OK
* checking for sufficient/correct file permissions ... OK
* checking whether package ‘crisprBwa’ can be installed ... OK
* checking installed package size ... OK
* checking package directory ... OK
* checking ‘build’ directory ... OK
* checking DESCRIPTION meta-information ... OK
* checking top-level files ... OK
* checking for left-over files ... OK
* checking index information ... OK
* checking package subdirectories ... OK
* checking R files for non-ASCII characters ... OK
* checking R files for syntax errors ... OK
* checking whether the package can be loaded ... OK
* checking whether the package can be loaded with stated dependencies ... OK
* checking whether the package can be unloaded cleanly ... OK
* checking whether the namespace can be loaded with stated dependencies ... OK
* checking whether the namespace can be unloaded cleanly ... OK
* checking dependencies in R code ... OK
* checking S3 generic/method consistency ... OK
* checking replacement functions ... OK
* checking foreign function calls ... OK
* checking R code for possible problems ... OK
* checking Rd files ... OK
* checking Rd metadata ... OK
* checking Rd cross-references ... OK
* checking for missing documentation entries ... OK
* checking for code/documentation mismatches ... OK
* checking Rd \usage sections ... OK
* checking Rd contents ... OK
* checking for unstated dependencies in examples ... OK
* checking files in ‘vignettes’ ... OK
* checking examples ... OK
* checking for unstated dependencies in ‘tests’ ... OK
* checking tests ...
  Running ‘testthat.R’
 OK
* checking for unstated dependencies in vignettes ... OK
* checking package vignettes in ‘inst/doc’ ... OK
* checking running R code from vignettes ... SKIPPED
* checking re-building of vignette outputs ... SKIPPED
* checking PDF version of manual ... OK
* DONE

Status: 1 NOTE
See
  ‘/Users/biocbuild/bbs-3.17-bioc/meat/crisprBwa.Rcheck/00check.log’
for details.



Installation output

crisprBwa.Rcheck/00install.out

##############################################################################
##############################################################################
###
### Running command:
###
###   /Library/Frameworks/R.framework/Resources/bin/R CMD INSTALL crisprBwa
###
##############################################################################
##############################################################################


* installing to library ‘/Library/Frameworks/R.framework/Versions/4.3/Resources/library’
* installing *source* package ‘crisprBwa’ ...
** using staged installation
** R
** inst
** byte-compile and prepare package for lazy loading
** help
*** installing help indices
** building package indices
** installing vignettes
** testing if installed package can be loaded from temporary location
** testing if installed package can be loaded from final location
** testing if installed package keeps a record of temporary installation path
* DONE (crisprBwa)

Tests output

crisprBwa.Rcheck/tests/testthat.Rout


R Under development (unstable) (2023-03-16 r83985) -- "Unsuffered Consequences"
Copyright (C) 2023 The R Foundation for Statistical Computing
Platform: x86_64-apple-darwin17.0 (64-bit)

R is free software and comes with ABSOLUTELY NO WARRANTY.
You are welcome to redistribute it under certain conditions.
Type 'license()' or 'licence()' for distribution details.

R is a collaborative project with many contributors.
Type 'contributors()' for more information and
'citation()' on how to cite R or R packages in publications.

Type 'demo()' for some demos, 'help()' for on-line help, or
'help.start()' for an HTML browser interface to help.
Type 'q()' to quit R.

> library(testthat)
> library(crisprBwa)
> 
> test_check("crisprBwa")
[bwa_index] Pack FASTA... 0.00 sec
[bwa_index] Construct BWT for the packed sequence...
[bwa_index] 0.05 seconds elapse.
[bwa_index] Update BWT... 0.00 sec
[bwa_index] Pack forward-only FASTA... 0.00 sec
[bwa_index] Construct SA from BWT and Occ... 0.02 sec
[main] Version: 0.7.17-r1198-dirty
[main] CMD: /Library/Frameworks/R.framework/Versions/4.3/Resources/library/Rbwa/bwa index -p /tmp/Rtmp1gJXSB/chr12 /Library/Frameworks/R.framework/Versions/4.3/Resources/library/crisprBwa/example/chr12.fa
[main] Real time: 0.077 sec; CPU: 0.082 sec
[bwa_aln_core] calculate SA coordinate... 0.00 sec
[bwa_aln_core] write to the disk... 0.00 sec
[bwa_aln_core] 3 sequences have been processed.
[main] Version: 0.7.17-r1198-dirty
[main] CMD: /Library/Frameworks/R.framework/Versions/4.3/Resources/library/Rbwa/bwa aln -N -n 0 -l 36 -o 0 /tmp/Rtmp1gJXSB/chr12 /tmp/Rtmp1gJXSB/file14b6e5da90e43
[main] Real time: 0.043 sec; CPU: 0.047 sec
[bwa_aln_core] convert to sequence coordinate... 0.00 sec
[bwa_aln_core] refine gapped alignments... 0.00 sec
[bwa_aln_core] print alignments... 0.00 sec
[bwa_aln_core] 3 sequences have been processed.
[main] Version: 0.7.17-r1198-dirty
[main] CMD: /Library/Frameworks/R.framework/Versions/4.3/Resources/library/Rbwa/bwa samse -n 1000000000 /tmp/Rtmp1gJXSB/chr12 /tmp/Rtmp1gJXSB/file14b6e5da90e43.sai /tmp/Rtmp1gJXSB/file14b6e5da90e43
[main] Real time: 0.044 sec; CPU: 0.048 sec
[bwa_aln_core] calculate SA coordinate... 0.00 sec
[bwa_aln_core] write to the disk... 0.00 sec
[bwa_aln_core] 3 sequences have been processed.
[main] Version: 0.7.17-r1198-dirty
[main] CMD: /Library/Frameworks/R.framework/Versions/4.3/Resources/library/Rbwa/bwa aln -N -n 1 -l 36 -o 0 /tmp/Rtmp1gJXSB/chr12 /tmp/Rtmp1gJXSB/file14b6e5e780bf
[main] Real time: 0.046 sec; CPU: 0.049 sec
[bwa_aln_core] convert to sequence coordinate... 0.00 sec
[bwa_aln_core] refine gapped alignments... 0.00 sec
[bwa_aln_core] print alignments... 0.00 sec
[bwa_aln_core] 3 sequences have been processed.
[main] Version: 0.7.17-r1198-dirty
[main] CMD: /Library/Frameworks/R.framework/Versions/4.3/Resources/library/Rbwa/bwa samse -n 1000000000 /tmp/Rtmp1gJXSB/chr12 /tmp/Rtmp1gJXSB/file14b6e5e780bf.sai /tmp/Rtmp1gJXSB/file14b6e5e780bf
[main] Real time: 0.045 sec; CPU: 0.048 sec
[bwa_aln_core] calculate SA coordinate... 0.00 sec
[bwa_aln_core] write to the disk... 0.00 sec
[bwa_aln_core] 3 sequences have been processed.
[main] Version: 0.7.17-r1198-dirty
[main] CMD: /Library/Frameworks/R.framework/Versions/4.3/Resources/library/Rbwa/bwa aln -N -n 2 -l 36 -o 0 /tmp/Rtmp1gJXSB/chr12 /tmp/Rtmp1gJXSB/file14b6e21b57ea0
[main] Real time: 0.045 sec; CPU: 0.048 sec
[bwa_aln_core] convert to sequence coordinate... 0.00 sec
[bwa_aln_core] refine gapped alignments... 0.00 sec
[bwa_aln_core] print alignments... 0.00 sec
[bwa_aln_core] 3 sequences have been processed.
[main] Version: 0.7.17-r1198-dirty
[main] CMD: /Library/Frameworks/R.framework/Versions/4.3/Resources/library/Rbwa/bwa samse -n 1000000000 /tmp/Rtmp1gJXSB/chr12 /tmp/Rtmp1gJXSB/file14b6e21b57ea0.sai /tmp/Rtmp1gJXSB/file14b6e21b57ea0
[main] Real time: 0.045 sec; CPU: 0.048 sec
[bwa_aln_core] calculate SA coordinate... 0.00 sec
[bwa_aln_core] write to the disk... 0.00 sec
[bwa_aln_core] 3 sequences have been processed.
[main] Version: 0.7.17-r1198-dirty
[main] CMD: /Library/Frameworks/R.framework/Versions/4.3/Resources/library/Rbwa/bwa aln -N -n 3 -l 36 -o 0 /tmp/Rtmp1gJXSB/chr12 /tmp/Rtmp1gJXSB/file14b6e128c4baa
[main] Real time: 0.047 sec; CPU: 0.050 sec
[bwa_aln_core] convert to sequence coordinate... 0.00 sec
[bwa_aln_core] refine gapped alignments... 0.00 sec
[bwa_aln_core] print alignments... 0.00 sec
[bwa_aln_core] 3 sequences have been processed.
[main] Version: 0.7.17-r1198-dirty
[main] CMD: /Library/Frameworks/R.framework/Versions/4.3/Resources/library/Rbwa/bwa samse -n 1000000000 /tmp/Rtmp1gJXSB/chr12 /tmp/Rtmp1gJXSB/file14b6e128c4baa.sai /tmp/Rtmp1gJXSB/file14b6e128c4baa
[main] Real time: 0.045 sec; CPU: 0.048 sec
[bwa_aln_core] calculate SA coordinate... 0.00 sec
[bwa_aln_core] write to the disk... 0.00 sec
[bwa_aln_core] 1 sequences have been processed.
[main] Version: 0.7.17-r1198-dirty
[main] CMD: /Library/Frameworks/R.framework/Versions/4.3/Resources/library/Rbwa/bwa aln -N -n 0 -l 144 -o 0 /tmp/Rtmp1gJXSB/chr12 /tmp/Rtmp1gJXSB/file14b6e38bb8f69
[main] Real time: 0.049 sec; CPU: 0.052 sec
[bwa_aln_core] convert to sequence coordinate... 0.00 sec
[bwa_aln_core] refine gapped alignments... 0.00 sec
[bwa_aln_core] print alignments... 0.00 sec
[bwa_aln_core] 1 sequences have been processed.
[main] Version: 0.7.17-r1198-dirty
[main] CMD: /Library/Frameworks/R.framework/Versions/4.3/Resources/library/Rbwa/bwa samse -n 1000000000 /tmp/Rtmp1gJXSB/chr12 /tmp/Rtmp1gJXSB/file14b6e38bb8f69.sai /tmp/Rtmp1gJXSB/file14b6e38bb8f69
[main] Real time: 0.045 sec; CPU: 0.048 sec
[bwa_index] Pack FASTA... 0.00 sec
[bwa_index] Construct BWT for the packed sequence...
[bwa_index] 0.05 seconds elapse.
[bwa_index] Update BWT... 0.00 sec
[bwa_index] Pack forward-only FASTA... 0.00 sec
[bwa_index] Construct SA from BWT and Occ... 0.02 sec
[main] Version: 0.7.17-r1198-dirty
[main] CMD: /Library/Frameworks/R.framework/Versions/4.3/Resources/library/Rbwa/bwa index -p /tmp/Rtmp1gJXSB/chr12 /Library/Frameworks/R.framework/Versions/4.3/Resources/library/crisprBwa/example/chr12.fa
[main] Real time: 0.075 sec; CPU: 0.081 sec
[runCrisprBwa] Using BSgenome.Hsapiens.UCSC.hg38 
[runCrisprBwa] Searching for SpCas9 protospacers 
[bwa_aln_core] calculate SA coordinate... 0.00 sec
[bwa_aln_core] write to the disk... 0.00 sec
[bwa_aln_core] 5 sequences have been processed.
[main] Version: 0.7.17-r1198-dirty
[main] CMD: /Library/Frameworks/R.framework/Versions/4.3/Resources/library/Rbwa/bwa aln -N -n 0 -l 60 -o 0 /tmp/Rtmp1gJXSB/chr12 /tmp/Rtmp1gJXSB/file14b6e21c45398
[main] Real time: 0.044 sec; CPU: 0.048 sec
[bwa_aln_core] convert to sequence coordinate... 0.00 sec
[bwa_aln_core] refine gapped alignments... 0.00 sec
[bwa_aln_core] print alignments... 0.00 sec
[bwa_aln_core] 5 sequences have been processed.
[main] Version: 0.7.17-r1198-dirty
[main] CMD: /Library/Frameworks/R.framework/Versions/4.3/Resources/library/Rbwa/bwa samse -n 1000000000 /tmp/Rtmp1gJXSB/chr12 /tmp/Rtmp1gJXSB/file14b6e21c45398.sai /tmp/Rtmp1gJXSB/file14b6e21c45398
[main] Real time: 0.045 sec; CPU: 0.048 sec
[runCrisprBwa] Using BSgenome.Hsapiens.UCSC.hg38 
[runCrisprBwa] Searching for SpCas9 protospacers 
[bwa_aln_core] calculate SA coordinate... 0.00 sec
[bwa_aln_core] write to the disk... 0.00 sec
[bwa_aln_core] 5 sequences have been processed.
[main] Version: 0.7.17-r1198-dirty
[main] CMD: /Library/Frameworks/R.framework/Versions/4.3/Resources/library/Rbwa/bwa aln -N -n 1 -l 60 -o 0 /tmp/Rtmp1gJXSB/chr12 /tmp/Rtmp1gJXSB/file14b6e604c3179
[main] Real time: 0.045 sec; CPU: 0.048 sec
[bwa_aln_core] convert to sequence coordinate... 0.00 sec
[bwa_aln_core] refine gapped alignments... 0.00 sec
[bwa_aln_core] print alignments... 0.00 sec
[bwa_aln_core] 5 sequences have been processed.
[main] Version: 0.7.17-r1198-dirty
[main] CMD: /Library/Frameworks/R.framework/Versions/4.3/Resources/library/Rbwa/bwa samse -n 1000000000 /tmp/Rtmp1gJXSB/chr12 /tmp/Rtmp1gJXSB/file14b6e604c3179.sai /tmp/Rtmp1gJXSB/file14b6e604c3179
[main] Real time: 0.043 sec; CPU: 0.046 sec
[runCrisprBwa] Using BSgenome.Hsapiens.UCSC.hg38 
[runCrisprBwa] Searching for SpCas9 protospacers 
[bwa_aln_core] calculate SA coordinate... 0.00 sec
[bwa_aln_core] write to the disk... 0.00 sec
[bwa_aln_core] 5 sequences have been processed.
[main] Version: 0.7.17-r1198-dirty
[main] CMD: /Library/Frameworks/R.framework/Versions/4.3/Resources/library/Rbwa/bwa aln -N -n 2 -l 60 -o 0 /tmp/Rtmp1gJXSB/chr12 /tmp/Rtmp1gJXSB/file14b6e2a443053
[main] Real time: 0.044 sec; CPU: 0.047 sec
[bwa_aln_core] convert to sequence coordinate... 0.00 sec
[bwa_aln_core] refine gapped alignments... 0.00 sec
[bwa_aln_core] print alignments... 0.00 sec
[bwa_aln_core] 5 sequences have been processed.
[main] Version: 0.7.17-r1198-dirty
[main] CMD: /Library/Frameworks/R.framework/Versions/4.3/Resources/library/Rbwa/bwa samse -n 1000000000 /tmp/Rtmp1gJXSB/chr12 /tmp/Rtmp1gJXSB/file14b6e2a443053.sai /tmp/Rtmp1gJXSB/file14b6e2a443053
[main] Real time: 0.044 sec; CPU: 0.047 sec
[runCrisprBwa] Using BSgenome.Hsapiens.UCSC.hg38 
[runCrisprBwa] Searching for SpCas9 protospacers 
[bwa_aln_core] calculate SA coordinate... 0.00 sec
[bwa_aln_core] write to the disk... 0.00 sec
[bwa_aln_core] 5 sequences have been processed.
[main] Version: 0.7.17-r1198-dirty
[main] CMD: /Library/Frameworks/R.framework/Versions/4.3/Resources/library/Rbwa/bwa aln -N -n 3 -l 60 -o 0 /tmp/Rtmp1gJXSB/chr12 /tmp/Rtmp1gJXSB/file14b6e62c0aed2
[main] Real time: 0.045 sec; CPU: 0.048 sec
[bwa_aln_core] convert to sequence coordinate... 0.00 sec
[bwa_aln_core] refine gapped alignments... 0.00 sec
[bwa_aln_core] print alignments... 0.00 sec
[bwa_aln_core] 5 sequences have been processed.
[main] Version: 0.7.17-r1198-dirty
[main] CMD: /Library/Frameworks/R.framework/Versions/4.3/Resources/library/Rbwa/bwa samse -n 1000000000 /tmp/Rtmp1gJXSB/chr12 /tmp/Rtmp1gJXSB/file14b6e62c0aed2.sai /tmp/Rtmp1gJXSB/file14b6e62c0aed2
[main] Real time: 0.044 sec; CPU: 0.047 sec
[runCrisprBwa] Using BSgenome.Hsapiens.UCSC.hg38 
[runCrisprBwa] Searching for SpCas9 protospacers 
[bwa_aln_core] calculate SA coordinate... 0.00 sec
[bwa_aln_core] write to the disk... 0.00 sec
[bwa_aln_core] 5 sequences have been processed.
[main] Version: 0.7.17-r1198-dirty
[main] CMD: /Library/Frameworks/R.framework/Versions/4.3/Resources/library/Rbwa/bwa aln -N -n 0 -l 60 -o 0 /tmp/Rtmp1gJXSB/chr12 /tmp/Rtmp1gJXSB/file14b6e58158fa4
[main] Real time: 0.043 sec; CPU: 0.047 sec
[bwa_aln_core] convert to sequence coordinate... 0.00 sec
[bwa_aln_core] refine gapped alignments... 0.00 sec
[bwa_aln_core] print alignments... 0.00 sec
[bwa_aln_core] 5 sequences have been processed.
[main] Version: 0.7.17-r1198-dirty
[main] CMD: /Library/Frameworks/R.framework/Versions/4.3/Resources/library/Rbwa/bwa samse -n 1000000000 /tmp/Rtmp1gJXSB/chr12 /tmp/Rtmp1gJXSB/file14b6e58158fa4.sai /tmp/Rtmp1gJXSB/file14b6e58158fa4
[main] Real time: 0.045 sec; CPU: 0.047 sec
[runCrisprBwa] Using BSgenome.Hsapiens.UCSC.hg38 
[runCrisprBwa] Searching for SpCas9 protospacers 
[bwa_aln_core] calculate SA coordinate... 0.00 sec
[bwa_aln_core] write to the disk... 0.00 sec
[bwa_aln_core] 5 sequences have been processed.
[main] Version: 0.7.17-r1198-dirty
[main] CMD: /Library/Frameworks/R.framework/Versions/4.3/Resources/library/Rbwa/bwa aln -N -n 1 -l 60 -o 0 /tmp/Rtmp1gJXSB/chr12 /tmp/Rtmp1gJXSB/file14b6e6f898529
[main] Real time: 0.045 sec; CPU: 0.049 sec
[bwa_aln_core] convert to sequence coordinate... 0.00 sec
[bwa_aln_core] refine gapped alignments... 0.00 sec
[bwa_aln_core] print alignments... 0.00 sec
[bwa_aln_core] 5 sequences have been processed.
[main] Version: 0.7.17-r1198-dirty
[main] CMD: /Library/Frameworks/R.framework/Versions/4.3/Resources/library/Rbwa/bwa samse -n 1000000000 /tmp/Rtmp1gJXSB/chr12 /tmp/Rtmp1gJXSB/file14b6e6f898529.sai /tmp/Rtmp1gJXSB/file14b6e6f898529
[main] Real time: 0.044 sec; CPU: 0.048 sec
[runCrisprBwa] Using BSgenome.Hsapiens.UCSC.hg38 
[runCrisprBwa] Searching for SpCas9 protospacers 
[bwa_aln_core] calculate SA coordinate... 0.00 sec
[bwa_aln_core] write to the disk... 0.00 sec
[bwa_aln_core] 5 sequences have been processed.
[main] Version: 0.7.17-r1198-dirty
[main] CMD: /Library/Frameworks/R.framework/Versions/4.3/Resources/library/Rbwa/bwa aln -N -n 2 -l 60 -o 0 /tmp/Rtmp1gJXSB/chr12 /tmp/Rtmp1gJXSB/file14b6e2d857ff4
[main] Real time: 0.044 sec; CPU: 0.047 sec
[bwa_aln_core] convert to sequence coordinate... 0.00 sec
[bwa_aln_core] refine gapped alignments... 0.00 sec
[bwa_aln_core] print alignments... 0.00 sec
[bwa_aln_core] 5 sequences have been processed.
[main] Version: 0.7.17-r1198-dirty
[main] CMD: /Library/Frameworks/R.framework/Versions/4.3/Resources/library/Rbwa/bwa samse -n 1000000000 /tmp/Rtmp1gJXSB/chr12 /tmp/Rtmp1gJXSB/file14b6e2d857ff4.sai /tmp/Rtmp1gJXSB/file14b6e2d857ff4
[main] Real time: 0.046 sec; CPU: 0.049 sec
[runCrisprBwa] Using BSgenome.Hsapiens.UCSC.hg38 
[runCrisprBwa] Searching for SpCas9 protospacers 
[bwa_aln_core] calculate SA coordinate... 0.00 sec
[bwa_aln_core] write to the disk... 0.00 sec
[bwa_aln_core] 5 sequences have been processed.
[main] Version: 0.7.17-r1198-dirty
[main] CMD: /Library/Frameworks/R.framework/Versions/4.3/Resources/library/Rbwa/bwa aln -N -n 3 -l 60 -o 0 /tmp/Rtmp1gJXSB/chr12 /tmp/Rtmp1gJXSB/file14b6e17938385
[main] Real time: 0.045 sec; CPU: 0.048 sec
[bwa_aln_core] convert to sequence coordinate... 0.00 sec
[bwa_aln_core] refine gapped alignments... 0.00 sec
[bwa_aln_core] print alignments... 0.00 sec
[bwa_aln_core] 5 sequences have been processed.
[main] Version: 0.7.17-r1198-dirty
[main] CMD: /Library/Frameworks/R.framework/Versions/4.3/Resources/library/Rbwa/bwa samse -n 1000000000 /tmp/Rtmp1gJXSB/chr12 /tmp/Rtmp1gJXSB/file14b6e17938385.sai /tmp/Rtmp1gJXSB/file14b6e17938385
[main] Real time: 0.043 sec; CPU: 0.046 sec
[runCrisprBwa] Using BSgenome.Hsapiens.UCSC.hg38 
[runCrisprBwa] Searching for SpCas9 protospacers 
[runCrisprBwa] Using BSgenome.Hsapiens.UCSC.hg38 
[runCrisprBwa] Searching for SpCas9 protospacers 
[bwa_aln_core] calculate SA coordinate... 0.00 sec
[bwa_aln_core] write to the disk... 0.00 sec
[bwa_aln_core] 5 sequences have been processed.
[main] Version: 0.7.17-r1198-dirty
[main] CMD: /Library/Frameworks/R.framework/Versions/4.3/Resources/library/Rbwa/bwa aln -N -n 3 -l 51 -o 0 /tmp/Rtmp1gJXSB/chr12 /tmp/Rtmp1gJXSB/file14b6e559f9cda
[main] Real time: 0.048 sec; CPU: 0.051 sec
[bwa_aln_core] convert to sequence coordinate... 0.00 sec
[bwa_aln_core] refine gapped alignments... 0.00 sec
[bwa_aln_core] print alignments... 0.00 sec
[bwa_aln_core] 5 sequences have been processed.
[main] Version: 0.7.17-r1198-dirty
[main] CMD: /Library/Frameworks/R.framework/Versions/4.3/Resources/library/Rbwa/bwa samse -n 1000000000 /tmp/Rtmp1gJXSB/chr12 /tmp/Rtmp1gJXSB/file14b6e559f9cda.sai /tmp/Rtmp1gJXSB/file14b6e559f9cda
[main] Real time: 0.044 sec; CPU: 0.047 sec
[runCrisprBwa] Using BSgenome.Hsapiens.UCSC.hg38 
[runCrisprBwa] Searching for AsCas12a protospacers 
[bwa_aln_core] calculate SA coordinate... 0.00 sec
[bwa_aln_core] write to the disk... 0.00 sec
[bwa_aln_core] 4 sequences have been processed.
[main] Version: 0.7.17-r1198-dirty
[main] CMD: /Library/Frameworks/R.framework/Versions/4.3/Resources/library/Rbwa/bwa aln -N -n 0 -l 69 -o 0 /tmp/Rtmp1gJXSB/chr12 /tmp/Rtmp1gJXSB/file14b6e61f2d820
[main] Real time: 0.042 sec; CPU: 0.045 sec
[bwa_aln_core] convert to sequence coordinate... 0.00 sec
[bwa_aln_core] refine gapped alignments... 0.00 sec
[bwa_aln_core] print alignments... 0.00 sec
[bwa_aln_core] 4 sequences have been processed.
[main] Version: 0.7.17-r1198-dirty
[main] CMD: /Library/Frameworks/R.framework/Versions/4.3/Resources/library/Rbwa/bwa samse -n 1000000000 /tmp/Rtmp1gJXSB/chr12 /tmp/Rtmp1gJXSB/file14b6e61f2d820.sai /tmp/Rtmp1gJXSB/file14b6e61f2d820
[main] Real time: 0.042 sec; CPU: 0.045 sec
[runCrisprBwa] Using BSgenome.Hsapiens.UCSC.hg38 
[runCrisprBwa] Searching for AsCas12a protospacers 
[bwa_aln_core] calculate SA coordinate... 0.00 sec
[bwa_aln_core] write to the disk... 0.00 sec
[bwa_aln_core] 4 sequences have been processed.
[main] Version: 0.7.17-r1198-dirty
[main] CMD: /Library/Frameworks/R.framework/Versions/4.3/Resources/library/Rbwa/bwa aln -N -n 1 -l 69 -o 0 /tmp/Rtmp1gJXSB/chr12 /tmp/Rtmp1gJXSB/file14b6ee4b4f1d
[main] Real time: 0.042 sec; CPU: 0.045 sec
[bwa_aln_core] convert to sequence coordinate... 0.00 sec
[bwa_aln_core] refine gapped alignments... 0.00 sec
[bwa_aln_core] print alignments... 0.00 sec
[bwa_aln_core] 4 sequences have been processed.
[main] Version: 0.7.17-r1198-dirty
[main] CMD: /Library/Frameworks/R.framework/Versions/4.3/Resources/library/Rbwa/bwa samse -n 1000000000 /tmp/Rtmp1gJXSB/chr12 /tmp/Rtmp1gJXSB/file14b6ee4b4f1d.sai /tmp/Rtmp1gJXSB/file14b6ee4b4f1d
[main] Real time: 0.049 sec; CPU: 0.052 sec
[runCrisprBwa] Using BSgenome.Hsapiens.UCSC.hg38 
[runCrisprBwa] Searching for AsCas12a protospacers 
[bwa_aln_core] calculate SA coordinate... 0.00 sec
[bwa_aln_core] write to the disk... 0.00 sec
[bwa_aln_core] 4 sequences have been processed.
[main] Version: 0.7.17-r1198-dirty
[main] CMD: /Library/Frameworks/R.framework/Versions/4.3/Resources/library/Rbwa/bwa aln -N -n 2 -l 69 -o 0 /tmp/Rtmp1gJXSB/chr12 /tmp/Rtmp1gJXSB/file14b6e7237003f
[main] Real time: 0.044 sec; CPU: 0.047 sec
[bwa_aln_core] convert to sequence coordinate... 0.00 sec
[bwa_aln_core] refine gapped alignments... 0.00 sec
[bwa_aln_core] print alignments... 0.00 sec
[bwa_aln_core] 4 sequences have been processed.
[main] Version: 0.7.17-r1198-dirty
[main] CMD: /Library/Frameworks/R.framework/Versions/4.3/Resources/library/Rbwa/bwa samse -n 1000000000 /tmp/Rtmp1gJXSB/chr12 /tmp/Rtmp1gJXSB/file14b6e7237003f.sai /tmp/Rtmp1gJXSB/file14b6e7237003f
[main] Real time: 0.045 sec; CPU: 0.048 sec
[runCrisprBwa] Using BSgenome.Hsapiens.UCSC.hg38 
[runCrisprBwa] Searching for AsCas12a protospacers 
[bwa_aln_core] calculate SA coordinate... 0.00 sec
[bwa_aln_core] write to the disk... 0.00 sec
[bwa_aln_core] 4 sequences have been processed.
[main] Version: 0.7.17-r1198-dirty
[main] CMD: /Library/Frameworks/R.framework/Versions/4.3/Resources/library/Rbwa/bwa aln -N -n 3 -l 69 -o 0 /tmp/Rtmp1gJXSB/chr12 /tmp/Rtmp1gJXSB/file14b6e78f162ad
[main] Real time: 0.046 sec; CPU: 0.050 sec
[bwa_aln_core] convert to sequence coordinate... 0.00 sec
[bwa_aln_core] refine gapped alignments... 0.00 sec
[bwa_aln_core] print alignments... 0.00 sec
[bwa_aln_core] 4 sequences have been processed.
[main] Version: 0.7.17-r1198-dirty
[main] CMD: /Library/Frameworks/R.framework/Versions/4.3/Resources/library/Rbwa/bwa samse -n 1000000000 /tmp/Rtmp1gJXSB/chr12 /tmp/Rtmp1gJXSB/file14b6e78f162ad.sai /tmp/Rtmp1gJXSB/file14b6e78f162ad
[main] Real time: 0.045 sec; CPU: 0.048 sec
[ FAIL 0 | WARN 0 | SKIP 0 | PASS 19 ]
> 
> proc.time()
   user  system elapsed 
 32.453   2.804  49.734 

Example timings

crisprBwa.Rcheck/crisprBwa-Ex.timings

nameusersystemelapsed
runBwa0.6550.1651.182
runCrisprBwa1.7420.2062.662