Back to Multiple platform build/check report for BioC 3.17: simplified long |
|
This page was generated on 2023-03-28 11:06:36 -0400 (Tue, 28 Mar 2023).
Hostname | OS | Arch (*) | R version | Installed pkgs |
---|---|---|---|---|
nebbiolo1 | Linux (Ubuntu 22.04.1 LTS) | x86_64 | R Under development (unstable) (2023-03-16 r83996) -- "Unsuffered Consequences" | 4547 |
palomino3 | Windows Server 2022 Datacenter | x64 | R Under development (unstable) (2023-03-15 r83984 ucrt) -- "Unsuffered Consequences" | 4308 |
merida1 | macOS 10.14.6 Mojave | x86_64 | R Under development (unstable) (2023-03-16 r83985) -- "Unsuffered Consequences" | 4301 |
Click on any hostname to see more info about the system (e.g. compilers) (*) as reported by 'uname -p', except on Windows and Mac OS X |
To the developers/maintainers of the ADaCGH2 package: - Please allow up to 24 hours (and sometimes 48 hours) for your latest push to git@git.bioconductor.org:packages/ADaCGH2.git to reflect on this report. See How and When does the builder pull? When will my changes propagate? for more information. - Make sure to use the following settings in order to reproduce any error or warning you see on this page. |
Package 14/2195 | Hostname | OS / Arch | INSTALL | BUILD | CHECK | BUILD BIN | ||||||||
ADaCGH2 2.39.0 (landing page) Ramon Diaz-Uriarte
| nebbiolo1 | Linux (Ubuntu 22.04.1 LTS) / x86_64 | OK | OK | OK | ![]() | ||||||||
palomino3 | Windows Server 2022 Datacenter / x64 | OK | OK | OK | OK | ![]() | ||||||||
merida1 | macOS 10.14.6 Mojave / x86_64 | OK | OK | OK | OK | ![]() | ||||||||
Package: ADaCGH2 |
Version: 2.39.0 |
Command: rm -rf ADaCGH2.buildbin-libdir && mkdir ADaCGH2.buildbin-libdir && /Users/biocbuild/BBS/utils/build-universal.sh ADaCGH2_2.39.0.tar.gz /Library/Frameworks/R.framework/Resources/bin/R ADaCGH2.buildbin-libdir |
StartedAt: 2023-03-28 08:48:48 -0400 (Tue, 28 Mar 2023) |
EndedAt: 2023-03-28 08:50:25 -0400 (Tue, 28 Mar 2023) |
EllapsedTime: 96.5 seconds |
RetCode: 0 |
Status: OK |
PackageFile: ADaCGH2_2.39.0.tgz |
PackageFileSize: 1.305 MiB |
############################################################################## ############################################################################## ### ### Running command: ### ### rm -rf ADaCGH2.buildbin-libdir && mkdir ADaCGH2.buildbin-libdir && /Users/biocbuild/BBS/utils/build-universal.sh ADaCGH2_2.39.0.tar.gz /Library/Frameworks/R.framework/Resources/bin/R ADaCGH2.buildbin-libdir ### ############################################################################## ############################################################################## >>>>>>> >>>>>>> INSTALLATION WITH 'R CMD INSTALL --preclean --no-multiarch --library=ADaCGH2.buildbin-libdir ADaCGH2_2.39.0.tar.gz' >>>>>>> * installing *source* package ‘ADaCGH2’ ... ** using staged installation ** libs using C compiler: ‘Apple clang version 11.0.0 (clang-1100.0.33.17)’ using SDK: ‘’ clang -mmacosx-version-min=10.13 -I"/Library/Frameworks/R.framework/Resources/include" -DNDEBUG -I/usr/local/include -fPIC -Wall -g -O2 -c init.c -o init.o clang -mmacosx-version-min=10.13 -I"/Library/Frameworks/R.framework/Resources/include" -DNDEBUG -I/usr/local/include -fPIC -Wall -g -O2 -c r_haarseg.c -o r_haarseg.o r_haarseg.c:65:12: warning: unused variable 'totalNorm' [-Wunused-variable] double totalNorm; ^ r_haarseg.c:152:8: warning: '/*' within block comment [-Wcomment] }/* for j */ ^ r_haarseg.c:176:8: warning: '/*' within block comment [-Wcomment] }/* for j */ ^ r_haarseg.c:128:9: warning: unused variable 'j' [-Wunused-variable] int k,j; ^ 4 warnings generated. clang -mmacosx-version-min=10.13 -dynamiclib -Wl,-headerpad_max_install_names -undefined dynamic_lookup -single_module -multiply_defined suppress -L/Library/Frameworks/R.framework/Resources/lib -L/usr/local/lib -o ADaCGH2.so init.o r_haarseg.o -F/Library/Frameworks/R.framework/.. -framework R -Wl,-framework -Wl,CoreFoundation installing to /Users/biocbuild/bbs-3.17-bioc/meat/ADaCGH2.buildbin-libdir/00LOCK-ADaCGH2/00new/ADaCGH2/libs ** R ** data ** inst ** byte-compile and prepare package for lazy loading ** help *** installing help indices ** building package indices ** installing vignettes ** testing if installed package can be loaded from temporary location ** checking absolute paths in shared objects and dynamic libraries ** testing if installed package can be loaded from final location ** testing if installed package keeps a record of temporary installation path * DONE (ADaCGH2) >>>>>>> >>>>>>> FIXING LINKS FOR ADaCGH2.buildbin-libdir/ADaCGH2/libs/ADaCGH2.so >>>>>>> install_name_tool -change "/usr/local/lib/libgcc_s.1.dylib" "/Library/Frameworks/R.framework/Versions/4.3/Resources/lib/libgcc_s.1.dylib" "ADaCGH2.buildbin-libdir/ADaCGH2/libs/ADaCGH2.so" install_name_tool -change "/usr/local/lib/libgfortran.5.dylib" "/Library/Frameworks/R.framework/Versions/4.3/Resources/lib/libgfortran.5.dylib" "ADaCGH2.buildbin-libdir/ADaCGH2/libs/ADaCGH2.so" install_name_tool -change "/usr/local/lib/libquadmath.0.dylib" "/Library/Frameworks/R.framework/Versions/4.3/Resources/lib/libquadmath.0.dylib" "ADaCGH2.buildbin-libdir/ADaCGH2/libs/ADaCGH2.so"