Back to Multiple platform build/check report for BioC 3.17: simplified long |
|
This page was generated on 2023-06-02 11:05:40 -0400 (Fri, 02 Jun 2023).
Hostname | OS | Arch (*) | R version | Installed pkgs |
---|---|---|---|---|
nebbiolo1 | Linux (Ubuntu 22.04.2 LTS) | x86_64 | 4.3.0 RC (2023-04-13 r84269) -- "Already Tomorrow" | 4618 |
palomino3 | Windows Server 2022 Datacenter | x64 | 4.3.0 RC (2023-04-13 r84269 ucrt) -- "Already Tomorrow" | 4369 |
merida1 | macOS 12.6.4 Monterey | x86_64 | 4.3.0 RC (2023-04-13 r84257) -- "Already Tomorrow" | 4327 |
Click on any hostname to see more info about the system (e.g. compilers) (*) as reported by 'uname -p', except on Windows and Mac OS X |
To the developers/maintainers of the seqArchRplus package: - Allow up to 24 hours (and sometimes 48 hours) for your latest push to git@git.bioconductor.org:packages/seqArchRplus.git to reflect on this report. See Troubleshooting Build Report for more information. - Use the following Renviron settings to reproduce errors and warnings. Note: If "R CMD check" recently failed on the Linux builder over a missing dependency, add the missing dependency to "Suggests" in your DESCRIPTION file. See the Renviron.bioc for details. |
Package 1882/2229 | Hostname | OS / Arch | INSTALL | BUILD | CHECK | BUILD BIN | ||||||||
seqArchRplus 1.0.0 (landing page) Sarvesh Nikumbh
| nebbiolo1 | Linux (Ubuntu 22.04.2 LTS) / x86_64 | OK | OK | OK | ![]() | ||||||||
palomino3 | Windows Server 2022 Datacenter / x64 | OK | OK | OK | OK | ![]() | ||||||||
merida1 | macOS 12.6.4 Monterey / x86_64 | OK | OK | OK | OK | ![]() | ||||||||
Package: seqArchRplus |
Version: 1.0.0 |
Command: /home/biocbuild/bbs-3.17-bioc/R/bin/R CMD check --install=check:seqArchRplus.install-out.txt --library=/home/biocbuild/bbs-3.17-bioc/R/site-library --timings seqArchRplus_1.0.0.tar.gz |
StartedAt: 2023-06-02 00:43:23 -0400 (Fri, 02 Jun 2023) |
EndedAt: 2023-06-02 00:50:33 -0400 (Fri, 02 Jun 2023) |
EllapsedTime: 429.9 seconds |
RetCode: 0 |
Status: OK |
CheckDir: seqArchRplus.Rcheck |
Warnings: 0 |
############################################################################## ############################################################################## ### ### Running command: ### ### /home/biocbuild/bbs-3.17-bioc/R/bin/R CMD check --install=check:seqArchRplus.install-out.txt --library=/home/biocbuild/bbs-3.17-bioc/R/site-library --timings seqArchRplus_1.0.0.tar.gz ### ############################################################################## ############################################################################## * using log directory ‘/home/biocbuild/bbs-3.17-bioc/meat/seqArchRplus.Rcheck’ * using R version 4.3.0 RC (2023-04-13 r84269) * using platform: x86_64-pc-linux-gnu (64-bit) * R was compiled by gcc (Ubuntu 11.3.0-1ubuntu1~22.04) 11.3.0 GNU Fortran (Ubuntu 11.3.0-1ubuntu1~22.04) 11.3.0 * running under: Ubuntu 22.04.2 LTS * using session charset: UTF-8 * checking for file ‘seqArchRplus/DESCRIPTION’ ... OK * checking extension type ... Package * this is package ‘seqArchRplus’ version ‘1.0.0’ * package encoding: UTF-8 * checking package namespace information ... OK * checking package dependencies ... OK * checking if this is a source package ... OK * checking if there is a namespace ... OK * checking for hidden files and directories ... OK * checking for portable file names ... OK * checking for sufficient/correct file permissions ... OK * checking whether package ‘seqArchRplus’ can be installed ... OK * checking installed package size ... OK * checking package directory ... OK * checking ‘build’ directory ... OK * checking DESCRIPTION meta-information ... OK * checking top-level files ... OK * checking for left-over files ... OK * checking index information ... OK * checking package subdirectories ... OK * checking R files for non-ASCII characters ... OK * checking R files for syntax errors ... OK * checking whether the package can be loaded ... OK * checking whether the package can be loaded with stated dependencies ... OK * checking whether the package can be unloaded cleanly ... OK * checking whether the namespace can be loaded with stated dependencies ... OK * checking whether the namespace can be unloaded cleanly ... OK * checking loading without being on the library search path ... OK * checking startup messages can be suppressed ... OK * checking dependencies in R code ... OK * checking S3 generic/method consistency ... OK * checking replacement functions ... OK * checking foreign function calls ... OK * checking R code for possible problems ... OK * checking Rd files ... OK * checking Rd metadata ... OK * checking Rd cross-references ... OK * checking for missing documentation entries ... OK * checking for code/documentation mismatches ... OK * checking Rd \usage sections ... OK * checking Rd contents ... OK * checking for unstated dependencies in examples ... OK * checking files in ‘vignettes’ ... OK * checking examples ... OK Examples with CPU (user + system) or elapsed time > 5s user system elapsed per_cluster_go_term_enrichments 44.337 1.204 45.726 generate_all_plots 40.677 1.684 42.356 per_cluster_annotations 9.307 0.276 9.584 curate_clusters 8.418 0.352 8.773 * checking for unstated dependencies in vignettes ... OK * checking package vignettes in ‘inst/doc’ ... OK * checking running R code from vignettes ... ‘seqArchRplus.Rmd’ using ‘UTF-8’... OK NONE * checking re-building of vignette outputs ... OK * checking PDF version of manual ... OK * DONE Status: OK
seqArchRplus.Rcheck/00install.out
############################################################################## ############################################################################## ### ### Running command: ### ### /home/biocbuild/bbs-3.17-bioc/R/bin/R CMD INSTALL seqArchRplus ### ############################################################################## ############################################################################## * installing to library ‘/home/biocbuild/bbs-3.17-bioc/R/site-library’ * installing *source* package ‘seqArchRplus’ ... ** using staged installation ** R ** inst ** byte-compile and prepare package for lazy loading ** help *** installing help indices ** building package indices ** installing vignettes ** testing if installed package can be loaded from temporary location ** testing if installed package can be loaded from final location ** testing if installed package keeps a record of temporary installation path * DONE (seqArchRplus)
seqArchRplus.Rcheck/seqArchRplus-Ex.timings
name | user | system | elapsed | |
curate_clusters | 8.418 | 0.352 | 8.773 | |
generate_all_plots | 40.677 | 1.684 | 42.356 | |
handle_tc_from_cage | 0.611 | 0.068 | 0.761 | |
iqw_tpm_plots | 0.446 | 0.000 | 0.447 | |
order_clusters_iqw | 0.010 | 0.004 | 0.015 | |
per_cluster_annotations | 9.307 | 0.276 | 9.584 | |
per_cluster_go_term_enrichments | 44.337 | 1.204 | 45.726 | |
per_cluster_seqlogos | 1.757 | 0.019 | 1.777 | |
per_cluster_strand_dist | 0.928 | 0.009 | 0.935 | |
plot_motif_heatmaps | 1.330 | 0.004 | 1.334 | |
plot_motif_heatmaps2 | 2.650 | 0.028 | 2.657 | |
seqs_acgt_image | 0.268 | 0.000 | 0.267 | |
write_seqArchR_cluster_track_bed | 0.041 | 0.000 | 0.041 | |