Back to Multiple platform build/check report for BioC 3.17: simplified long |
|
This page was generated on 2023-03-21 11:06:35 -0400 (Tue, 21 Mar 2023).
Hostname | OS | Arch (*) | R version | Installed pkgs |
---|---|---|---|---|
nebbiolo1 | Linux (Ubuntu 22.04.1 LTS) | x86_64 | R Under development (unstable) (2023-03-16 r83996) -- "Unsuffered Consequences" | 4305 |
palomino3 | Windows Server 2022 Datacenter | x64 | R Under development (unstable) (2023-03-15 r83984 ucrt) -- "Unsuffered Consequences" | 4287 |
merida1 | macOS 10.14.6 Mojave | x86_64 | R Under development (unstable) (2023-03-16 r83985) -- "Unsuffered Consequences" | 4286 |
Click on any hostname to see more info about the system (e.g. compilers) (*) as reported by 'uname -p', except on Windows and Mac OS X |
To the developers/maintainers of the VariantFiltering package: - Please allow up to 24 hours (and sometimes 48 hours) for your latest push to git@git.bioconductor.org:packages/VariantFiltering.git to reflect on this report. See How and When does the builder pull? When will my changes propagate? for more information. - Make sure to use the following settings in order to reproduce any error or warning you see on this page. |
Package 2142/2189 | Hostname | OS / Arch | INSTALL | BUILD | CHECK | BUILD BIN | ||||||||
VariantFiltering 1.35.0 (landing page) Robert Castelo
| nebbiolo1 | Linux (Ubuntu 22.04.1 LTS) / x86_64 | OK | OK | WARNINGS | ![]() | ||||||||
palomino3 | Windows Server 2022 Datacenter / x64 | OK | OK | WARNINGS | OK | ![]() | ||||||||
merida1 | macOS 10.14.6 Mojave / x86_64 | OK | OK | WARNINGS | OK | ![]() | ||||||||
Package: VariantFiltering |
Version: 1.35.0 |
Command: F:\biocbuild\bbs-3.17-bioc\R\bin\R.exe CMD INSTALL VariantFiltering |
StartedAt: 2023-03-20 16:57:13 -0400 (Mon, 20 Mar 2023) |
EndedAt: 2023-03-20 16:58:28 -0400 (Mon, 20 Mar 2023) |
EllapsedTime: 75.5 seconds |
RetCode: 0 |
Status: OK |
############################################################################## ############################################################################## ### ### Running command: ### ### F:\biocbuild\bbs-3.17-bioc\R\bin\R.exe CMD INSTALL VariantFiltering ### ############################################################################## ############################################################################## * installing to library 'F:/biocbuild/bbs-3.17-bioc/R/library' * installing *source* package 'VariantFiltering' ... ** using staged installation ** libs using C compiler: 'gcc.exe (GCC) 12.2.0' gcc -I"F:/biocbuild/bbs-3.17-bioc/R/include" -DNDEBUG -I'F:/biocbuild/bbs-3.17-bioc/R/library/S4Vectors/include' -I'F:/biocbuild/bbs-3.17-bioc/R/library/IRanges/include' -I'F:/biocbuild/bbs-3.17-bioc/R/library/XVector/include' -I'F:/biocbuild/bbs-3.17-bioc/R/library/Biostrings/include' -I"C:/rtools43/x86_64-w64-mingw32.static.posix/include" -O2 -Wall -mfpmath=sse -msse2 -mstackrealign -c Biostrings_stubs.c -o Biostrings_stubs.o gcc -I"F:/biocbuild/bbs-3.17-bioc/R/include" -DNDEBUG -I'F:/biocbuild/bbs-3.17-bioc/R/library/S4Vectors/include' -I'F:/biocbuild/bbs-3.17-bioc/R/library/IRanges/include' -I'F:/biocbuild/bbs-3.17-bioc/R/library/XVector/include' -I'F:/biocbuild/bbs-3.17-bioc/R/library/Biostrings/include' -I"C:/rtools43/x86_64-w64-mingw32.static.posix/include" -O2 -Wall -mfpmath=sse -msse2 -mstackrealign -c R_init_VariantFiltering.c -o R_init_VariantFiltering.o gcc -I"F:/biocbuild/bbs-3.17-bioc/R/include" -DNDEBUG -I'F:/biocbuild/bbs-3.17-bioc/R/library/S4Vectors/include' -I'F:/biocbuild/bbs-3.17-bioc/R/library/IRanges/include' -I'F:/biocbuild/bbs-3.17-bioc/R/library/XVector/include' -I'F:/biocbuild/bbs-3.17-bioc/R/library/Biostrings/include' -I"C:/rtools43/x86_64-w64-mingw32.static.posix/include" -O2 -Wall -mfpmath=sse -msse2 -mstackrealign -c methods-WeightMatrix.c -o methods-WeightMatrix.o gcc -shared -s -static-libgcc -o VariantFiltering.dll tmp.def Biostrings_stubs.o R_init_VariantFiltering.o methods-WeightMatrix.o -LC:/rtools43/x86_64-w64-mingw32.static.posix/lib/x64 -LC:/rtools43/x86_64-w64-mingw32.static.posix/lib -LF:/biocbuild/bbs-3.17-bioc/R/bin/x64 -lR installing to F:/biocbuild/bbs-3.17-bioc/R/library/00LOCK-VariantFiltering/00new/VariantFiltering/libs/x64 ** R ** inst ** byte-compile and prepare package for lazy loading No methods found in package 'GenomeInfoDb' for request: 'releaseName' when loading 'VariantFiltering' ** help *** installing help indices ** building package indices ** installing vignettes ** testing if installed package can be loaded from temporary location No methods found in package 'GenomeInfoDb' for request: 'releaseName' when loading 'VariantFiltering' ** testing if installed package can be loaded from final location No methods found in package 'GenomeInfoDb' for request: 'releaseName' when loading 'VariantFiltering' ** testing if installed package keeps a record of temporary installation path * DONE (VariantFiltering)