Back to Multiple platform build/check report for BioC 3.17:   simplified   long
ABCDEFGHIJKLMNOPQR[S]TUVWXYZ

This page was generated on 2023-06-07 11:07:22 -0400 (Wed, 07 Jun 2023).

HostnameOSArch (*)R versionInstalled pkgs
nebbiolo1Linux (Ubuntu 22.04.2 LTS)x86_644.3.0 RC (2023-04-13 r84269) -- "Already Tomorrow" 4628
palomino3Windows Server 2022 Datacenterx644.3.0 RC (2023-04-13 r84269 ucrt) -- "Already Tomorrow" 4379
merida1macOS 12.6.4 Montereyx86_644.3.0 RC (2023-04-13 r84257) -- "Already Tomorrow" 4385
Click on any hostname to see more info about the system (e.g. compilers)      (*) as reported by 'uname -p', except on Windows and Mac OS X

BUILD BIN results for SMITE on merida1


To the developers/maintainers of the SMITE package:
- Allow up to 24 hours (and sometimes 48 hours) for your latest push to git@git.bioconductor.org:packages/SMITE.git to reflect on this report. See Troubleshooting Build Report for more information.
- Use the following Renviron settings to reproduce errors and warnings.
- If 'R CMD check' started to fail recently on the Linux builder(s) over a missing dependency, add the missing dependency to 'Suggests:' in your DESCRIPTION file. See Renviron.bioc for more information.

raw results

Package 1948/2229HostnameOS / ArchINSTALLBUILDCHECKBUILD BIN
SMITE 1.28.0  (landing page)
Neil Ari Wijetunga
Snapshot Date: 2023-06-06 14:00:07 -0400 (Tue, 06 Jun 2023)
git_url: https://git.bioconductor.org/packages/SMITE
git_branch: RELEASE_3_17
git_last_commit: 876db9d
git_last_commit_date: 2023-04-25 10:44:07 -0400 (Tue, 25 Apr 2023)
nebbiolo1Linux (Ubuntu 22.04.2 LTS) / x86_64  OK    OK    OK  UNNEEDED, same version is already published
palomino3Windows Server 2022 Datacenter / x64  OK    OK    OK    OK  UNNEEDED, same version is already published
merida1macOS 12.6.4 Monterey / x86_64  OK    OK    OK    OK  UNNEEDED, same version is already published

Summary

Package: SMITE
Version: 1.28.0
Command: rm -rf SMITE.buildbin-libdir && mkdir SMITE.buildbin-libdir && /Users/biocbuild/BBS/utils/build-universal.sh SMITE_1.28.0.tar.gz /Library/Frameworks/R.framework/Resources/bin/R SMITE.buildbin-libdir
StartedAt: 2023-06-07 10:23:58 -0400 (Wed, 07 Jun 2023)
EndedAt: 2023-06-07 10:26:30 -0400 (Wed, 07 Jun 2023)
EllapsedTime: 151.3 seconds
RetCode: 0
Status:   OK  
PackageFile: SMITE_1.28.0.tgz
PackageFileSize: 3.575 MiB

Command output

##############################################################################
##############################################################################
###
### Running command:
###
###   rm -rf SMITE.buildbin-libdir && mkdir SMITE.buildbin-libdir && /Users/biocbuild/BBS/utils/build-universal.sh SMITE_1.28.0.tar.gz /Library/Frameworks/R.framework/Resources/bin/R SMITE.buildbin-libdir
###
##############################################################################
##############################################################################


>>>>>>> 
>>>>>>> INSTALLATION WITH 'R CMD INSTALL --preclean --no-multiarch --library=SMITE.buildbin-libdir SMITE_1.28.0.tar.gz'
>>>>>>> 

* installing *source* package ‘SMITE’ ...
** using staged installation
** R
** data
** inst
** byte-compile and prepare package for lazy loading
** help
*** installing help indices
** building package indices
** installing vignettes
** testing if installed package can be loaded from temporary location
** testing if installed package can be loaded from final location
** testing if installed package keeps a record of temporary installation path
* DONE (SMITE)