Back to Multiple platform build/check report for BioC 3.17: simplified long |
|
This page was generated on 2023-06-02 11:06:37 -0400 (Fri, 02 Jun 2023).
Hostname | OS | Arch (*) | R version | Installed pkgs |
---|---|---|---|---|
nebbiolo1 | Linux (Ubuntu 22.04.2 LTS) | x86_64 | 4.3.0 RC (2023-04-13 r84269) -- "Already Tomorrow" | 4618 |
palomino3 | Windows Server 2022 Datacenter | x64 | 4.3.0 RC (2023-04-13 r84269 ucrt) -- "Already Tomorrow" | 4369 |
merida1 | macOS 12.6.4 Monterey | x86_64 | 4.3.0 RC (2023-04-13 r84257) -- "Already Tomorrow" | 4327 |
Click on any hostname to see more info about the system (e.g. compilers) (*) as reported by 'uname -p', except on Windows and Mac OS X |
To the developers/maintainers of the uncoverappLib package: - Allow up to 24 hours (and sometimes 48 hours) for your latest push to git@git.bioconductor.org:packages/uncoverappLib.git to reflect on this report. See Troubleshooting Build Report for more information. - Use the following Renviron settings to reproduce errors and warnings. Note: If "R CMD check" recently failed on the Linux builder over a missing dependency, add the missing dependency to "Suggests" in your DESCRIPTION file. See the Renviron.bioc for details. |
Package 2167/2229 | Hostname | OS / Arch | INSTALL | BUILD | CHECK | BUILD BIN | ||||||||
uncoverappLib 1.10.0 (landing page) Emanuela Iovino
| nebbiolo1 | Linux (Ubuntu 22.04.2 LTS) / x86_64 | OK | OK | OK | ![]() | ||||||||
palomino3 | Windows Server 2022 Datacenter / x64 | OK | OK | OK | OK | ![]() | ||||||||
merida1 | macOS 12.6.4 Monterey / x86_64 | OK | OK | OK | OK | ![]() | ||||||||
Package: uncoverappLib |
Version: 1.10.0 |
Command: F:\biocbuild\bbs-3.17-bioc\R\bin\R.exe CMD check --no-multiarch --install=check:uncoverappLib.install-out.txt --library=F:\biocbuild\bbs-3.17-bioc\R\library --no-vignettes --timings uncoverappLib_1.10.0.tar.gz |
StartedAt: 2023-06-02 07:58:01 -0400 (Fri, 02 Jun 2023) |
EndedAt: 2023-06-02 08:04:24 -0400 (Fri, 02 Jun 2023) |
EllapsedTime: 382.8 seconds |
RetCode: 0 |
Status: OK |
CheckDir: uncoverappLib.Rcheck |
Warnings: 0 |
############################################################################## ############################################################################## ### ### Running command: ### ### F:\biocbuild\bbs-3.17-bioc\R\bin\R.exe CMD check --no-multiarch --install=check:uncoverappLib.install-out.txt --library=F:\biocbuild\bbs-3.17-bioc\R\library --no-vignettes --timings uncoverappLib_1.10.0.tar.gz ### ############################################################################## ############################################################################## * using log directory 'F:/biocbuild/bbs-3.17-bioc/meat/uncoverappLib.Rcheck' * using R version 4.3.0 RC (2023-04-13 r84269 ucrt) * using platform: x86_64-w64-mingw32 (64-bit) * R was compiled by gcc.exe (GCC) 12.2.0 GNU Fortran (GCC) 12.2.0 * running under: Windows Server 2022 x64 (build 20348) * using session charset: UTF-8 * using option '--no-vignettes' * checking for file 'uncoverappLib/DESCRIPTION' ... OK * this is package 'uncoverappLib' version '1.10.0' * package encoding: UTF-8 * checking package namespace information ... OK * checking package dependencies ... OK * checking if this is a source package ... OK * checking if there is a namespace ... OK * checking for hidden files and directories ... OK * checking for portable file names ... OK * checking whether package 'uncoverappLib' can be installed ... OK * checking installed package size ... OK * checking package directory ... OK * checking 'build' directory ... OK * checking DESCRIPTION meta-information ... OK * checking top-level files ... OK * checking for left-over files ... OK * checking index information ... OK * checking package subdirectories ... OK * checking R files for non-ASCII characters ... OK * checking R files for syntax errors ... OK * checking whether the package can be loaded ... OK * checking whether the package can be loaded with stated dependencies ... OK * checking whether the package can be unloaded cleanly ... OK * checking whether the namespace can be loaded with stated dependencies ... OK * checking whether the namespace can be unloaded cleanly ... OK * checking dependencies in R code ... OK * checking S3 generic/method consistency ... OK * checking replacement functions ... OK * checking foreign function calls ... OK * checking R code for possible problems ... NOTE buildInput : riarrange.df: no visible binding for global variable 'nucleotide' buildInput : riarrange.df: no visible binding for global variable 'count' buildInput: no visible binding for global variable 'seqnames.1' buildInput: no visible binding for global variable 'start.1' buildInput: no visible binding for global variable 'end.1' buildInput: no visible binding for global variable 'width.1' buildInput: no visible binding for global variable 'strand.1' buildInput : statistical_operation: no visible binding for global variable 'SYMBOL' buildInput : statistical_operation: no visible binding for global variable 'value' buildInput : statistical_operation: no visible global function definition for 'median' buildInput : statistical_operation: no visible binding for global variable '.' Undefined global functions or variables: . SYMBOL count end.1 median nucleotide seqnames.1 start.1 strand.1 value width.1 Consider adding importFrom("stats", "median") to your NAMESPACE file. * checking Rd files ... OK * checking Rd metadata ... OK * checking Rd cross-references ... OK * checking for missing documentation entries ... OK * checking for code/documentation mismatches ... OK * checking Rd \usage sections ... OK * checking Rd contents ... OK * checking for unstated dependencies in examples ... OK * checking files in 'vignettes' ... OK * checking examples ... OK Examples with CPU (user + system) or elapsed time > 5s user system elapsed buildInput 6.7 0.19 6.91 * checking for unstated dependencies in vignettes ... OK * checking package vignettes in 'inst/doc' ... OK * checking running R code from vignettes ... SKIPPED * checking re-building of vignette outputs ... SKIPPED * checking PDF version of manual ... OK * DONE Status: 1 NOTE See 'F:/biocbuild/bbs-3.17-bioc/meat/uncoverappLib.Rcheck/00check.log' for details.
uncoverappLib.Rcheck/00install.out
############################################################################## ############################################################################## ### ### Running command: ### ### F:\biocbuild\bbs-3.17-bioc\R\bin\R.exe CMD INSTALL uncoverappLib ### ############################################################################## ############################################################################## * installing to library 'F:/biocbuild/bbs-3.17-bioc/R/library' * installing *source* package 'uncoverappLib' ... ** using staged installation ** R ** inst ** byte-compile and prepare package for lazy loading ** help *** installing help indices ** building package indices ** installing vignettes ** testing if installed package can be loaded from temporary location ** testing if installed package can be loaded from final location ** testing if installed package keeps a record of temporary installation path * DONE (uncoverappLib)
uncoverappLib.Rcheck/uncoverappLib-Ex.timings
name | user | system | elapsed | |
buildInput | 6.70 | 0.19 | 6.91 | |
getAnnotationFiles | 0.55 | 0.09 | 0.65 | |
run.uncoverapp | 0 | 0 | 0 | |
uncoverAPP | 0 | 0 | 0 | |