Back to Multiple platform build/check report for BioC 3.17:   simplified   long
ABCD[E]FGHIJKLMNOPQRSTUVWXYZ

This page was generated on 2023-03-22 11:05:49 -0400 (Wed, 22 Mar 2023).

HostnameOSArch (*)R versionInstalled pkgs
nebbiolo1Linux (Ubuntu 22.04.1 LTS)x86_64R Under development (unstable) (2023-03-16 r83996) -- "Unsuffered Consequences" 4508
palomino3Windows Server 2022 Datacenterx64R Under development (unstable) (2023-03-15 r83984 ucrt) -- "Unsuffered Consequences" 4293
merida1macOS 10.14.6 Mojavex86_64R Under development (unstable) (2023-03-16 r83985) -- "Unsuffered Consequences" 4290
Click on any hostname to see more info about the system (e.g. compilers)      (*) as reported by 'uname -p', except on Windows and Mac OS X

BUILD BIN results for exomeCopy on palomino3


To the developers/maintainers of the exomeCopy package:
- Please allow up to 24 hours (and sometimes 48 hours) for your latest push to git@git.bioconductor.org:packages/exomeCopy.git to
reflect on this report. See How and When does the builder pull? When will my changes propagate? for more information.
- Make sure to use the following settings in order to reproduce any error or warning you see on this page.

raw results

Package 653/2189HostnameOS / ArchINSTALLBUILDCHECKBUILD BIN
exomeCopy 1.45.0  (landing page)
Michael Love
Snapshot Date: 2023-03-21 14:00:22 -0400 (Tue, 21 Mar 2023)
git_url: https://git.bioconductor.org/packages/exomeCopy
git_branch: master
git_last_commit: 584c54b
git_last_commit_date: 2022-11-01 11:06:27 -0400 (Tue, 01 Nov 2022)
nebbiolo1Linux (Ubuntu 22.04.1 LTS) / x86_64  OK    OK    OK  UNNEEDED, same version is already published
palomino3Windows Server 2022 Datacenter / x64  OK    OK    OK    OK  UNNEEDED, same version is already published
merida1macOS 10.14.6 Mojave / x86_64  OK    OK    OK    OK  UNNEEDED, same version is already published

Summary

Package: exomeCopy
Version: 1.45.0
Command: rm -rf exomeCopy.buildbin-libdir && mkdir exomeCopy.buildbin-libdir && F:\biocbuild\bbs-3.17-bioc\R\bin\R.exe CMD INSTALL --build --library=exomeCopy.buildbin-libdir exomeCopy_1.45.0.tar.gz
StartedAt: 2023-03-22 08:42:29 -0400 (Wed, 22 Mar 2023)
EndedAt: 2023-03-22 08:42:49 -0400 (Wed, 22 Mar 2023)
EllapsedTime: 20.0 seconds
RetCode: 0
Status:   OK  
PackageFile: exomeCopy_1.45.0.zip
PackageFileSize: 672.5 KiB

Command output

##############################################################################
##############################################################################
###
### Running command:
###
###   rm -rf exomeCopy.buildbin-libdir && mkdir exomeCopy.buildbin-libdir && F:\biocbuild\bbs-3.17-bioc\R\bin\R.exe CMD INSTALL --build --library=exomeCopy.buildbin-libdir exomeCopy_1.45.0.tar.gz
###
##############################################################################
##############################################################################


* installing *source* package 'exomeCopy' ...
** using staged installation
** libs
using C compiler: 'gcc.exe (GCC) 12.2.0'
gcc  -I"F:/biocbuild/bbs-3.17-bioc/R/include" -DNDEBUG     -I"C:/rtools43/x86_64-w64-mingw32.static.posix/include"     -O2 -Wall  -mfpmath=sse -msse2 -mstackrealign  -c exomeCopy.c -o exomeCopy.o
gcc -shared -s -static-libgcc -o exomeCopy.dll tmp.def exomeCopy.o -LC:/rtools43/x86_64-w64-mingw32.static.posix/lib/x64 -LC:/rtools43/x86_64-w64-mingw32.static.posix/lib -LF:/biocbuild/bbs-3.17-bioc/R/bin/x64 -lR
installing to F:/biocbuild/bbs-3.17-bioc/meat/exomeCopy.buildbin-libdir/00LOCK-exomeCopy/00new/exomeCopy/libs/x64
** R
** data
** inst
** byte-compile and prepare package for lazy loading
** help
*** installing help indices
** building package indices
** installing vignettes
** testing if installed package can be loaded from temporary location
** testing if installed package can be loaded from final location
** testing if installed package keeps a record of temporary installation path
* MD5 sums
packaged installation of 'exomeCopy' as exomeCopy_1.45.0.zip
* DONE (exomeCopy)