Back to Multiple platform build/check report for BioC 3.17: simplified long |
|
This page was generated on 2023-03-27 11:05:13 -0400 (Mon, 27 Mar 2023).
Hostname | OS | Arch (*) | R version | Installed pkgs |
---|---|---|---|---|
nebbiolo1 | Linux (Ubuntu 22.04.1 LTS) | x86_64 | R Under development (unstable) (2023-03-16 r83996) -- "Unsuffered Consequences" | 4547 |
palomino3 | Windows Server 2022 Datacenter | x64 | R Under development (unstable) (2023-03-15 r83984 ucrt) -- "Unsuffered Consequences" | 4308 |
merida1 | macOS 10.14.6 Mojave | x86_64 | R Under development (unstable) (2023-03-16 r83985) -- "Unsuffered Consequences" | 4300 |
Click on any hostname to see more info about the system (e.g. compilers) (*) as reported by 'uname -p', except on Windows and Mac OS X |
To the developers/maintainers of the multiHiCcompare package: - Please allow up to 24 hours (and sometimes 48 hours) for your latest push to git@git.bioconductor.org:packages/multiHiCcompare.git to reflect on this report. See How and When does the builder pull? When will my changes propagate? for more information. - Make sure to use the following settings in order to reproduce any error or warning you see on this page. |
Package 1315/2195 | Hostname | OS / Arch | INSTALL | BUILD | CHECK | BUILD BIN | ||||||||
multiHiCcompare 1.17.0 (landing page) John Stansfield
| nebbiolo1 | Linux (Ubuntu 22.04.1 LTS) / x86_64 | OK | OK | OK | ![]() | ||||||||
palomino3 | Windows Server 2022 Datacenter / x64 | OK | OK | OK | OK | ![]() | ||||||||
merida1 | macOS 10.14.6 Mojave / x86_64 | OK | OK | OK | OK | ![]() | ||||||||
Package: multiHiCcompare |
Version: 1.17.0 |
Command: /home/biocbuild/bbs-3.17-bioc/R/bin/R CMD check --install=check:multiHiCcompare.install-out.txt --library=/home/biocbuild/bbs-3.17-bioc/R/site-library --timings multiHiCcompare_1.17.0.tar.gz |
StartedAt: 2023-03-26 22:13:43 -0400 (Sun, 26 Mar 2023) |
EndedAt: 2023-03-26 22:18:37 -0400 (Sun, 26 Mar 2023) |
EllapsedTime: 294.1 seconds |
RetCode: 0 |
Status: OK |
CheckDir: multiHiCcompare.Rcheck |
Warnings: 0 |
############################################################################## ############################################################################## ### ### Running command: ### ### /home/biocbuild/bbs-3.17-bioc/R/bin/R CMD check --install=check:multiHiCcompare.install-out.txt --library=/home/biocbuild/bbs-3.17-bioc/R/site-library --timings multiHiCcompare_1.17.0.tar.gz ### ############################################################################## ############################################################################## * using log directory ‘/home/biocbuild/bbs-3.17-bioc/meat/multiHiCcompare.Rcheck’ * using R Under development (unstable) (2023-03-16 r83996) * using platform: x86_64-pc-linux-gnu (64-bit) * R was compiled by gcc (Ubuntu 11.3.0-1ubuntu1~22.04) 11.3.0 GNU Fortran (Ubuntu 11.3.0-1ubuntu1~22.04) 11.3.0 * running under: Ubuntu 22.04.2 LTS * using session charset: UTF-8 * checking for file ‘multiHiCcompare/DESCRIPTION’ ... OK * this is package ‘multiHiCcompare’ version ‘1.17.0’ * package encoding: UTF-8 * checking package namespace information ... OK * checking package dependencies ... OK * checking if this is a source package ... OK * checking if there is a namespace ... OK * checking for hidden files and directories ... OK * checking for portable file names ... OK * checking for sufficient/correct file permissions ... OK * checking whether package ‘multiHiCcompare’ can be installed ... OK * checking installed package size ... OK * checking package directory ... OK * checking ‘build’ directory ... OK * checking DESCRIPTION meta-information ... OK * checking top-level files ... OK * checking for left-over files ... OK * checking index information ... OK * checking package subdirectories ... OK * checking R files for non-ASCII characters ... OK * checking R files for syntax errors ... OK * checking whether the package can be loaded ... OK * checking whether the package can be loaded with stated dependencies ... OK * checking whether the package can be unloaded cleanly ... OK * checking whether the namespace can be loaded with stated dependencies ... OK * checking whether the namespace can be unloaded cleanly ... OK * checking loading without being on the library search path ... OK * checking dependencies in R code ... OK * checking S3 generic/method consistency ... OK * checking replacement functions ... OK * checking foreign function calls ... OK * checking R code for possible problems ... NOTE .count_manhattan: no visible global function definition for ‘textxy’ cyclic_loess: no visible binding for global variable ‘chr’ cyclic_loess: no visible binding for global variable ‘region1’ cyclic_loess: no visible binding for global variable ‘region2’ exportJuicebox: no visible binding for global variable ‘logCPM’ exportJuicebox: no visible binding for global variable ‘logFC’ exportJuicebox: no visible binding for global variable ‘p.adj’ fastlo: no visible binding for global variable ‘chr’ fastlo: no visible binding for global variable ‘region1’ fastlo: no visible binding for global variable ‘region2’ hic_exactTest: no visible binding for global variable ‘chr’ hic_exactTest: no visible binding for global variable ‘region1’ hic_exactTest: no visible binding for global variable ‘region2’ hic_filter: no visible binding for global variable ‘hg19_cyto’ hic_glm: no visible binding for global variable ‘chr’ hic_glm: no visible binding for global variable ‘region1’ hic_glm: no visible binding for global variable ‘region2’ make_hicexp: no visible binding for global variable ‘hg19_cyto’ make_hicexp: no visible binding for global variable ‘region2’ make_hicexp: no visible binding for global variable ‘region1’ make_hicexp: no visible binding for global variable ‘chr’ perm_test: no visible binding for global variable ‘chr’ perm_test: no visible global function definition for ‘IRanges’ topDirs: no visible binding for global variable ‘logCPM’ topDirs: no visible binding for global variable ‘logFC’ topDirs: no visible binding for global variable ‘p.adj’ Undefined global functions or variables: IRanges chr hg19_cyto logCPM logFC p.adj region1 region2 textxy * checking Rd files ... OK * checking Rd metadata ... OK * checking Rd cross-references ... OK * checking for missing documentation entries ... OK * checking for code/documentation mismatches ... OK * checking Rd \usage sections ... OK * checking Rd contents ... OK * checking for unstated dependencies in examples ... OK * checking contents of ‘data’ directory ... OK * checking data for non-ASCII characters ... OK * checking LazyData ... OK * checking data for ASCII and uncompressed saves ... OK * checking files in ‘vignettes’ ... OK * checking examples ... OK * checking for unstated dependencies in ‘tests’ ... OK * checking tests ... Running ‘testthat.R’ OK * checking for unstated dependencies in vignettes ... OK * checking package vignettes in ‘inst/doc’ ... OK * checking running R code from vignettes ... ‘juiceboxVisualization.Rmd’ using ‘UTF-8’... OK ‘multiHiCcompare.Rmd’ using ‘UTF-8’... OK NONE * checking re-building of vignette outputs ... OK * checking PDF version of manual ... OK * DONE Status: 1 NOTE See ‘/home/biocbuild/bbs-3.17-bioc/meat/multiHiCcompare.Rcheck/00check.log’ for details.
multiHiCcompare.Rcheck/00install.out
############################################################################## ############################################################################## ### ### Running command: ### ### /home/biocbuild/bbs-3.17-bioc/R/bin/R CMD INSTALL multiHiCcompare ### ############################################################################## ############################################################################## * installing to library ‘/home/biocbuild/bbs-3.17-bioc/R/site-library’ * installing *source* package ‘multiHiCcompare’ ... ** using staged installation ** R ** data *** moving datasets to lazyload DB ** inst ** byte-compile and prepare package for lazy loading ** help *** installing help indices ** building package indices ** installing vignettes ** testing if installed package can be loaded from temporary location ** testing if installed package can be loaded from final location ** testing if installed package keeps a record of temporary installation path * DONE (multiHiCcompare)
multiHiCcompare.Rcheck/tests/testthat.Rout
R Under development (unstable) (2023-03-16 r83996) -- "Unsuffered Consequences" Copyright (C) 2023 The R Foundation for Statistical Computing Platform: x86_64-pc-linux-gnu (64-bit) R is free software and comes with ABSOLUTELY NO WARRANTY. You are welcome to redistribute it under certain conditions. Type 'license()' or 'licence()' for distribution details. R is a collaborative project with many contributors. Type 'contributors()' for more information and 'citation()' on how to cite R or R packages in publications. Type 'demo()' for some demos, 'help()' for on-line help, or 'help.start()' for an HTML browser interface to help. Type 'q()' to quit R. > library(testthat) > library(multiHiCcompare) > > test_check("multiHiCcompare") [ FAIL 0 | WARN 0 | SKIP 0 | PASS 17 ] > > proc.time() user system elapsed 32.191 0.891 32.780
multiHiCcompare.Rcheck/multiHiCcompare-Ex.timings
name | user | system | elapsed | |
Hicexp-class | 0.008 | 0.008 | 0.016 | |
MD_composite | 0.116 | 0.020 | 0.135 | |
MD_hicexp | 0.504 | 0.028 | 0.533 | |
cyclic_loess | 2.330 | 0.071 | 2.392 | |
exportJuicebox | 0.038 | 0.000 | 0.033 | |
fastlo | 0.767 | 0.000 | 0.748 | |
hic_exactTest | 0.001 | 0.000 | 0.000 | |
hic_filter | 1.240 | 0.020 | 1.245 | |
hic_glm | 0 | 0 | 0 | |
hic_scale | 0.071 | 0.000 | 0.060 | |
hic_table | 0.014 | 0.000 | 0.014 | |
make_hicexp | 0.664 | 0.020 | 0.667 | |
manhattan_hicexp | 0.359 | 0.016 | 0.370 | |
meta | 0.012 | 0.000 | 0.011 | |
normalized | 0.019 | 0.004 | 0.023 | |
perm_test | 0 | 0 | 0 | |
plot_counts | 0.053 | 0.003 | 0.056 | |
plot_pvals | 0.079 | 0.008 | 0.087 | |
pval_heatmap | 0.747 | 0.016 | 0.757 | |
resolution | 0.009 | 0.000 | 0.010 | |
results | 0.020 | 0.012 | 0.032 | |
topDirs | 0.028 | 0.004 | 0.032 | |