Back to Multiple platform build/check report for BioC 3.17: simplified long |
|
This page was generated on 2023-03-16 11:07:31 -0400 (Thu, 16 Mar 2023).
Hostname | OS | Arch (*) | R version | Installed pkgs |
---|---|---|---|---|
nebbiolo1 | Linux (Ubuntu 22.04.1 LTS) | x86_64 | R Under development (unstable) (2023-01-10 r83596) -- "Unsuffered Consequences" | 4540 |
palomino3 | Windows Server 2022 Datacenter | x64 | R Under development (unstable) (2023-01-10 r83596 ucrt) -- "Unsuffered Consequences" | 4302 |
merida1 | macOS 10.14.6 Mojave | x86_64 | R Under development (unstable) (2023-01-10 r83596) -- "Unsuffered Consequences" | 4330 |
Click on any hostname to see more info about the system (e.g. compilers) (*) as reported by 'uname -p', except on Windows and Mac OS X |
To the developers/maintainers of the spicyR package: - Please allow up to 24 hours (and sometimes 48 hours) for your latest push to git@git.bioconductor.org:packages/spicyR.git to reflect on this report. See How and When does the builder pull? When will my changes propagate? for more information. - Make sure to use the following settings in order to reproduce any error or warning you see on this page. |
Package 1950/2189 | Hostname | OS / Arch | INSTALL | BUILD | CHECK | BUILD BIN | ||||||||
spicyR 1.11.6 (landing page) Ellis Patrick
| nebbiolo1 | Linux (Ubuntu 22.04.1 LTS) / x86_64 | OK | OK | OK | ![]() | ||||||||
palomino3 | Windows Server 2022 Datacenter / x64 | OK | OK | OK | OK | ![]() | ||||||||
merida1 | macOS 10.14.6 Mojave / x86_64 | OK | OK | OK | OK | ![]() | ||||||||
Package: spicyR |
Version: 1.11.6 |
Command: /Library/Frameworks/R.framework/Resources/bin/R CMD check --install=check:spicyR.install-out.txt --library=/Library/Frameworks/R.framework/Resources/library --no-vignettes --timings spicyR_1.11.6.tar.gz |
StartedAt: 2023-03-16 07:16:10 -0400 (Thu, 16 Mar 2023) |
EndedAt: 2023-03-16 07:26:05 -0400 (Thu, 16 Mar 2023) |
EllapsedTime: 595.0 seconds |
RetCode: 0 |
Status: OK |
CheckDir: spicyR.Rcheck |
Warnings: 0 |
############################################################################## ############################################################################## ### ### Running command: ### ### /Library/Frameworks/R.framework/Resources/bin/R CMD check --install=check:spicyR.install-out.txt --library=/Library/Frameworks/R.framework/Resources/library --no-vignettes --timings spicyR_1.11.6.tar.gz ### ############################################################################## ############################################################################## * using log directory ‘/Users/biocbuild/bbs-3.17-bioc/meat/spicyR.Rcheck’ * using R Under development (unstable) (2023-01-10 r83596) * using platform: x86_64-apple-darwin17.0 (64-bit) * R was compiled by Apple clang version 12.0.0 (clang-1200.0.32.29) GNU Fortran (GCC) 8.2.0 * running under: macOS Mojave 10.14.6 * using session charset: UTF-8 * using option ‘--no-vignettes’ * checking for file ‘spicyR/DESCRIPTION’ ... OK * checking extension type ... Package * this is package ‘spicyR’ version ‘1.11.6’ * package encoding: UTF-8 * checking package namespace information ... OK * checking package dependencies ... OK * checking if this is a source package ... OK * checking if there is a namespace ... OK * checking for hidden files and directories ... OK * checking for portable file names ... OK * checking for sufficient/correct file permissions ... OK * checking whether package ‘spicyR’ can be installed ... OK * checking installed package size ... NOTE installed size is 5.9Mb sub-directories of 1Mb or more: data 4.1Mb * checking package directory ... OK * checking ‘build’ directory ... OK * checking DESCRIPTION meta-information ... OK * checking top-level files ... OK * checking for left-over files ... OK * checking index information ... OK * checking package subdirectories ... OK * checking R files for non-ASCII characters ... OK * checking R files for syntax errors ... OK * checking whether the package can be loaded ... OK * checking whether the package can be loaded with stated dependencies ... OK * checking whether the package can be unloaded cleanly ... OK * checking whether the namespace can be loaded with stated dependencies ... OK * checking whether the namespace can be unloaded cleanly ... OK * checking dependencies in R code ... OK * checking S3 generic/method consistency ... OK * checking replacement functions ... OK * checking foreign function calls ... OK * checking R code for possible problems ... NOTE bubblePlot: no visible binding for global variable ‘condition’ calcWeights: no visible binding for global variable ‘pairwiseAssoc’ inhomL: no visible binding for global variable ‘j’ inhomL: no visible binding for global variable ‘value’ inhomL: no visible binding for global variable ‘i’ inhomL: no visible binding for global variable ‘d’ inhomL: no visible binding for global variable ‘cellTypeI’ inhomL: no visible binding for global variable ‘cellTypeJ’ inhomL: no visible global function definition for ‘.’ inhomL: no visible binding for global variable ‘wt’ inhomLPair: no visible binding for global variable ‘i’ spatialLMBootstrap : functionToReplicate: no visible global function definition for ‘nrows’ spicy: no visible global function definition for ‘column_to_rownames’ spicy: no visible global function definition for ‘%>%’ spicy: no visible binding for global variable ‘konditionalResult’ spicy: no visible global function definition for ‘select’ spicy: no visible binding for global variable ‘test’ spicy: no visible binding for global variable ‘konditional’ spicy: no visible global function definition for ‘pivot_wider’ spicy: no visible global function definition for ‘mutate’ spicy: no visible global function definition for ‘separate’ spicy: no visible binding for global variable ‘fromName’ spicy: no visible binding for global variable ‘parent’ Undefined global functions or variables: %>% . cellTypeI cellTypeJ column_to_rownames condition d fromName i j konditional konditionalResult mutate nrows pairwiseAssoc parent pivot_wider select separate test value wt * checking Rd files ... OK * checking Rd metadata ... OK * checking Rd cross-references ... OK * checking for missing documentation entries ... OK * checking for code/documentation mismatches ... OK * checking Rd \usage sections ... OK * checking Rd contents ... OK * checking for unstated dependencies in examples ... OK * checking contents of ‘data’ directory ... OK * checking data for non-ASCII characters ... OK * checking LazyData ... OK * checking data for ASCII and uncompressed saves ... OK * checking files in ‘vignettes’ ... OK * checking examples ... OK Examples with CPU (user + system) or elapsed time > 5s user system elapsed spicy 39.302 0.174 50.095 colTest 8.247 0.154 10.750 getPairwise 7.541 0.132 9.697 * checking for unstated dependencies in vignettes ... OK * checking package vignettes in ‘inst/doc’ ... OK * checking running R code from vignettes ... SKIPPED * checking re-building of vignette outputs ... SKIPPED * checking PDF version of manual ... OK * DONE Status: 2 NOTEs See ‘/Users/biocbuild/bbs-3.17-bioc/meat/spicyR.Rcheck/00check.log’ for details.
spicyR.Rcheck/00install.out
############################################################################## ############################################################################## ### ### Running command: ### ### /Library/Frameworks/R.framework/Resources/bin/R CMD INSTALL spicyR ### ############################################################################## ############################################################################## * installing to library ‘/Library/Frameworks/R.framework/Versions/4.3/Resources/library’ * installing *source* package ‘spicyR’ ... ** using staged installation ** R ** data *** moving datasets to lazyload DB ** inst ** byte-compile and prepare package for lazy loading ** help *** installing help indices ** building package indices ** installing vignettes ** testing if installed package can be loaded from temporary location ** testing if installed package can be loaded from final location ** testing if installed package keeps a record of temporary installation path * DONE (spicyR)
spicyR.Rcheck/spicyR-Ex.timings
name | user | system | elapsed | |
Accessors | 1.726 | 0.011 | 2.198 | |
SegmentedCells | 0.529 | 0.002 | 0.663 | |
colTest | 8.247 | 0.154 | 10.750 | |
getPairwise | 7.541 | 0.132 | 9.697 | |
getProp | 3.611 | 0.040 | 4.708 | |
plot-SegmentedCells | 0.449 | 0.002 | 0.558 | |
show-SegmentedCells | 0.590 | 0.003 | 0.756 | |
signifPlot | 2.292 | 0.047 | 2.945 | |
spicy | 39.302 | 0.174 | 50.095 | |
topPairs | 0.011 | 0.002 | 0.017 | |