Back to Multiple platform build/check report for BioC 3.17:   simplified   long
A[B]CDEFGHIJKLMNOPQRSTUVWXYZ

This page was generated on 2023-05-27 11:05:37 -0400 (Sat, 27 May 2023).

HostnameOSArch (*)R versionInstalled pkgs
nebbiolo1Linux (Ubuntu 22.04.2 LTS)x86_644.3.0 RC (2023-04-13 r84269) -- "Already Tomorrow" 4617
palomino3Windows Server 2022 Datacenterx644.3.0 RC (2023-04-13 r84269 ucrt) -- "Already Tomorrow" 4368
merida1macOS 12.6.4 Montereyx86_644.3.0 RC (2023-04-13 r84257) -- "Already Tomorrow" 4326
Click on any hostname to see more info about the system (e.g. compilers)      (*) as reported by 'uname -p', except on Windows and Mac OS X

BUILD BIN results for BayesSpace on palomino3


To the developers/maintainers of the BayesSpace package:
- Allow up to 24 hours (and sometimes 48 hours) for your latest push to git@git.bioconductor.org:packages/BayesSpace.git to reflect on this report. See Troubleshooting Build Report for more information.

- Use the following Renviron settings to reproduce errors and warnings.

Note: If "R CMD check" recently failed on the Linux builder over a missing dependency, add the missing dependency to "Suggests" in your DESCRIPTION file. See the Renviron.bioc for details.

raw results

Package 138/2229HostnameOS / ArchINSTALLBUILDCHECKBUILD BIN
BayesSpace 1.10.1  (landing page)
Matt Stone
Snapshot Date: 2023-05-26 14:00:16 -0400 (Fri, 26 May 2023)
git_url: https://git.bioconductor.org/packages/BayesSpace
git_branch: RELEASE_3_17
git_last_commit: 8af698b
git_last_commit_date: 2023-05-01 20:03:51 -0400 (Mon, 01 May 2023)
nebbiolo1Linux (Ubuntu 22.04.2 LTS) / x86_64  OK    OK    OK  UNNEEDED, same version is already published
palomino3Windows Server 2022 Datacenter / x64  OK    OK    OK    OK  UNNEEDED, same version is already published
merida1macOS 12.6.4 Monterey / x86_64  OK    OK    OK    OK  NO, package depends on 'scater' which is not available

Summary

Package: BayesSpace
Version: 1.10.1
Command: rm -rf BayesSpace.buildbin-libdir && mkdir BayesSpace.buildbin-libdir && F:\biocbuild\bbs-3.17-bioc\R\bin\R.exe CMD INSTALL --build --library=BayesSpace.buildbin-libdir BayesSpace_1.10.1.tar.gz
StartedAt: 2023-05-27 08:40:50 -0400 (Sat, 27 May 2023)
EndedAt: 2023-05-27 08:42:36 -0400 (Sat, 27 May 2023)
EllapsedTime: 106.3 seconds
RetCode: 0
Status:   OK  
PackageFile: BayesSpace_1.10.1.zip
PackageFileSize: 1.582 MiB

Command output

##############################################################################
##############################################################################
###
### Running command:
###
###   rm -rf BayesSpace.buildbin-libdir && mkdir BayesSpace.buildbin-libdir && F:\biocbuild\bbs-3.17-bioc\R\bin\R.exe CMD INSTALL --build --library=BayesSpace.buildbin-libdir BayesSpace_1.10.1.tar.gz
###
##############################################################################
##############################################################################


* installing *source* package 'BayesSpace' ...
** using staged installation
** libs
using C++ compiler: 'G__~1.EXE (GCC) 12.2.0'
using C++11
g++  -std=gnu++11 -I"F:/biocbuild/bbs-3.17-bioc/R/include" -DNDEBUG  -I'F:/biocbuild/bbs-3.17-bioc/R/library/Rcpp/include' -I'F:/biocbuild/bbs-3.17-bioc/R/library/RcppArmadillo/include' -I'F:/biocbuild/bbs-3.17-bioc/R/library/RcppDist/include' -I'F:/biocbuild/bbs-3.17-bioc/R/library/RcppProgress/include'   -I"C:/rtools43/x86_64-w64-mingw32.static.posix/include"  -fopenmp    -O2 -Wall  -mfpmath=sse -msse2 -mstackrealign  -c RcppExports.cpp -o RcppExports.o
g++  -std=gnu++11 -I"F:/biocbuild/bbs-3.17-bioc/R/include" -DNDEBUG  -I'F:/biocbuild/bbs-3.17-bioc/R/library/Rcpp/include' -I'F:/biocbuild/bbs-3.17-bioc/R/library/RcppArmadillo/include' -I'F:/biocbuild/bbs-3.17-bioc/R/library/RcppDist/include' -I'F:/biocbuild/bbs-3.17-bioc/R/library/RcppProgress/include'   -I"C:/rtools43/x86_64-w64-mingw32.static.posix/include"  -fopenmp    -O2 -Wall  -mfpmath=sse -msse2 -mstackrealign  -c cluster.cpp -o cluster.o
g++ -shared -s -static-libgcc -o BayesSpace.dll tmp.def RcppExports.o cluster.o -fopenmp -LF:/biocbuild/bbs-3.17-bioc/R/bin/x64 -lRlapack -LF:/biocbuild/bbs-3.17-bioc/R/bin/x64 -lRblas -lgfortran -lm -lquadmath -LC:/rtools43/x86_64-w64-mingw32.static.posix/lib/x64 -LC:/rtools43/x86_64-w64-mingw32.static.posix/lib -LF:/biocbuild/bbs-3.17-bioc/R/bin/x64 -lR
installing to F:/biocbuild/bbs-3.17-bioc/meat/BayesSpace.buildbin-libdir/00LOCK-BayesSpace/00new/BayesSpace/libs/x64
** R
** inst
** byte-compile and prepare package for lazy loading
** help
*** installing help indices
** building package indices
** installing vignettes
** testing if installed package can be loaded from temporary location
** testing if installed package can be loaded from final location
** testing if installed package keeps a record of temporary installation path
* MD5 sums
packaged installation of 'BayesSpace' as BayesSpace_1.10.1.zip
* DONE (BayesSpace)