Back to Multiple platform build/check report for BioC 3.17: simplified long |
|
This page was generated on 2023-03-31 11:02:37 -0400 (Fri, 31 Mar 2023).
Hostname | OS | Arch (*) | R version | Installed pkgs |
---|---|---|---|---|
nebbiolo1 | Linux (Ubuntu 22.04.1 LTS) | x86_64 | R Under development (unstable) (2023-03-16 r83996) -- "Unsuffered Consequences" | 4547 |
palomino3 | Windows Server 2022 Datacenter | x64 | R Under development (unstable) (2023-03-15 r83984 ucrt) -- "Unsuffered Consequences" | 4308 |
Click on any hostname to see more info about the system (e.g. compilers) (*) as reported by 'uname -p', except on Windows and Mac OS X |
To the developers/maintainers of the CAGEr package: - Allow up to 24 hours (and sometimes 48 hours) for your latest push to git@git.bioconductor.org:packages/CAGEr.git to reflect on this report. See Troubleshooting Build Report for more information. - Use the following Renviron settings to reproduce errors and warnings. Note: If "R CMD check" recently failed on the Linux builder over a missing dependency, add the missing dependency to "Suggests" in your DESCRIPTION file. See the Renviron.bioc for details. |
Package 256/2195 | Hostname | OS / Arch | INSTALL | BUILD | CHECK | BUILD BIN | ||||||||
CAGEr 2.5.0 (landing page) Charles Plessy
| nebbiolo1 | Linux (Ubuntu 22.04.1 LTS) / x86_64 | OK | OK | OK | ![]() | ||||||||
palomino3 | Windows Server 2022 Datacenter / x64 | OK | OK | OK | OK | ![]() | ||||||||
Package: CAGEr |
Version: 2.5.0 |
Command: /home/biocbuild/bbs-3.17-bioc/R/bin/R CMD check --install=check:CAGEr.install-out.txt --library=/home/biocbuild/bbs-3.17-bioc/R/site-library --timings CAGEr_2.5.0.tar.gz |
StartedAt: 2023-03-30 19:06:33 -0400 (Thu, 30 Mar 2023) |
EndedAt: 2023-03-30 19:16:56 -0400 (Thu, 30 Mar 2023) |
EllapsedTime: 622.5 seconds |
RetCode: 0 |
Status: OK |
CheckDir: CAGEr.Rcheck |
Warnings: 0 |
############################################################################## ############################################################################## ### ### Running command: ### ### /home/biocbuild/bbs-3.17-bioc/R/bin/R CMD check --install=check:CAGEr.install-out.txt --library=/home/biocbuild/bbs-3.17-bioc/R/site-library --timings CAGEr_2.5.0.tar.gz ### ############################################################################## ############################################################################## * using log directory ‘/home/biocbuild/bbs-3.17-bioc/meat/CAGEr.Rcheck’ * using R Under development (unstable) (2023-03-16 r83996) * using platform: x86_64-pc-linux-gnu (64-bit) * R was compiled by gcc (Ubuntu 11.3.0-1ubuntu1~22.04) 11.3.0 GNU Fortran (Ubuntu 11.3.0-1ubuntu1~22.04) 11.3.0 * running under: Ubuntu 22.04.2 LTS * using session charset: UTF-8 * checking for file ‘CAGEr/DESCRIPTION’ ... OK * this is package ‘CAGEr’ version ‘2.5.0’ * package encoding: UTF-8 * checking package namespace information ... OK * checking package dependencies ... OK * checking if this is a source package ... OK * checking if there is a namespace ... OK * checking for hidden files and directories ... OK * checking for portable file names ... OK * checking for sufficient/correct file permissions ... OK * checking whether package ‘CAGEr’ can be installed ... OK * checking installed package size ... OK * checking package directory ... OK * checking ‘build’ directory ... OK * checking DESCRIPTION meta-information ... OK * checking top-level files ... OK * checking for left-over files ... OK * checking index information ... OK * checking package subdirectories ... OK * checking R files for non-ASCII characters ... OK * checking R files for syntax errors ... OK * checking whether the package can be loaded ... OK * checking whether the package can be loaded with stated dependencies ... OK * checking whether the package can be unloaded cleanly ... OK * checking whether the namespace can be loaded with stated dependencies ... OK * checking whether the namespace can be unloaded cleanly ... OK * checking loading without being on the library search path ... OK * checking dependencies in R code ... OK * checking S3 generic/method consistency ... OK * checking replacement functions ... OK * checking foreign function calls ... OK * checking R code for possible problems ... OK * checking Rd files ... OK * checking Rd metadata ... OK * checking Rd cross-references ... OK * checking for missing documentation entries ... OK * checking for code/documentation mismatches ... OK * checking Rd \usage sections ... OK * checking Rd contents ... OK * checking for unstated dependencies in examples ... OK * checking contents of ‘data’ directory ... OK * checking data for non-ASCII characters ... OK * checking LazyData ... OK * checking data for ASCII and uncompressed saves ... OK * checking files in ‘vignettes’ ... OK * checking examples ... OK Examples with CPU (user + system) or elapsed time > 5s user system elapsed cumulativeCTSSdistribution 32.282 7.091 39.356 clusterCTSS 30.426 0.395 30.803 exportToTrack 26.867 0.032 26.899 quantilePositions 16.372 0.059 16.432 aggregateTagClusters 6.389 0.007 6.373 * checking for unstated dependencies in vignettes ... OK * checking package vignettes in ‘inst/doc’ ... OK * checking running R code from vignettes ... ‘CAGE_Resources.Rmd’ using ‘UTF-8’... OK ‘CAGEexp.Rmd’ using ‘UTF-8’... OK NONE * checking re-building of vignette outputs ... OK * checking PDF version of manual ... OK * DONE Status: OK
CAGEr.Rcheck/00install.out
############################################################################## ############################################################################## ### ### Running command: ### ### /home/biocbuild/bbs-3.17-bioc/R/bin/R CMD INSTALL CAGEr ### ############################################################################## ############################################################################## * installing to library ‘/home/biocbuild/bbs-3.17-bioc/R/site-library’ * installing *source* package ‘CAGEr’ ... ** using staged installation ** R ** data *** moving datasets to lazyload DB ** inst ** byte-compile and prepare package for lazy loading ** help *** installing help indices ** building package indices ** installing vignettes ** testing if installed package can be loaded from temporary location ** testing if installed package can be loaded from final location ** testing if installed package keeps a record of temporary installation path * DONE (CAGEr)
CAGEr.Rcheck/CAGEr-Ex.timings
name | user | system | elapsed | |
CAGEexp-class | 1.665 | 0.044 | 1.714 | |
CAGEr_Multicore | 2.878 | 0.000 | 2.877 | |
CTSS-class | 0.265 | 0.000 | 0.266 | |
CTSSclusteringMethod | 0.001 | 0.000 | 0.001 | |
CTSScoordinates | 0.064 | 0.004 | 0.069 | |
CTSSnormalizedTpm | 0.652 | 0.056 | 0.708 | |
CTSStagCount | 0.799 | 0.056 | 0.854 | |
CTSStoGenes | 0.301 | 0.000 | 0.301 | |
CustomConsensusClusters | 0.879 | 0.000 | 0.879 | |
GeneExpDESeq2 | 0.405 | 0.000 | 0.405 | |
GeneExpSE | 0.004 | 0.000 | 0.004 | |
QuantileWidthFunctions | 0.102 | 0.000 | 0.102 | |
aggregateTagClusters | 6.389 | 0.007 | 6.373 | |
annotateCTSS | 1.372 | 0.000 | 1.372 | |
byCtss | 0.006 | 0.000 | 0.005 | |
clusterCTSS | 30.426 | 0.395 | 30.803 | |
consensusClusters | 0.120 | 0.000 | 0.119 | |
consensusClustersDESeq2 | 0.162 | 0.000 | 0.162 | |
consensusClustersTpm | 0.005 | 0.000 | 0.006 | |
coverage-functions | 4.114 | 0.504 | 4.618 | |
cumulativeCTSSdistribution | 32.282 | 7.091 | 39.356 | |
distclu-functions | 3.402 | 0.744 | 4.100 | |
exampleCAGEexp | 0 | 0 | 0 | |
exportToTrack | 26.867 | 0.032 | 26.899 | |
expressionClasses | 0.015 | 0.000 | 0.015 | |
genomeName | 0 | 0 | 0 | |
getCTSS | 0.920 | 0.008 | 0.928 | |
getExpressionProfiles | 1.539 | 0.004 | 1.543 | |
getShiftingPromoters | 0.000 | 0.000 | 0.001 | |
hanabi | 0.236 | 0.012 | 0.248 | |
hanabiPlot | 0.272 | 0.004 | 0.275 | |
import.CAGEscanMolecule | 0 | 0 | 0 | |
import.CTSS | 0.074 | 0.000 | 0.073 | |
import.bam | 0 | 0 | 0 | |
import.bedCTSS | 0 | 0 | 0 | |
import.bedScore | 0.000 | 0.000 | 0.001 | |
import.bedmolecule | 0 | 0 | 0 | |
inputFiles | 0.000 | 0.002 | 0.001 | |
inputFilesType | 0.000 | 0.002 | 0.001 | |
librarySizes | 0.000 | 0.001 | 0.002 | |
mapStats | 0.049 | 0.000 | 0.049 | |
mergeCAGEsets | 1.917 | 0.024 | 1.941 | |
mergeSamples | 0.407 | 0.000 | 0.407 | |
moleculesGR2CTSS | 0.140 | 0.000 | 0.139 | |
normalizeTagCount | 0.439 | 0.000 | 0.418 | |
parseCAGEscanBlocksToGrangeTSS | 0.022 | 0.000 | 0.021 | |
plotAnnot | 2.625 | 0.016 | 2.640 | |
plotCorrelation | 0.241 | 0.000 | 0.241 | |
plotExpressionProfiles | 4.599 | 0.064 | 4.663 | |
plotInterquantileWidth | 2.02 | 0.04 | 2.06 | |
plotReverseCumulatives | 0.348 | 0.000 | 0.303 | |
quantilePositions | 16.372 | 0.059 | 16.432 | |
ranges2annot | 0.346 | 0.000 | 0.347 | |
ranges2genes | 0.054 | 0.000 | 0.054 | |
ranges2names | 0.054 | 0.000 | 0.054 | |
sampleLabels | 0.004 | 0.000 | 0.004 | |
scoreShift | 0 | 0 | 0 | |
seqNameTotalsSE | 0.000 | 0.004 | 0.004 | |
setColors | 0.301 | 0.004 | 0.305 | |
strandInvaders | 0.620 | 0.084 | 0.686 | |
summariseChrExpr | 0.369 | 0.000 | 0.370 | |
tagClusters | 0.078 | 0.004 | 0.082 | |