Back to Multiple platform build/check report for BioC 3.17: simplified long |
|
This page was generated on 2023-06-05 11:03:57 -0400 (Mon, 05 Jun 2023).
Hostname | OS | Arch (*) | R version | Installed pkgs |
---|---|---|---|---|
nebbiolo1 | Linux (Ubuntu 22.04.2 LTS) | x86_64 | 4.3.0 RC (2023-04-13 r84269) -- "Already Tomorrow" | 4623 |
palomino3 | Windows Server 2022 Datacenter | x64 | 4.3.0 RC (2023-04-13 r84269 ucrt) -- "Already Tomorrow" | 4374 |
merida1 | macOS 12.6.4 Monterey | x86_64 | 4.3.0 RC (2023-04-13 r84257) -- "Already Tomorrow" | 4332 |
Click on any hostname to see more info about the system (e.g. compilers) (*) as reported by 'uname -p', except on Windows and Mac OS X |
To the developers/maintainers of the EpiCompare package: - Allow up to 24 hours (and sometimes 48 hours) for your latest push to git@git.bioconductor.org:packages/EpiCompare.git to reflect on this report. See Troubleshooting Build Report for more information. - Use the following Renviron settings to reproduce errors and warnings. Note: If "R CMD check" recently failed on the Linux builder over a missing dependency, add the missing dependency to "Suggests" in your DESCRIPTION file. See the Renviron.bioc for details. |
Package 636/2229 | Hostname | OS / Arch | INSTALL | BUILD | CHECK | BUILD BIN | ||||||||
EpiCompare 1.4.0 (landing page) Sera Choi
| nebbiolo1 | Linux (Ubuntu 22.04.2 LTS) / x86_64 | OK | OK | ERROR | |||||||||
palomino3 | Windows Server 2022 Datacenter / x64 | OK | ERROR | skipped | skipped | |||||||||
merida1 | macOS 12.6.4 Monterey / x86_64 | OK | OK | OK | OK | ![]() | ||||||||
Package: EpiCompare |
Version: 1.4.0 |
Command: /home/biocbuild/bbs-3.17-bioc/R/bin/R CMD check --install=check:EpiCompare.install-out.txt --library=/home/biocbuild/bbs-3.17-bioc/R/site-library --timings EpiCompare_1.4.0.tar.gz |
StartedAt: 2023-06-04 20:57:09 -0400 (Sun, 04 Jun 2023) |
EndedAt: 2023-06-04 21:09:50 -0400 (Sun, 04 Jun 2023) |
EllapsedTime: 760.7 seconds |
RetCode: 1 |
Status: ERROR |
CheckDir: EpiCompare.Rcheck |
Warnings: NA |
############################################################################## ############################################################################## ### ### Running command: ### ### /home/biocbuild/bbs-3.17-bioc/R/bin/R CMD check --install=check:EpiCompare.install-out.txt --library=/home/biocbuild/bbs-3.17-bioc/R/site-library --timings EpiCompare_1.4.0.tar.gz ### ############################################################################## ############################################################################## * using log directory ‘/home/biocbuild/bbs-3.17-bioc/meat/EpiCompare.Rcheck’ * using R version 4.3.0 RC (2023-04-13 r84269) * using platform: x86_64-pc-linux-gnu (64-bit) * R was compiled by gcc (Ubuntu 11.3.0-1ubuntu1~22.04) 11.3.0 GNU Fortran (Ubuntu 11.3.0-1ubuntu1~22.04) 11.3.0 * running under: Ubuntu 22.04.2 LTS * using session charset: UTF-8 * checking for file ‘EpiCompare/DESCRIPTION’ ... OK * checking extension type ... Package * this is package ‘EpiCompare’ version ‘1.4.0’ * package encoding: UTF-8 * checking package namespace information ... OK * checking package dependencies ... OK * checking if this is a source package ... OK * checking if there is a namespace ... OK * checking for hidden files and directories ... OK * checking for portable file names ... OK * checking for sufficient/correct file permissions ... OK * checking whether package ‘EpiCompare’ can be installed ... OK * checking installed package size ... OK * checking package directory ... OK * checking ‘build’ directory ... OK * checking DESCRIPTION meta-information ... OK * checking top-level files ... OK * checking for left-over files ... OK * checking index information ... OK * checking package subdirectories ... OK * checking R files for non-ASCII characters ... OK * checking R files for syntax errors ... OK * checking whether the package can be loaded ... OK * checking whether the package can be loaded with stated dependencies ... OK * checking whether the package can be unloaded cleanly ... OK * checking whether the namespace can be loaded with stated dependencies ... OK * checking whether the namespace can be unloaded cleanly ... OK * checking loading without being on the library search path ... OK * checking dependencies in R code ... OK * checking S3 generic/method consistency ... OK * checking replacement functions ... OK * checking foreign function calls ... OK * checking R code for possible problems ... OK * checking Rd files ... OK * checking Rd metadata ... OK * checking Rd cross-references ... OK * checking for missing documentation entries ... OK * checking for code/documentation mismatches ... OK * checking Rd \usage sections ... OK * checking Rd contents ... OK * checking for unstated dependencies in examples ... OK * checking contents of ‘data’ directory ... OK * checking data for non-ASCII characters ... OK * checking data for ASCII and uncompressed saves ... OK * checking files in ‘vignettes’ ... OK * checking examples ... OK Examples with CPU (user + system) or elapsed time > 5s user system elapsed plot_enrichment 38.094 3.220 50.175 plot_ChIPseeker_annotation 22.747 1.548 24.296 rebin_peaks 7.500 2.439 4.143 plot_precision_recall 6.619 1.592 4.561 EpiCompare 7.273 0.900 8.187 predict_precision_recall 6.328 1.734 4.092 plot_corr 5.759 1.626 5.665 liftover_grlist 5.079 1.423 7.210 tss_plot 3.858 1.155 5.014 plot_chromHMM 4.304 0.625 9.306 * checking for unstated dependencies in ‘tests’ ... OK * checking tests ... Running ‘testthat.R’ ERROR Running the tests in ‘tests/testthat.R’ failed. Last 13 lines of output: 20. │ ├─base::withVisible(...) 21. │ └─evaluate:::eval_with_user_handlers(expr, envir, enclos, user_handlers) 22. │ └─base::eval(expr, envir, enclos) 23. │ └─base::eval(expr, envir, enclos) 24. └─EpiCompare:::save_output(...) 25. └─ggplot2::ggsave(...) 26. ├─grid::grid.draw(plot) 27. └─ggplot2:::grid.draw.ggplot(plot) 28. ├─base::print(x) 29. └─ggplot2:::print.ggplot(x) 30. └─grid::grid.newpage() [ FAIL 1 | WARN 7 | SKIP 0 | PASS 92 ] Error: Test failures Execution halted * checking for unstated dependencies in vignettes ... OK * checking package vignettes in ‘inst/doc’ ... OK * checking running R code from vignettes ... ‘EpiCompare.Rmd’ using ‘UTF-8’... OK ‘docker.Rmd’ using ‘UTF-8’... OK ‘example_report.Rmd’ using ‘UTF-8’... OK NONE * checking re-building of vignette outputs ... OK * checking PDF version of manual ... OK * DONE Status: 1 ERROR See ‘/home/biocbuild/bbs-3.17-bioc/meat/EpiCompare.Rcheck/00check.log’ for details.
EpiCompare.Rcheck/00install.out
############################################################################## ############################################################################## ### ### Running command: ### ### /home/biocbuild/bbs-3.17-bioc/R/bin/R CMD INSTALL EpiCompare ### ############################################################################## ############################################################################## * installing to library ‘/home/biocbuild/bbs-3.17-bioc/R/site-library’ * installing *source* package ‘EpiCompare’ ... ** using staged installation ** R ** data ** inst ** byte-compile and prepare package for lazy loading Warning: replacing previous import ‘Biostrings::pattern’ by ‘grid::pattern’ when loading ‘genomation’ ** help *** installing help indices ** building package indices ** installing vignettes ** testing if installed package can be loaded from temporary location Warning: replacing previous import ‘Biostrings::pattern’ by ‘grid::pattern’ when loading ‘genomation’ ** testing if installed package can be loaded from final location Warning: replacing previous import ‘Biostrings::pattern’ by ‘grid::pattern’ when loading ‘genomation’ ** testing if installed package keeps a record of temporary installation path * DONE (EpiCompare)
EpiCompare.Rcheck/tests/testthat.Rout.fail
R version 4.3.0 RC (2023-04-13 r84269) -- "Already Tomorrow" Copyright (C) 2023 The R Foundation for Statistical Computing Platform: x86_64-pc-linux-gnu (64-bit) R is free software and comes with ABSOLUTELY NO WARRANTY. You are welcome to redistribute it under certain conditions. Type 'license()' or 'licence()' for distribution details. R is a collaborative project with many contributors. Type 'contributors()' for more information and 'citation()' on how to cite R or R packages in publications. Type 'demo()' for some demos, 'help()' for on-line help, or 'help.start()' for an HTML browser interface to help. Type 'q()' to quit R. > library(testthat) > library(EpiCompare) Warning message: replacing previous import 'Biostrings::pattern' by 'grid::pattern' when loading 'genomation' > > test_check("EpiCompare") All EpiCompare features are being used. WARNING: precision-recall curves cannot be generated when reference=NULL. processing file: EpiCompare.Rmd output file: EpiCompare.knit.md /usr/bin/pandoc +RTS -K512m -RTS EpiCompare.knit.md --to html4 --from markdown+autolink_bare_uris+tex_math_single_backslash --output /tmp/RtmpPpOXaB/EpiCompare_testthat/EpiCompare.html --lua-filter /home/biocbuild/bbs-3.17-bioc/R/site-library/rmarkdown/rmarkdown/lua/pagebreak.lua --lua-filter /home/biocbuild/bbs-3.17-bioc/R/site-library/rmarkdown/rmarkdown/lua/latex-div.lua --self-contained --variable bs3=TRUE --section-divs --table-of-contents --toc-depth 3 --variable toc_float=1 --variable toc_selectors=h1,h2,h3 --variable toc_collapsed=1 --variable toc_smooth_scroll=1 --variable toc_print=1 --template /home/biocbuild/bbs-3.17-bioc/R/site-library/rmarkdown/rmd/h/default.html --no-highlight --variable highlightjs=1 --number-sections --variable theme=bootstrap --css custom.css --mathjax --variable 'mathjax-url=https://mathjax.rstudio.com/latest/MathJax.js?config=TeX-AMS-MML_HTMLorMML' --include-in-header /tmp/RtmpPpOXaB/rmarkdown-str1cf792748a5ae4.html --variable code_folding=hide --variable code_menu=1 [WARNING] This document format requires a nonempty <title> element. Please specify either 'title' or 'pagetitle' in the metadata, e.g. by using --metadata pagetitle="..." on the command line. Falling back to 'EpiCompare.knit' Output created: /tmp/RtmpPpOXaB/EpiCompare_testthat/EpiCompare.html [1] "Done in 2.04 min." All outputs saved to: /tmp/RtmpPpOXaB/EpiCompare_testthat NOTE: The following EpiCompare features are NOT being used: - upset_plot= - stat_plot= - chromHMM_plot= - chipseeker_plot= - enrichment_plot= - tss_plot= - precision_recall_plot= - corr_plot= - add_download_button= processing file: EpiCompare.Rmd Quitting from lines 279-295 [width_boxplot] (EpiCompare.Rmd) [1] 1 [1] 3 [1] 5 [1] 7 [1] 9 [1] 11 [1] 13 [1] 15 [1] 17 [1] 19 [1] 21 [1] 23 [1] 25 [1] 2 [1] 4 [1] 6 [1] 8 [1] 10 [1] 12 [1] 14 [1] 16 [1] 18 [1] 20 [1] 22 [1] 24 [1] 26 [1] 1 [1] 2 [1] 3 [1] 4 [1] 5 [1] 6 [1] 7 [1] 8 [1] 9 [1] 10 [1] 11 [1] 12 [1] 13 [1] 14 [1] 15 [1] 16 [1] 17 [1] 18 [1] 19 [1] 20 [1] 21 [1] 22 [1] 23 [1] 24 [1] 25 [1] 26 [1] 1 [1] 2 [1] 3 [1] 4 [1] 5 [1] 6 [1] 7 [1] 8 [1] 9 [1] 10 [1] 11 [1] 12 [1] 13 [1] 14 [1] 15 [1] 16 [1] 17 [1] 18 [1] 19 [1] 20 [1] 21 [1] 22 [1] 23 [1] 24 [1] 25 [1] 26 Removing non-standard chromosomes. Computing consensus peaks for group: Imperial - 2 files - 1,670-2,707 peaks each Identified 1,325 consensus peaks from 2 peak files Computing consensus peaks for group: ENCODE - 1 files - 5,142-5,142 peaks each WARNING: Cannot compute consensus peaks when group has <2 peak files. Returning original GRanges object instead. Done computing consensus peaks in 0 min. Removing non-standard chromosomes. Computing consensus peaks for group: Imperial - 2 files - 1,670-2,707 peaks each Identified 2,982 consensus peaks from 2 peak files Computing consensus peaks for group: ENCODE - 1 files - 5,142-5,142 peaks each WARNING: Cannot compute consensus peaks when group has <2 peak files. Returning original GRanges object instead. Done computing consensus peaks in 0.37 min. Standardising peak files in 6,659 bins of 5e+05 bp. Merging data into matrix. Binned matrix size: 6,659 x 3 Matrix sparsity: 0.9526 Calculating correlation matrix. Done computing correlations in 2 seconds. Saving correlation results ==> /tmp/RtmpPpOXaB/file1cf79267a980a3.corr.csv.gz Standardising peak files in 32,488 bins of 1e+05 bp. Merging data into matrix. Binned matrix size: 32,488 x 3 Matrix sparsity: 0.974 Calculating correlation matrix. Done computing correlations in 2 seconds. Saving correlation results ==> /tmp/RtmpPpOXaB/file1cf792b49a1ac.corr.csv.gz Standardising peak files in 323,636 bins of 1e+04 bp. Merging data into matrix. Binned matrix size: 323,636 x 3 Matrix sparsity: 0.9936 Calculating correlation matrix. Done computing correlations in 5 seconds. Saving correlation results ==> /tmp/RtmpPpOXaB/file1cf7925c2751cc.corr.csv.gz Standardising peak files in 647,114 bins of 5,000 bp. Merging data into matrix. Binned matrix size: 647,114 x 3 Matrix sparsity: 0.996 Calculating correlation matrix. Done computing correlations in 6 seconds. Saving correlation results ==> /tmp/RtmpPpOXaB/file1cf79253c5f5a9.corr.csv.gz --- Running fragment_info() --- Done. Writing ==> /tmp/RtmpPpOXaB/processed_results/encode_H3K27ac.narrowPeaks.bed Writing ==> /tmp/RtmpPpOXaB/processed_results/CnT_H3K27ac.narrowPeaks.bed Writing ==> /tmp/RtmpPpOXaB/processed_results/CnR_H3K27ac.narrowPeaks.bed Searching for *.narrowPeaks.bed$ files... 3 matching files identified. Constructing file names. Importing files. Reading narrowPeaks Reading narrowPeaks Reading narrowPeaks 3 files retrieved. Searching for peaks.narrow files... 3 matching files identified. Constructing file names. Returning paths. Searching for peaks.narrow files... 0 matching files identified. Returning NULL. Writing ==> /tmp/RtmpPpOXaB/processed_results/encode_H3K27ac.narrowPeaks.bed Preparing chain file. loading from cache require("rtracklayer") Performing liftover: hg19 --> hg38 Removing non-standard chromosomes. Preparing chain file. Preparing chain file. loading from cache Performing liftover: hg38 --> hg19 Removing non-standard chromosomes. loading from cache Performing liftover: hg19 --> mm9 Removing non-standard chromosomes. NOTE: The following EpiCompare features are NOT being used: - upset_plot= - stat_plot= - chromHMM_plot= - chipseeker_plot= - enrichment_plot= - tss_plot= - precision_recall_plot= - corr_plot= - add_download_button= processing file: EpiCompare.Rmd output file: EpiCompare.knit.md /usr/bin/pandoc +RTS -K512m -RTS EpiCompare.knit.md --to html4 --from markdown+autolink_bare_uris+tex_math_single_backslash --output /tmp/RtmpPpOXaB/EpiCompare_test/EpiCompare.html --lua-filter /home/biocbuild/bbs-3.17-bioc/R/site-library/rmarkdown/rmarkdown/lua/pagebreak.lua --lua-filter /home/biocbuild/bbs-3.17-bioc/R/site-library/rmarkdown/rmarkdown/lua/latex-div.lua --self-contained --variable bs3=TRUE --section-divs --table-of-contents --toc-depth 3 --variable toc_float=1 --variable toc_selectors=h1,h2,h3 --variable toc_collapsed=1 --variable toc_smooth_scroll=1 --variable toc_print=1 --template /home/biocbuild/bbs-3.17-bioc/R/site-library/rmarkdown/rmd/h/default.html --no-highlight --variable highlightjs=1 --number-sections --variable theme=bootstrap --css custom.css --mathjax --variable 'mathjax-url=https://mathjax.rstudio.com/latest/MathJax.js?config=TeX-AMS-MML_HTMLorMML' --include-in-header /tmp/RtmpPpOXaB/rmarkdown-str1cf7922c90be08.html --variable code_folding=hide --variable code_menu=1 [WARNING] This document format requires a nonempty <title> element. Please specify either 'title' or 'pagetitle' in the metadata, e.g. by using --metadata pagetitle="..." on the command line. Falling back to 'EpiCompare.knit' Output created: /tmp/RtmpPpOXaB/EpiCompare_test/EpiCompare.html [1] "Done in 0.07 min." All outputs saved to: /tmp/RtmpPpOXaB/EpiCompare_test NOTE: The following EpiCompare features are NOT being used: - upset_plot= - stat_plot= - chromHMM_plot= - chipseeker_plot= - enrichment_plot= - tss_plot= - precision_recall_plot= - corr_plot= - add_download_button= processing file: EpiCompare.Rmd output file: EpiCompare.knit.md /usr/bin/pandoc +RTS -K512m -RTS EpiCompare.knit.md --to html4 --from markdown+autolink_bare_uris+tex_math_single_backslash --output /tmp/RtmpPpOXaB/EpiCompare_test/EpiCompare.html --lua-filter /home/biocbuild/bbs-3.17-bioc/R/site-library/rmarkdown/rmarkdown/lua/pagebreak.lua --lua-filter /home/biocbuild/bbs-3.17-bioc/R/site-library/rmarkdown/rmarkdown/lua/latex-div.lua --self-contained --variable bs3=TRUE --section-divs --table-of-contents --toc-depth 3 --variable toc_float=1 --variable toc_selectors=h1,h2,h3 --variable toc_collapsed=1 --variable toc_smooth_scroll=1 --variable toc_print=1 --template /home/biocbuild/bbs-3.17-bioc/R/site-library/rmarkdown/rmd/h/default.html --no-highlight --variable highlightjs=1 --number-sections --variable theme=bootstrap --css custom.css --mathjax --variable 'mathjax-url=https://mathjax.rstudio.com/latest/MathJax.js?config=TeX-AMS-MML_HTMLorMML' --include-in-header /tmp/RtmpPpOXaB/rmarkdown-str1cf7924615de66.html --variable code_folding=hide --variable code_menu=1 [WARNING] This document format requires a nonempty <title> element. Please specify either 'title' or 'pagetitle' in the metadata, e.g. by using --metadata pagetitle="..." on the command line. Falling back to 'EpiCompare.knit' Output created: /tmp/RtmpPpOXaB/EpiCompare_test/EpiCompare.html [1] "Done in 0.11 min." All outputs saved to: /tmp/RtmpPpOXaB/EpiCompare_test NOTE: The following EpiCompare features are NOT being used: - upset_plot= - stat_plot= - chromHMM_plot= - chipseeker_plot= - enrichment_plot= - tss_plot= - precision_recall_plot= - corr_plot= - add_download_button= processing file: EpiCompare.Rmd output file: EpiCompare.knit.md /usr/bin/pandoc +RTS -K512m -RTS EpiCompare.knit.md --to html4 --from markdown+autolink_bare_uris+tex_math_single_backslash --output /tmp/RtmpPpOXaB/EpiCompare_test/testthat_example_Jun_04_2023.html --lua-filter /home/biocbuild/bbs-3.17-bioc/R/site-library/rmarkdown/rmarkdown/lua/pagebreak.lua --lua-filter /home/biocbuild/bbs-3.17-bioc/R/site-library/rmarkdown/rmarkdown/lua/latex-div.lua --self-contained --variable bs3=TRUE --section-divs --table-of-contents --toc-depth 3 --variable toc_float=1 --variable toc_selectors=h1,h2,h3 --variable toc_collapsed=1 --variable toc_smooth_scroll=1 --variable toc_print=1 --template /home/biocbuild/bbs-3.17-bioc/R/site-library/rmarkdown/rmd/h/default.html --no-highlight --variable highlightjs=1 --number-sections --variable theme=bootstrap --css custom.css --mathjax --variable 'mathjax-url=https://mathjax.rstudio.com/latest/MathJax.js?config=TeX-AMS-MML_HTMLorMML' --include-in-header /tmp/RtmpPpOXaB/rmarkdown-str1cf79268939dc1.html --variable code_folding=hide --variable code_menu=1 [WARNING] This document format requires a nonempty <title> element. Please specify either 'title' or 'pagetitle' in the metadata, e.g. by using --metadata pagetitle="..." on the command line. Falling back to 'EpiCompare.knit' Output created: /tmp/RtmpPpOXaB/EpiCompare_test/testthat_example_Jun_04_2023.html [1] "Done in 0.07 min." All outputs saved to: /tmp/RtmpPpOXaB/EpiCompare_test --- Running overlap_heatmap() --- Warning: fill_diag must =NULL due to a known bug in the package 'heatmaply'. Genreating precision-recall matrix. overlap_heatmap(): Done in 2s. --- Running overlap_heatmap() --- Genreating precision-recall matrix. overlap_heatmap(): Done in 0.1s. --- Running overlap_stat_plot() --- Preparing reference. Extracting only the first GRanges object from list. Done. --- Running overlap_stat_plot() --- Preparing reference. Extracting only the first GRanges object from list. Done. --- Running peak_info() --- Done. Standardising peak files in 647,114 bins of 5,000 bp. Merging data into matrix. Binned matrix size: 647,114 x 3 Matrix sparsity: 0.996 Calculating correlation matrix. Done computing correlations in 5 seconds. Saving correlation results ==> /tmp/RtmpPpOXaB/file1cf7925b198ec4.corr.csv.gz Threshold=0: Filtering peaks Threshold=0.05: Filtering peaks Computing precision-recall results. Computing precision-recall results. Threshold=0.1: Filtering peaks Threshold=0.15: Filtering peaks Computing precision-recall results. Computing precision-recall results. Threshold=0.2: Filtering peaks Threshold=0.25: Filtering peaks Computing precision-recall results. Computing precision-recall results. Threshold=0.3: Filtering peaks Threshold=0.35: Filtering peaks Computing precision-recall results. Computing precision-recall results. Threshold=0.4: Filtering peaks Threshold=0.45: Filtering peaks Computing precision-recall results. Computing precision-recall results. Threshold=0.5: Filtering peaks Threshold=0.55: Filtering peaks Computing precision-recall results. Computing precision-recall results. Threshold=0.6: Filtering peaks Threshold=0.65: Filtering peaks Computing precision-recall results. Computing precision-recall results. Threshold=0.7: Filtering peaks Threshold=0.75: Filtering peaks Computing precision-recall results. Computing precision-recall results. Threshold=0.8: Filtering peaks Threshold=0.85: Filtering peaks Computing precision-recall results. Computing precision-recall results. Threshold=0.9: Filtering peaks Threshold=0.95: Filtering peaks Computing precision-recall results. Computing precision-recall results. Reformatting precision-recall data. Saving precision-recall results ==> /tmp/RtmpPpOXaB/file1cf79226197c6eprecision_recall.csv Plotting precision-recall curve. Plotting F1. Making predictions for peaklist1: CnR_H3K27ac Making predictions for peaklist2: encode_H3K27ac + Predicting recall from 10 precision values. + Predicting precision from 10 recall values. Making predictions for peaklist1: CnT_H3K27ac Making predictions for peaklist2: encode_H3K27ac + Predicting recall from 10 precision values. + Predicting precision from 10 recall values. WARNING: 'CnT_missing' missing threshold col, will be excluded from precision-recall calculations. Standardising peak files in 647,114 bins of 5,000 bp. Merging data into matrix. Converting to sparse matrix. Binned matrix size: 647,114 x 2 Matrix sparsity: 0.9968 WARNING: 'CnT_missing' missing threshold col, will be excluded from precision-recall calculations. Standardising peak files in 416,959 bins of 5,000 bp. Merging data into matrix. Converting to sparse matrix. Binned matrix size: 416,959 x 2 Matrix sparsity: 0.995 --- Running tss_plot() --- >> Running bootstrapping for tag matrix... 2023-06-04 21:08:32 >> Running bootstrapping for tag matrix... 2023-06-04 21:08:32 Done. --- Running width_boxplot() --- Done. [ FAIL 1 | WARN 7 | SKIP 0 | PASS 92 ] ══ Failed tests ════════════════════════════════════════════════════════════════ ── Error ('test-EpiCompare.R:57:3'): All options FALSE, correct outputs generated ── Error in `grid.newpage()`: could not open file '/tmp/RtmpPpOXaB/EpiCompare_testthat/EpiCompare_file//tmp/RtmpPpOXaB/EpiCompare_testthat/EpiCompare_file/width_plot.png' Backtrace: ▆ 1. └─EpiCompare::EpiCompare(...) at test-EpiCompare.R:57:2 2. ├─rmarkdown::render(...) 3. │ └─knitr::knit(knit_input, knit_output, envir = envir, quiet = quiet) 4. │ └─knitr:::process_file(text, output) 5. │ ├─base::withCallingHandlers(...) 6. │ ├─base::withCallingHandlers(...) 7. │ ├─knitr:::process_group(group) 8. │ └─knitr:::process_group.block(group) 9. │ └─knitr:::call_block(x) 10. │ └─knitr:::block_exec(params) 11. │ └─knitr:::eng_r(options) 12. │ ├─knitr:::in_input_dir(...) 13. │ │ └─knitr:::in_dir(input_dir(), expr) 14. │ └─knitr (local) evaluate(...) 15. │ └─evaluate::evaluate(...) 16. │ └─evaluate:::evaluate_call(...) 17. │ ├─evaluate (local) timing_fn(...) 18. │ ├─base (local) handle(...) 19. │ ├─base::withCallingHandlers(...) 20. │ ├─base::withVisible(...) 21. │ └─evaluate:::eval_with_user_handlers(expr, envir, enclos, user_handlers) 22. │ └─base::eval(expr, envir, enclos) 23. │ └─base::eval(expr, envir, enclos) 24. └─EpiCompare:::save_output(...) 25. └─ggplot2::ggsave(...) 26. ├─grid::grid.draw(plot) 27. └─ggplot2:::grid.draw.ggplot(plot) 28. ├─base::print(x) 29. └─ggplot2:::print.ggplot(x) 30. └─grid::grid.newpage() [ FAIL 1 | WARN 7 | SKIP 0 | PASS 92 ] Error: Test failures Execution halted
EpiCompare.Rcheck/EpiCompare-Ex.timings
name | user | system | elapsed | |
EpiCompare | 7.273 | 0.900 | 8.187 | |
bpplapply | 0.010 | 0.064 | 0.095 | |
check_workers | 0.003 | 0.005 | 0.030 | |
compute_consensus_peaks | 0.539 | 0.215 | 0.655 | |
compute_corr | 1.102 | 0.800 | 2.300 | |
download_button | 1.431 | 0.477 | 0.006 | |
fragment_info | 0.004 | 0.000 | 0.004 | |
gather_files | 0.467 | 0.264 | 0.927 | |
group_files | 0.327 | 0.236 | 0.063 | |
liftover_grlist | 5.079 | 1.423 | 7.210 | |
overlap_heatmap | 0.640 | 0.076 | 0.716 | |
overlap_percent | 0.315 | 0.012 | 0.327 | |
overlap_stat_plot | 0.182 | 0.004 | 0.181 | |
overlap_upset_plot | 0.354 | 0.040 | 0.395 | |
peak_info | 0.768 | 0.116 | 0.884 | |
plot_ChIPseeker_annotation | 22.747 | 1.548 | 24.296 | |
plot_chromHMM | 4.304 | 0.625 | 9.306 | |
plot_corr | 5.759 | 1.626 | 5.665 | |
plot_enrichment | 38.094 | 3.220 | 50.175 | |
plot_precision_recall | 6.619 | 1.592 | 4.561 | |
precision_recall | 3.022 | 0.849 | 4.123 | |
predict_precision_recall | 6.328 | 1.734 | 4.092 | |
rebin_peaks | 7.500 | 2.439 | 4.143 | |
report_command | 0 | 0 | 0 | |
report_header | 0.002 | 0.000 | 0.002 | |
tidy_peakfile | 0.434 | 0.060 | 0.493 | |
translate_genome | 0.006 | 0.008 | 0.014 | |
tss_plot | 3.858 | 1.155 | 5.014 | |
width_boxplot | 0.054 | 0.000 | 0.054 | |
write_example_peaks | 0.200 | 0.008 | 0.207 | |