Back to Multiple platform build/check report for BioC 3.17:   simplified   long
ABCD[E]FGHIJKLMNOPQRSTUVWXYZ

This page was generated on 2023-03-24 11:05:13 -0400 (Fri, 24 Mar 2023).

HostnameOSArch (*)R versionInstalled pkgs
nebbiolo1Linux (Ubuntu 22.04.1 LTS)x86_64R Under development (unstable) (2023-03-16 r83996) -- "Unsuffered Consequences" 4546
palomino3Windows Server 2022 Datacenterx64R Under development (unstable) (2023-03-15 r83984 ucrt) -- "Unsuffered Consequences" 4307
merida1macOS 10.14.6 Mojavex86_64R Under development (unstable) (2023-03-16 r83985) -- "Unsuffered Consequences" 4299
Click on any hostname to see more info about the system (e.g. compilers)      (*) as reported by 'uname -p', except on Windows and Mac OS X

INSTALL results for easyRNASeq on nebbiolo1


To the developers/maintainers of the easyRNASeq package:
- Please allow up to 24 hours (and sometimes 48 hours) for your latest push to git@git.bioconductor.org:packages/easyRNASeq.git to
reflect on this report. See How and When does the builder pull? When will my changes propagate? for more information.
- Make sure to use the following settings in order to reproduce any error or warning you see on this page.

raw results

Package 594/2195HostnameOS / ArchINSTALLBUILDCHECKBUILD BIN
easyRNASeq 2.35.0  (landing page)
Nicolas Delhomme
Snapshot Date: 2023-03-23 14:00:15 -0400 (Thu, 23 Mar 2023)
git_url: https://git.bioconductor.org/packages/easyRNASeq
git_branch: devel
git_last_commit: 04012c4
git_last_commit_date: 2022-11-01 11:06:37 -0400 (Tue, 01 Nov 2022)
nebbiolo1Linux (Ubuntu 22.04.1 LTS) / x86_64  OK    OK    ERROR  
palomino3Windows Server 2022 Datacenter / x64  OK    OK    OK    OK  UNNEEDED, same version is already published
merida1macOS 10.14.6 Mojave / x86_64  OK    OK    OK    OK  UNNEEDED, same version is already published

Summary

Package: easyRNASeq
Version: 2.35.0
Command: /home/biocbuild/bbs-3.17-bioc/R/bin/R CMD INSTALL easyRNASeq
StartedAt: 2023-03-23 15:18:19 -0400 (Thu, 23 Mar 2023)
EndedAt: 2023-03-23 15:19:03 -0400 (Thu, 23 Mar 2023)
EllapsedTime: 44.1 seconds
RetCode: 0
Status:   OK  

Command output

##############################################################################
##############################################################################
###
### Running command:
###
###   /home/biocbuild/bbs-3.17-bioc/R/bin/R CMD INSTALL easyRNASeq
###
##############################################################################
##############################################################################


* installing to library ‘/home/biocbuild/bbs-3.17-bioc/R/site-library’
* installing *source* package ‘easyRNASeq’ ...
** using staged installation
** R
** data
** inst
** byte-compile and prepare package for lazy loading
No methods found in package ‘BiocGenerics’ for request: ‘clusterApply’ when loading ‘easyRNASeq’
Creating a generic function for ‘basename’ from package ‘base’ in package ‘easyRNASeq’
Creating a generic function for ‘file.exists’ from package ‘base’ in package ‘easyRNASeq’
** help
*** installing help indices
** building package indices
** installing vignettes
** testing if installed package can be loaded from temporary location
No methods found in package ‘BiocGenerics’ for request: ‘clusterApply’ when loading ‘easyRNASeq’
** testing if installed package can be loaded from final location
No methods found in package ‘BiocGenerics’ for request: ‘clusterApply’ when loading ‘easyRNASeq’
** testing if installed package keeps a record of temporary installation path
* DONE (easyRNASeq)