Back to Multiple platform build/check report for BioC 3.17:   simplified   long
ABCDEFGHIJKLMNOPQR[S]TUVWXYZ

This page was generated on 2023-06-09 11:05:39 -0400 (Fri, 09 Jun 2023).

HostnameOSArch (*)R versionInstalled pkgs
nebbiolo1Linux (Ubuntu 22.04.2 LTS)x86_644.3.0 RC (2023-04-13 r84269) -- "Already Tomorrow" 4628
palomino3Windows Server 2022 Datacenterx644.3.0 RC (2023-04-13 r84269 ucrt) -- "Already Tomorrow" 4379
merida1macOS 12.6.4 Montereyx86_644.3.0 RC (2023-04-13 r84257) -- "Already Tomorrow" 4385
Click on any hostname to see more info about the system (e.g. compilers)      (*) as reported by 'uname -p', except on Windows and Mac OS X

BUILD results for signatureSearch on nebbiolo1


To the developers/maintainers of the signatureSearch package:
- Allow up to 24 hours (and sometimes 48 hours) for your latest push to git@git.bioconductor.org:packages/signatureSearch.git to reflect on this report. See Troubleshooting Build Report for more information.
- Use the following Renviron settings to reproduce errors and warnings.
- If 'R CMD check' started to fail recently on the Linux builder(s) over a missing dependency, add the missing dependency to 'Suggests:' in your DESCRIPTION file. See Renviron.bioc for more information.

raw results

Package 1913/2229HostnameOS / ArchINSTALLBUILDCHECKBUILD BIN
signatureSearch 1.14.0  (landing page)
Brendan Gongol
Snapshot Date: 2023-06-08 14:00:15 -0400 (Thu, 08 Jun 2023)
git_url: https://git.bioconductor.org/packages/signatureSearch
git_branch: RELEASE_3_17
git_last_commit: e06830a
git_last_commit_date: 2023-04-25 11:14:11 -0400 (Tue, 25 Apr 2023)
nebbiolo1Linux (Ubuntu 22.04.2 LTS) / x86_64  OK    OK    OK  UNNEEDED, same version is already published
palomino3Windows Server 2022 Datacenter / x64  OK    OK    OK    OK  UNNEEDED, same version is already published
merida1macOS 12.6.4 Monterey / x86_64  OK    OK    OK    OK  UNNEEDED, same version is already published

Summary

Package: signatureSearch
Version: 1.14.0
Command: /home/biocbuild/bbs-3.17-bioc/R/bin/R CMD build --keep-empty-dirs --no-resave-data signatureSearch
StartedAt: 2023-06-08 18:23:49 -0400 (Thu, 08 Jun 2023)
EndedAt: 2023-06-08 18:31:04 -0400 (Thu, 08 Jun 2023)
EllapsedTime: 434.2 seconds
RetCode: 0
Status:   OK  
PackageFile: signatureSearch_1.14.0.tar.gz
PackageFileSize: 5.083 MiB

Command output

##############################################################################
##############################################################################
###
### Running command:
###
###   /home/biocbuild/bbs-3.17-bioc/R/bin/R CMD build --keep-empty-dirs --no-resave-data signatureSearch
###
##############################################################################
##############################################################################


* checking for file ‘signatureSearch/DESCRIPTION’ ... OK
* preparing ‘signatureSearch’:
* checking DESCRIPTION meta-information ... OK
* cleaning src
* installing the package to build vignettes
* creating vignettes ... OK
* cleaning src
* checking for LF line-endings in source and make files and shell scripts
* checking for empty or unneeded directories
* building ‘signatureSearch_1.14.0.tar.gz’