Back to Multiple platform build/check report for BioC 3.17
ABCDEF[G]HIJKLMNOPQRSTUVWXYZ

This page was generated on 2023-01-31 11:04:33 -0500 (Tue, 31 Jan 2023).

HostnameOSArch (*)R versionInstalled pkgs
nebbiolo1Linux (Ubuntu 22.04.1 LTS)x86_64R Under development (unstable) (2023-01-10 r83596) -- "Unsuffered Consequences" 4467
palomino3Windows Server 2022 Datacenterx64R Under development (unstable) (2023-01-10 r83596 ucrt) -- "Unsuffered Consequences" 4248
merida1macOS 10.14.6 Mojavex86_64R Under development (unstable) (2023-01-10 r83596) -- "Unsuffered Consequences" 4271
Click on any hostname to see more info about the system (e.g. compilers)      (*) as reported by 'uname -p', except on Windows and Mac OS X

All results for package GenomeInfoDb


To the developers/maintainers of the GenomeInfoDb package:
- Please allow up to 24 hours (and sometimes 48 hours) for your latest push to git@git.bioconductor.org:packages/GenomeInfoDb.git to
reflect on this report. See How and When does the builder pull? When will my changes propagate? for more information.
- Make sure to use the following settings in order to reproduce any error or warning you see on this page.

raw results

Package 768/2164HostnameOS / ArchINSTALLBUILDCHECKBUILD BIN
GenomeInfoDb 1.35.13  (landing page)
Hervé Pagès
Snapshot Date: 2023-01-30 14:00:21 -0500 (Mon, 30 Jan 2023)
git_url: https://git.bioconductor.org/packages/GenomeInfoDb
git_branch: master
git_last_commit: 6101ccc
git_last_commit_date: 2023-01-18 16:07:05 -0500 (Wed, 18 Jan 2023)
nebbiolo1Linux (Ubuntu 22.04.1 LTS) / x86_64  OK    OK    ERROR  
palomino3Windows Server 2022 Datacenter / x64  OK    OK    ERROR    OK  
merida1macOS 10.14.6 Mojave / x86_64  OK    OK    ERROR    OK  

Results for Bioconductor software packages that depend directly on package GenomeInfoDb

QUICK STATSOS / ArchINSTALLBUILDCHECKBUILD BIN
nebbiolo1Linux (Ubuntu 22.04.1 LTS) / x86_64
03300
021282
11573193
palomino3Windows Server 2022 Datacenter / x64
03292
020275
11368193
00275
merida1macOS 10.14.6 Mojave / x86_64
03299
021281
71475185
00281
Package 1/303HostnameOS / ArchINSTALLBUILDCHECKBUILD BIN
AllelicImbalance 1.37.0  (landing page)
Jesper R Gadin
git_last_commit: 330d8ed
git_last_commit_date: 2022-11-01 11:08:46 -0500
nebbiolo1Linux (Ubuntu 22.04.1 LTS) / x86_64  OK    OK    OK  UNNEEDED, same version is already published
palomino3Windows Server 2022 Datacenter / x64  OK    OK    OK    OK  UNNEEDED, same version is already published
merida1macOS 10.14.6 Mojave / x86_64  OK    OK    OK    OK  UNNEEDED, same version is already published
Package 2/303HostnameOS / ArchINSTALLBUILDCHECKBUILD BIN
alpine 1.25.0  (landing page)
Michael Love
git_last_commit: 609ae1e
git_last_commit_date: 2022-11-01 11:14:18 -0500
nebbiolo1Linux (Ubuntu 22.04.1 LTS) / x86_64  OK    OK    OK  UNNEEDED, same version is already published
palomino3Windows Server 2022 Datacenter / x64  OK    OK    OK    OK  UNNEEDED, same version is already published
merida1macOS 10.14.6 Mojave / x86_64  OK    OK    OK    OK  UNNEEDED, same version is already published
Package 3/303HostnameOS / ArchINSTALLBUILDCHECKBUILD BIN
amplican 1.21.0  (landing page)
Eivind Valen
git_last_commit: 5b04ab5
git_last_commit_date: 2022-11-01 11:16:19 -0500
nebbiolo1Linux (Ubuntu 22.04.1 LTS) / x86_64  OK    OK    OK  UNNEEDED, same version is already published
palomino3Windows Server 2022 Datacenter / x64  OK    OK    OK    OK  UNNEEDED, same version is already published
merida1macOS 10.14.6 Mojave / x86_64  OK    OK    OK    OK  UNNEEDED, same version is already published
Package 4/303HostnameOS / ArchINSTALLBUILDCHECKBUILD BIN
AneuFinder 1.27.0  (landing page)
Aaron Taudt
git_last_commit: 340387c
git_last_commit_date: 2022-11-01 11:13:19 -0500
nebbiolo1Linux (Ubuntu 22.04.1 LTS) / x86_64  ERROR    ERROR  skipped
palomino3Windows Server 2022 Datacenter / x64  ERROR    ERROR  skippedskipped
merida1macOS 10.14.6 Mojave / x86_64  ERROR    ERROR  skippedskipped
Package 5/303HostnameOS / ArchINSTALLBUILDCHECKBUILD BIN
AnnotationHubData 1.29.1  (landing page)
Bioconductor Package Maintainer
git_last_commit: 3214594
git_last_commit_date: 2022-12-13 10:09:22 -0500
nebbiolo1Linux (Ubuntu 22.04.1 LTS) / x86_64  OK    OK    WARNINGS  UNNEEDED, same version is already published
palomino3Windows Server 2022 Datacenter / x64  OK    OK    WARNINGS    OK  UNNEEDED, same version is already published
merida1macOS 10.14.6 Mojave / x86_64  OK    OK    WARNINGS    OK  UNNEEDED, same version is already published
Package 6/303HostnameOS / ArchINSTALLBUILDCHECKBUILD BIN
annotatr 1.25.0  (landing page)
Raymond G. Cavalcante
git_last_commit: b9eb281
git_last_commit_date: 2022-11-01 11:14:43 -0500
nebbiolo1Linux (Ubuntu 22.04.1 LTS) / x86_64  OK    OK    OK  UNNEEDED, same version is already published
palomino3Windows Server 2022 Datacenter / x64  OK    OK    OK    OK  UNNEEDED, same version is already published
merida1macOS 10.14.6 Mojave / x86_64  OK    OK    OK    OK  UNNEEDED, same version is already published
Package 7/303HostnameOS / ArchINSTALLBUILDCHECKBUILD BIN
ASpediaFI 1.13.1  (landing page)
Doyeong Yu
git_last_commit: 1168c9e
git_last_commit_date: 2023-01-20 10:45:20 -0500
nebbiolo1Linux (Ubuntu 22.04.1 LTS) / x86_64  ERROR    ERROR  skipped
palomino3Windows Server 2022 Datacenter / x64  ERROR    ERROR  skippedskipped
merida1macOS 10.14.6 Mojave / x86_64  ERROR    ERROR  skippedskipped
Package 8/303HostnameOS / ArchINSTALLBUILDCHECKBUILD BIN
ATACseqQC 1.23.0  (landing page)
Jianhong Ou
git_last_commit: 3aa5bd7
git_last_commit_date: 2022-11-01 11:15:41 -0500
nebbiolo1Linux (Ubuntu 22.04.1 LTS) / x86_64  OK    OK    OK  UNNEEDED, same version is already published
palomino3Windows Server 2022 Datacenter / x64  OK    OK    OK    OK  UNNEEDED, same version is already published
merida1macOS 10.14.6 Mojave / x86_64  OK    OK    OK    OK  UNNEEDED, same version is already published
Package 9/303HostnameOS / ArchINSTALLBUILDCHECKBUILD BIN
ATACseqTFEA 1.1.1  (landing page)
Jianhong Ou
git_last_commit: 203524e
git_last_commit_date: 2022-11-04 14:13:13 -0500
nebbiolo1Linux (Ubuntu 22.04.1 LTS) / x86_64  OK    OK    OK  UNNEEDED, same version is already published
palomino3Windows Server 2022 Datacenter / x64  OK    OK    OK    OK  UNNEEDED, same version is already published
merida1macOS 10.14.6 Mojave / x86_64  OK    OK    OK    OK  UNNEEDED, same version is already published
Package 10/303HostnameOS / ArchINSTALLBUILDCHECKBUILD BIN
atena 1.5.3  (landing page)
Beatriz Calvo-Serra
git_last_commit: 733f401
git_last_commit_date: 2022-12-13 18:34:39 -0500
nebbiolo1Linux (Ubuntu 22.04.1 LTS) / x86_64  OK    OK    OK  UNNEEDED, same version is already published
palomino3Windows Server 2022 Datacenter / x64  OK    OK    OK    OK  UNNEEDED, same version is already published
merida1macOS 10.14.6 Mojave / x86_64  OK    OK    OK    OK  UNNEEDED, same version is already published
Package 11/303HostnameOS / ArchINSTALLBUILDCHECKBUILD BIN
BaalChIP 1.25.0  (landing page)
Ines de Santiago
git_last_commit: 82bbb76
git_last_commit_date: 2022-11-01 11:14:26 -0500
nebbiolo1Linux (Ubuntu 22.04.1 LTS) / x86_64  OK    OK    WARNINGS  UNNEEDED, same version is already published
palomino3Windows Server 2022 Datacenter / x64  OK    OK    WARNINGS    OK  UNNEEDED, same version is already published
merida1macOS 10.14.6 Mojave / x86_64  OK    OK    WARNINGS    OK  UNNEEDED, same version is already published
Package 12/303HostnameOS / ArchINSTALLBUILDCHECKBUILD BIN
ballgown 2.31.0  (landing page)
Jack Fu
git_last_commit: db11666
git_last_commit_date: 2022-11-01 11:10:01 -0500
nebbiolo1Linux (Ubuntu 22.04.1 LTS) / x86_64  OK    OK    OK  UNNEEDED, same version is already published
palomino3Windows Server 2022 Datacenter / x64  OK    OK    OK    OK  UNNEEDED, same version is already published
merida1macOS 10.14.6 Mojave / x86_64  OK    OK    OK    OK  UNNEEDED, same version is already published
Package 13/303HostnameOS / ArchINSTALLBUILDCHECKBUILD BIN
bambu 3.1.5  (landing page)
Ying Chen
git_last_commit: bbe4484
git_last_commit_date: 2023-01-12 20:59:25 -0500
nebbiolo1Linux (Ubuntu 22.04.1 LTS) / x86_64  OK    ERROR  skipped
palomino3Windows Server 2022 Datacenter / x64  OK    ERROR  skippedskipped
merida1macOS 10.14.6 Mojave / x86_64  OK    ERROR  skippedskipped
Package 14/303HostnameOS / ArchINSTALLBUILDCHECKBUILD BIN
BasicSTARRseq 1.27.0  (landing page)
Annika Buerger
git_last_commit: f75cc57
git_last_commit_date: 2022-11-01 11:12:51 -0500
nebbiolo1Linux (Ubuntu 22.04.1 LTS) / x86_64  OK    OK    OK  UNNEEDED, same version is already published
palomino3Windows Server 2022 Datacenter / x64  OK    OK    OK    OK  UNNEEDED, same version is already published
merida1macOS 10.14.6 Mojave / x86_64  OK    OK    OK    OK  UNNEEDED, same version is already published
Package 15/303HostnameOS / ArchINSTALLBUILDCHECKBUILD BIN
BindingSiteFinder 1.5.0  (landing page)
Mirko Brüggemann
git_last_commit: 892dc6b
git_last_commit_date: 2022-11-01 11:25:21 -0500
nebbiolo1Linux (Ubuntu 22.04.1 LTS) / x86_64  OK    OK    OK  UNNEEDED, same version is already published
palomino3Windows Server 2022 Datacenter / x64  OK    OK    OK    OK  UNNEEDED, same version is already published
merida1macOS 10.14.6 Mojave / x86_64  OK    OK    OK    OK  UNNEEDED, same version is already published
Package 16/303HostnameOS / ArchINSTALLBUILDCHECKBUILD BIN
Biostrings 2.67.0  (landing page)
H. Pagès
git_last_commit: c94e8fb
git_last_commit_date: 2022-11-01 10:36:29 -0500
nebbiolo1Linux (Ubuntu 22.04.1 LTS) / x86_64  OK    OK    WARNINGS  UNNEEDED, same version is already published
palomino3Windows Server 2022 Datacenter / x64  OK    OK    WARNINGS    OK  UNNEEDED, same version is already published
merida1macOS 10.14.6 Mojave / x86_64  OK    OK    WARNINGS    OK  UNNEEDED, same version is already published
Package 17/303HostnameOS / ArchINSTALLBUILDCHECKBUILD BIN
biovizBase 1.47.0  (landing page)
Michael Lawrence
git_last_commit: 73f68c1
git_last_commit_date: 2022-11-01 11:06:19 -0500
nebbiolo1Linux (Ubuntu 22.04.1 LTS) / x86_64  OK    OK    WARNINGS  UNNEEDED, same version is already published
palomino3Windows Server 2022 Datacenter / x64  OK    OK    WARNINGS    OK  UNNEEDED, same version is already published
merida1macOS 10.14.6 Mojave / x86_64  OK    OK    WARNINGS    OK  UNNEEDED, same version is already published
Package 18/303HostnameOS / ArchINSTALLBUILDCHECKBUILD BIN
biscuiteer 1.13.0  (landing page)
Jacob Morrison
git_last_commit: 6cc534c
git_last_commit_date: 2022-11-01 11:20:50 -0500
nebbiolo1Linux (Ubuntu 22.04.1 LTS) / x86_64  OK    OK    WARNINGS  UNNEEDED, same version is already published
palomino3Windows Server 2022 Datacenter / x64  OK    OK    WARNINGS    OK  NO, package depends on 'bsseq' which is not available
merida1macOS 10.14.6 Mojave / x86_64  OK    OK    WARNINGS    OK  NO, package depends on 'bsseq' which is not available
Package 19/303HostnameOS / ArchINSTALLBUILDCHECKBUILD BIN
BiSeq 1.39.0  (landing page)
Katja Hebestreit
git_last_commit: a5c3cc0
git_last_commit_date: 2022-11-01 11:08:12 -0500
nebbiolo1Linux (Ubuntu 22.04.1 LTS) / x86_64  OK    ERROR  skipped
palomino3Windows Server 2022 Datacenter / x64  OK    ERROR  skippedskipped
merida1macOS 10.14.6 Mojave / x86_64  OK    ERROR  skippedskipped
Package 20/303HostnameOS / ArchINSTALLBUILDCHECKBUILD BIN
bnbc 1.21.0  (landing page)
Kipper Fletez-Brant
git_last_commit: 6fcaac4
git_last_commit_date: 2022-11-01 11:16:33 -0500
nebbiolo1Linux (Ubuntu 22.04.1 LTS) / x86_64  OK    OK    WARNINGS  UNNEEDED, same version is already published
palomino3Windows Server 2022 Datacenter / x64  OK    OK    WARNINGS    OK  UNNEEDED, same version is already published
merida1macOS 10.14.6 Mojave / x86_64  OK    OK    WARNINGS    OK  UNNEEDED, same version is already published
Package 21/303HostnameOS / ArchINSTALLBUILDCHECKBUILD BIN
branchpointer 1.25.0  (landing page)
Beth Signal
git_last_commit: fdc3264
git_last_commit_date: 2022-11-01 11:15:20 -0500
nebbiolo1Linux (Ubuntu 22.04.1 LTS) / x86_64  OK    OK    OK  UNNEEDED, same version is already published
palomino3Windows Server 2022 Datacenter / x64  OK    OK    OK    OK  UNNEEDED, same version is already published
merida1macOS 10.14.6 Mojave / x86_64  OK    OK    OK    OK  UNNEEDED, same version is already published
Package 22/303HostnameOS / ArchINSTALLBUILDCHECKBUILD BIN
breakpointR 1.17.0  (landing page)
David Porubsky
git_last_commit: 7e2ce62
git_last_commit_date: 2022-11-01 11:18:28 -0500
nebbiolo1Linux (Ubuntu 22.04.1 LTS) / x86_64  OK    OK    OK  UNNEEDED, same version is already published
palomino3Windows Server 2022 Datacenter / x64  OK    OK    OK    OK  UNNEEDED, same version is already published
merida1macOS 10.14.6 Mojave / x86_64  OK    OK    OK    OK  UNNEEDED, same version is already published
Package 23/303HostnameOS / ArchINSTALLBUILDCHECKBUILD BIN
BRGenomics 1.11.0  (landing page)
Mike DeBerardine
git_last_commit: 7287b3d
git_last_commit_date: 2022-11-01 11:21:40 -0500
nebbiolo1Linux (Ubuntu 22.04.1 LTS) / x86_64  OK    OK    WARNINGS  UNNEEDED, same version is already published
palomino3Windows Server 2022 Datacenter / x64  OK    OK    WARNINGS    OK  UNNEEDED, same version is already published
merida1macOS 10.14.6 Mojave / x86_64  OK    OK    WARNINGS    OK  UNNEEDED, same version is already published
Package 24/303HostnameOS / ArchINSTALLBUILDCHECKBUILD BIN
BSgenome 1.67.3  (landing page)
Hervé Pagès
git_last_commit: 7a41173
git_last_commit_date: 2023-01-17 17:11:39 -0500
nebbiolo1Linux (Ubuntu 22.04.1 LTS) / x86_64  OK    OK    ERROR  
palomino3Windows Server 2022 Datacenter / x64  OK    OK    ERROR    OK  
merida1macOS 10.14.6 Mojave / x86_64  OK    OK    ERROR    OK  
Package 25/303HostnameOS / ArchINSTALLBUILDCHECKBUILD BIN
bsseq 1.35.0  (landing page)
Kasper Daniel Hansen
git_last_commit: ed8b19c
git_last_commit_date: 2022-11-01 11:07:09 -0500
nebbiolo1Linux (Ubuntu 22.04.1 LTS) / x86_64  OK    OK    ERROR  
palomino3Windows Server 2022 Datacenter / x64  OK    OK    ERROR    OK  
merida1macOS 10.14.6 Mojave / x86_64  OK    OK    ERROR    OK  
Package 26/303HostnameOS / ArchINSTALLBUILDCHECKBUILD BIN
bumphunter 1.41.0  (landing page)
Tamilselvi Guharaj
git_last_commit: aabc3c8
git_last_commit_date: 2022-11-01 11:07:40 -0500
nebbiolo1Linux (Ubuntu 22.04.1 LTS) / x86_64  OK    OK    ERROR  
palomino3Windows Server 2022 Datacenter / x64  OK    OK    ERROR    OK  
merida1macOS 10.14.6 Mojave / x86_64  OK    OK    ERROR    OK  
Package 27/303HostnameOS / ArchINSTALLBUILDCHECKBUILD BIN
BUSpaRse 1.13.0  (landing page)
Lambda Moses
git_last_commit: 60755e4
git_last_commit_date: 2022-11-01 11:20:24 -0500
nebbiolo1Linux (Ubuntu 22.04.1 LTS) / x86_64  OK    OK    OK  UNNEEDED, same version is already published
palomino3Windows Server 2022 Datacenter / x64  OK    OK    OK    OK  UNNEEDED, same version is already published
merida1macOS 10.14.6 Mojave / x86_64  OK    OK    OK    OK  UNNEEDED, same version is already published
Package 28/303HostnameOS / ArchINSTALLBUILDCHECKBUILD BIN
CAGEfightR 1.19.0  (landing page)
Malte Thodberg
git_last_commit: 8b947db
git_last_commit_date: 2022-11-01 11:17:49 -0500
nebbiolo1Linux (Ubuntu 22.04.1 LTS) / x86_64  OK    OK    OK  UNNEEDED, same version is already published
palomino3Windows Server 2022 Datacenter / x64  OK    OK    OK    OK  UNNEEDED, same version is already published
merida1macOS 10.14.6 Mojave / x86_64  OK    OK    OK    OK  UNNEEDED, same version is already published
Package 29/303HostnameOS / ArchINSTALLBUILDCHECKBUILD BIN
cageminer 1.5.0  (landing page)
Fabrício Almeida-Silva
git_last_commit: 81f671c
git_last_commit_date: 2022-11-01 11:25:21 -0500
nebbiolo1Linux (Ubuntu 22.04.1 LTS) / x86_64  OK    OK    OK  UNNEEDED, same version is already published
palomino3Windows Server 2022 Datacenter / x64  OK    OK    OK    OK  UNNEEDED, same version is already published
merida1macOS 10.14.6 Mojave / x86_64  OK    OK    OK    OK  UNNEEDED, same version is already published
Package 30/303HostnameOS / ArchINSTALLBUILDCHECKBUILD BIN
CAGEr 2.5.0  (landing page)
Charles Plessy
git_last_commit: 3cc0923
git_last_commit_date: 2022-11-01 11:07:54 -0500
nebbiolo1Linux (Ubuntu 22.04.1 LTS) / x86_64  OK    OK    OK  UNNEEDED, same version is already published
palomino3Windows Server 2022 Datacenter / x64  OK    OK    OK    OK  UNNEEDED, same version is already published
merida1macOS 10.14.6 Mojave / x86_64  OK    OK    OK    OK  UNNEEDED, same version is already published
Package 31/303HostnameOS / ArchINSTALLBUILDCHECKBUILD BIN
cardelino 1.1.1  (landing page)
Davis McCarthy
git_last_commit: 3d2d977
git_last_commit_date: 2022-11-09 23:02:09 -0500
nebbiolo1Linux (Ubuntu 22.04.1 LTS) / x86_64  OK    OK    OK  UNNEEDED, same version is already published
palomino3Windows Server 2022 Datacenter / x64  OK    OK    OK    OK  UNNEEDED, same version is already published
merida1macOS 10.14.6 Mojave / x86_64  OK    OK    OK    OK  UNNEEDED, same version is already published
Package 32/303HostnameOS / ArchINSTALLBUILDCHECKBUILD BIN
casper 2.33.0  (landing page)
David Rossell
git_last_commit: 6cde1fc
git_last_commit_date: 2022-11-01 11:07:47 -0500
nebbiolo1Linux (Ubuntu 22.04.1 LTS) / x86_64  OK    OK    OK  UNNEEDED, same version is already published
palomino3Windows Server 2022 Datacenter / x64  OK    OK    WARNINGS    OK  UNNEEDED, same version is already published
merida1macOS 10.14.6 Mojave / x86_64  OK    OK    WARNINGS    OK  UNNEEDED, same version is already published
Package 33/303HostnameOS / ArchINSTALLBUILDCHECKBUILD BIN
cBioPortalData 2.11.4  (landing page)
Marcel Ramos
git_last_commit: 2f9d0c4
git_last_commit_date: 2023-01-03 18:21:58 -0500
nebbiolo1Linux (Ubuntu 22.04.1 LTS) / x86_64  OK    OK    OK  UNNEEDED, same version is already published
palomino3Windows Server 2022 Datacenter / x64  OK    OK    OK    OK  UNNEEDED, same version is already published
merida1macOS 10.14.6 Mojave / x86_64  OK    OK    OK    OK  UNNEEDED, same version is already published
Package 34/303HostnameOS / ArchINSTALLBUILDCHECKBUILD BIN
CexoR 1.37.0  (landing page)
Pedro Madrigal
git_last_commit: cddc347
git_last_commit_date: 2022-11-01 11:25:46 -0500
nebbiolo1Linux (Ubuntu 22.04.1 LTS) / x86_64  OK    OK    OK  UNNEEDED, same version is already published
palomino3Windows Server 2022 Datacenter / x64  OK    OK    OK    OK  UNNEEDED, same version is already published
merida1macOS 10.14.6 Mojave / x86_64  OK    OK    OK    OK  UNNEEDED, same version is already published
Package 35/303HostnameOS / ArchINSTALLBUILDCHECKBUILD BIN
cfDNAPro 1.5.4  (landing page)
Haichao Wang
git_last_commit: f90c936
git_last_commit_date: 2022-12-05 17:34:15 -0500
nebbiolo1Linux (Ubuntu 22.04.1 LTS) / x86_64  OK    OK    WARNINGS  UNNEEDED, same version is already published
palomino3Windows Server 2022 Datacenter / x64  OK    OK    WARNINGS    OK  UNNEEDED, same version is already published
merida1macOS 10.14.6 Mojave / x86_64  OK    OK    WARNINGS    OK  UNNEEDED, same version is already published
Package 36/303HostnameOS / ArchINSTALLBUILDCHECKBUILD BIN
chimeraviz 1.25.0  (landing page)
Stian Lågstad
git_last_commit: f00dfd8
git_last_commit_date: 2022-11-01 11:14:55 -0500
nebbiolo1Linux (Ubuntu 22.04.1 LTS) / x86_64  OK    OK    OK  UNNEEDED, same version is already published
palomino3Windows Server 2022 Datacenter / x64  OK    OK    OK    OK  UNNEEDED, same version is already published
merida1macOS 10.14.6 Mojave / x86_64  OK    OK    OK    OK  UNNEEDED, same version is already published
Package 37/303HostnameOS / ArchINSTALLBUILDCHECKBUILD BIN
ChIPanalyser 1.21.0  (landing page)
Patrick C.N. Martin
git_last_commit: ca12b0a
git_last_commit_date: 2022-11-01 11:16:15 -0500
nebbiolo1Linux (Ubuntu 22.04.1 LTS) / x86_64  OK    OK    OK  UNNEEDED, same version is already published
palomino3Windows Server 2022 Datacenter / x64  OK    OK    OK    OK  UNNEEDED, same version is already published
merida1macOS 10.14.6 Mojave / x86_64  OK    OK    OK    OK  UNNEEDED, same version is already published
Package 38/303HostnameOS / ArchINSTALLBUILDCHECKBUILD BIN
ChIPComp 1.29.0  (landing page)
Li Chen
git_last_commit: d65bdfa
git_last_commit_date: 2022-11-01 11:12:04 -0500
nebbiolo1Linux (Ubuntu 22.04.1 LTS) / x86_64  OK    OK    OK  UNNEEDED, same version is already published
palomino3Windows Server 2022 Datacenter / x64  OK    OK    OK    OK  UNNEEDED, same version is already published
merida1macOS 10.14.6 Mojave / x86_64  OK    OK    OK    OK  UNNEEDED, same version is already published
Package 39/303HostnameOS / ArchINSTALLBUILDCHECKBUILD BIN
chipenrich 2.23.0  (landing page)
Raymond G. Cavalcante
git_last_commit: 51c681f
git_last_commit_date: 2022-11-01 11:08:40 -0500
nebbiolo1Linux (Ubuntu 22.04.1 LTS) / x86_64  OK    OK    OK  UNNEEDED, same version is already published
palomino3Windows Server 2022 Datacenter / x64  OK    OK    OK    OK  UNNEEDED, same version is already published
merida1macOS 10.14.6 Mojave / x86_64  OK    OK    OK    OK  UNNEEDED, same version is already published
Package 40/303HostnameOS / ArchINSTALLBUILDCHECKBUILD BIN
ChIPexoQual 1.23.0  (landing page)
Rene Welch
git_last_commit: 6775da3
git_last_commit_date: 2022-11-01 11:15:05 -0500
nebbiolo1Linux (Ubuntu 22.04.1 LTS) / x86_64  OK    OK    OK  UNNEEDED, same version is already published
palomino3Windows Server 2022 Datacenter / x64  OK    OK    OK    OK  UNNEEDED, same version is already published
merida1macOS 10.14.6 Mojave / x86_64  OK    OK    OK    OK  UNNEEDED, same version is already published
Package 41/303HostnameOS / ArchINSTALLBUILDCHECKBUILD BIN
ChIPpeakAnno 3.33.1  (landing page)
Jianhong Ou
git_last_commit: 2c08eb8
git_last_commit_date: 2022-11-12 17:40:09 -0500
nebbiolo1Linux (Ubuntu 22.04.1 LTS) / x86_64  OK    OK    OK  UNNEEDED, same version is already published
palomino3Windows Server 2022 Datacenter / x64  OK    OK    OK    OK  UNNEEDED, same version is already published
merida1macOS 10.14.6 Mojave / x86_64  OK    OK    OK    OK  UNNEEDED, same version is already published
Package 42/303HostnameOS / ArchINSTALLBUILDCHECKBUILD BIN
ChIPseeker 1.35.1  (landing page)
Guangchuang Yu
git_last_commit: fb11419
git_last_commit_date: 2022-12-30 04:26:48 -0500
nebbiolo1Linux (Ubuntu 22.04.1 LTS) / x86_64  OK    OK    OK  UNNEEDED, same version is already published
palomino3Windows Server 2022 Datacenter / x64  OK    OK    OK    OK  UNNEEDED, same version is already published
merida1macOS 10.14.6 Mojave / x86_64  OK    OK    TIMEOUT    OK  
Package 43/303HostnameOS / ArchINSTALLBUILDCHECKBUILD BIN
chromstaR 1.25.0  (landing page)
Aaron Taudt
git_last_commit: 18c031d
git_last_commit_date: 2022-11-01 11:13:56 -0500
nebbiolo1Linux (Ubuntu 22.04.1 LTS) / x86_64  OK    ERROR  skipped
palomino3Windows Server 2022 Datacenter / x64  OK    OK    OK    OK  UNNEEDED, same version is already published
merida1macOS 10.14.6 Mojave / x86_64  OK    OK    OK    OK  UNNEEDED, same version is already published
Package 44/303HostnameOS / ArchINSTALLBUILDCHECKBUILD BIN
chromVAR 1.21.0  (landing page)
Alicia Schep
git_last_commit: 9ef81dc
git_last_commit_date: 2022-11-01 11:16:29 -0500
nebbiolo1Linux (Ubuntu 22.04.1 LTS) / x86_64  OK    OK    OK  UNNEEDED, same version is already published
palomino3Windows Server 2022 Datacenter / x64  OK    OK    OK    OK  UNNEEDED, same version is already published
merida1macOS 10.14.6 Mojave / x86_64  OK    OK    OK    OK  UNNEEDED, same version is already published
Package 45/303HostnameOS / ArchINSTALLBUILDCHECKBUILD BIN
CINdex 1.27.0  (landing page)
Yuriy Gusev
git_last_commit: d8bb2de
git_last_commit_date: 2022-11-01 11:13:24 -0500
nebbiolo1Linux (Ubuntu 22.04.1 LTS) / x86_64  OK    OK    WARNINGS  UNNEEDED, same version is already published
palomino3Windows Server 2022 Datacenter / x64  OK    OK    WARNINGS    OK  UNNEEDED, same version is already published
merida1macOS 10.14.6 Mojave / x86_64  OK    OK    WARNINGS    OK  UNNEEDED, same version is already published
Package 46/303HostnameOS / ArchINSTALLBUILDCHECKBUILD BIN
circRNAprofiler 1.13.7  (landing page)
Simona Aufiero
git_last_commit: a1cfa55
git_last_commit_date: 2023-01-23 04:19:23 -0500
nebbiolo1Linux (Ubuntu 22.04.1 LTS) / x86_64  OK    OK    OK  UNNEEDED, same version is already published
palomino3Windows Server 2022 Datacenter / x64  OK    OK    OK    OK  UNNEEDED, same version is already published
merida1macOS 10.14.6 Mojave / x86_64  OK    OK    TIMEOUT    OK  
Package 47/303HostnameOS / ArchINSTALLBUILDCHECKBUILD BIN
cleanUpdTSeq 1.37.0  (landing page)
Jianhong Ou ; Lihua Julie Zhu
git_last_commit: 393328d
git_last_commit_date: 2022-11-01 11:08:25 -0500
nebbiolo1Linux (Ubuntu 22.04.1 LTS) / x86_64  OK    OK    OK  UNNEEDED, same version is already published
palomino3Windows Server 2022 Datacenter / x64  OK    OK    OK    OK  UNNEEDED, same version is already published
merida1macOS 10.14.6 Mojave / x86_64  OK    OK    OK    OK  UNNEEDED, same version is already published
Package 48/303HostnameOS / ArchINSTALLBUILDCHECKBUILD BIN
cn.mops 1.45.0  (landing page)
Gundula Povysil
git_last_commit: 0617906
git_last_commit_date: 2022-11-01 11:06:31 -0500
nebbiolo1Linux (Ubuntu 22.04.1 LTS) / x86_64  OK    OK    OK  UNNEEDED, same version is already published
palomino3Windows Server 2022 Datacenter / x64  OK    OK    OK    OK  UNNEEDED, same version is already published
merida1macOS 10.14.6 Mojave / x86_64  OK    OK    OK    OK  UNNEEDED, same version is already published
Package 49/303HostnameOS / ArchINSTALLBUILDCHECKBUILD BIN
CNEr 1.35.0  (landing page)
Ge Tan
git_last_commit: 7f627d6
git_last_commit_date: 2022-11-01 11:09:13 -0500
nebbiolo1Linux (Ubuntu 22.04.1 LTS) / x86_64  OK    OK    WARNINGS  UNNEEDED, same version is already published
palomino3Windows Server 2022 Datacenter / x64  OK    OK    WARNINGS    OK  UNNEEDED, same version is already published
merida1macOS 10.14.6 Mojave / x86_64  OK    OK    WARNINGS    OK  UNNEEDED, same version is already published
Package 50/303HostnameOS / ArchINSTALLBUILDCHECKBUILD BIN
CNVfilteR 1.13.1  (landing page)
Jose Marcos Moreno-Cabrera
git_last_commit: 3806805
git_last_commit_date: 2022-12-02 01:27:17 -0500
nebbiolo1Linux (Ubuntu 22.04.1 LTS) / x86_64  OK    OK    OK  UNNEEDED, same version is already published
palomino3Windows Server 2022 Datacenter / x64  OK    OK    OK    OK  UNNEEDED, same version is already published
merida1macOS 10.14.6 Mojave / x86_64  OK    OK    OK    OK  UNNEEDED, same version is already published
Package 51/303HostnameOS / ArchINSTALLBUILDCHECKBUILD BIN
CNVPanelizer 1.31.0  (landing page)
Thomas Wolf
git_last_commit: 8ebbaac
git_last_commit_date: 2022-11-01 11:11:51 -0500
nebbiolo1Linux (Ubuntu 22.04.1 LTS) / x86_64  OK    OK    OK  UNNEEDED, same version is already published
palomino3Windows Server 2022 Datacenter / x64  OK    OK    OK    OK  UNNEEDED, same version is already published
merida1macOS 10.14.6 Mojave / x86_64  OK    OK    OK    OK  UNNEEDED, same version is already published
Package 52/303HostnameOS / ArchINSTALLBUILDCHECKBUILD BIN
CNVRanger 1.15.0  (landing page)
Ludwig Geistlinger
git_last_commit: 79c68ed
git_last_commit_date: 2022-11-01 11:19:14 -0500
nebbiolo1Linux (Ubuntu 22.04.1 LTS) / x86_64  OK    OK    OK  UNNEEDED, same version is already published
palomino3Windows Server 2022 Datacenter / x64  OK    OK    OK    OK  UNNEEDED, same version is already published
merida1macOS 10.14.6 Mojave / x86_64  OK    OK    OK    OK  UNNEEDED, same version is already published
Package 53/303HostnameOS / ArchINSTALLBUILDCHECKBUILD BIN
CODEX 1.31.0  (landing page)
Yuchao Jiang
git_last_commit: 939ab54
git_last_commit_date: 2022-11-01 11:10:55 -0500
nebbiolo1Linux (Ubuntu 22.04.1 LTS) / x86_64  OK    OK    OK  UNNEEDED, same version is already published
palomino3Windows Server 2022 Datacenter / x64  OK    OK    OK    OK  UNNEEDED, same version is already published
merida1macOS 10.14.6 Mojave / x86_64  OK    OK    OK    OK  UNNEEDED, same version is already published
Package 54/303HostnameOS / ArchINSTALLBUILDCHECKBUILD BIN
Cogito 1.5.0  (landing page)
Annika Bürger
git_last_commit: 70c2f30
git_last_commit_date: 2022-11-01 11:25:54 -0500
nebbiolo1Linux (Ubuntu 22.04.1 LTS) / x86_64  OK    OK    OK  UNNEEDED, same version is already published
palomino3Windows Server 2022 Datacenter / x64  OK    OK    OK    OK  UNNEEDED, same version is already published
merida1macOS 10.14.6 Mojave / x86_64  OK    OK    OK    OK  UNNEEDED, same version is already published
Package 55/303HostnameOS / ArchINSTALLBUILDCHECKBUILD BIN
comapr 1.3.0  (landing page)
Ruqian Lyu
git_last_commit: 42d7af2
git_last_commit_date: 2022-11-01 11:26:18 -0500
nebbiolo1Linux (Ubuntu 22.04.1 LTS) / x86_64  OK    OK    OK  UNNEEDED, same version is already published
palomino3Windows Server 2022 Datacenter / x64  OK    OK    OK    OK  UNNEEDED, same version is already published
merida1macOS 10.14.6 Mojave / x86_64  OK    OK    OK    OK  UNNEEDED, same version is already published
Package 56/303HostnameOS / ArchINSTALLBUILDCHECKBUILD BIN
compEpiTools 1.33.0  (landing page)
Kamal Kishore
git_last_commit: 5de0197
git_last_commit_date: 2022-11-01 11:10:09 -0500
nebbiolo1Linux (Ubuntu 22.04.1 LTS) / x86_64  OK    OK    WARNINGS  UNNEEDED, same version is already published
palomino3Windows Server 2022 Datacenter / x64  OK    OK    WARNINGS    OK  UNNEEDED, same version is already published
merida1macOS 10.14.6 Mojave / x86_64  OK    OK    WARNINGS    OK  UNNEEDED, same version is already published
Package 57/303HostnameOS / ArchINSTALLBUILDCHECKBUILD BIN
consensusSeekeR 1.27.0  (landing page)
Astrid Deschenes
git_last_commit: 33153bc
git_last_commit_date: 2022-11-01 11:12:31 -0500
nebbiolo1Linux (Ubuntu 22.04.1 LTS) / x86_64  OK    OK    OK  UNNEEDED, same version is already published
palomino3Windows Server 2022 Datacenter / x64  OK    OK    OK    OK  UNNEEDED, same version is already published
merida1macOS 10.14.6 Mojave / x86_64  OK    OK    OK    OK  UNNEEDED, same version is already published
Package 58/303HostnameOS / ArchINSTALLBUILDCHECKBUILD BIN
conumee 1.33.0  (landing page)
Volker Hovestadt
git_last_commit: d818c3e
git_last_commit_date: 2022-11-01 11:11:32 -0500
nebbiolo1Linux (Ubuntu 22.04.1 LTS) / x86_64  OK    OK    OK  UNNEEDED, same version is already published
palomino3Windows Server 2022 Datacenter / x64... NOT SUPPORTED ...
merida1macOS 10.14.6 Mojave / x86_64  OK    OK    TIMEOUT    OK  
Package 59/303HostnameOS / ArchINSTALLBUILDCHECKBUILD BIN
CopyNumberPlots 1.15.0  (landing page)
Bernat Gel
git_last_commit: a3d45ec
git_last_commit_date: 2022-11-01 11:19:46 -0500
nebbiolo1Linux (Ubuntu 22.04.1 LTS) / x86_64  OK    OK    OK  UNNEEDED, same version is already published
palomino3Windows Server 2022 Datacenter / x64  OK    OK    OK    OK  UNNEEDED, same version is already published
merida1macOS 10.14.6 Mojave / x86_64  OK    OK    OK    OK  UNNEEDED, same version is already published
Package 60/303HostnameOS / ArchINSTALLBUILDCHECKBUILD BIN
CopywriteR 2.31.0  (landing page)
Oscar Krijgsman
git_last_commit: c911960
git_last_commit_date: 2022-11-01 11:11:29 -0500
nebbiolo1Linux (Ubuntu 22.04.1 LTS) / x86_64  OK    ERROR  skipped
palomino3Windows Server 2022 Datacenter / x64  OK    ERROR  skippedskipped
merida1macOS 10.14.6 Mojave / x86_64  OK    ERROR  skippedskipped
Package 61/303HostnameOS / ArchINSTALLBUILDCHECKBUILD BIN
crisprBowtie 1.3.0  (landing page)
Jean-Philippe Fortin
git_last_commit: 25bfd4f
git_last_commit_date: 2022-11-01 11:26:28 -0500
nebbiolo1Linux (Ubuntu 22.04.1 LTS) / x86_64  OK    OK    OK  UNNEEDED, same version is already published
palomino3Windows Server 2022 Datacenter / x64  OK    OK    OK    OK  UNNEEDED, same version is already published
merida1macOS 10.14.6 Mojave / x86_64  OK    OK    OK    OK  UNNEEDED, same version is already published
Package 62/303HostnameOS / ArchINSTALLBUILDCHECKBUILD BIN
crisprBwa 1.3.0  (landing page)
Jean-Philippe Fortin
git_last_commit: fdc9e44
git_last_commit_date: 2022-11-01 11:26:58 -0500
nebbiolo1Linux (Ubuntu 22.04.1 LTS) / x86_64  OK    OK    OK  UNNEEDED, same version is already published
palomino3Windows Server 2022 Datacenter / x64... NOT SUPPORTED ...
merida1macOS 10.14.6 Mojave / x86_64  OK    OK    OK    OK  UNNEEDED, same version is already published
Package 63/303HostnameOS / ArchINSTALLBUILDCHECKBUILD BIN
crisprDesign 1.1.13  (landing page)
Jean-Philippe Fortin
git_last_commit: 9a2949c
git_last_commit_date: 2023-01-23 12:59:47 -0500
nebbiolo1Linux (Ubuntu 22.04.1 LTS) / x86_64  OK    OK    OK  UNNEEDED, same version is already published
palomino3Windows Server 2022 Datacenter / x64  OK    OK    OK    OK  UNNEEDED, same version is already published
merida1macOS 10.14.6 Mojave / x86_64  OK    OK    TIMEOUT    OK  
Package 64/303HostnameOS / ArchINSTALLBUILDCHECKBUILD BIN
CRISPRseek 1.39.0  (landing page)
Lihua Julie Zhu
git_last_commit: 1ce9399
git_last_commit_date: 2022-11-01 11:09:00 -0500
nebbiolo1Linux (Ubuntu 22.04.1 LTS) / x86_64  OK    OK    OK  UNNEEDED, same version is already published
palomino3Windows Server 2022 Datacenter / x64  OK    OK    OK    OK  UNNEEDED, same version is already published
merida1macOS 10.14.6 Mojave / x86_64  OK    OK    TIMEOUT    OK  
Package 65/303HostnameOS / ArchINSTALLBUILDCHECKBUILD BIN
CrispRVariants 1.27.0  (landing page)
Helen Lindsay
git_last_commit: 669c694
git_last_commit_date: 2022-11-01 11:12:41 -0500
nebbiolo1Linux (Ubuntu 22.04.1 LTS) / x86_64  OK    OK    WARNINGS  UNNEEDED, same version is already published
palomino3Windows Server 2022 Datacenter / x64  OK    OK    WARNINGS    OK  UNNEEDED, same version is already published
merida1macOS 10.14.6 Mojave / x86_64  OK    OK    WARNINGS    OK  UNNEEDED, same version is already published
Package 66/303HostnameOS / ArchINSTALLBUILDCHECKBUILD BIN
crisprViz 1.1.0  (landing page)
Jean-Philippe Fortin
git_last_commit: 203cb4d
git_last_commit_date: 2022-11-01 11:27:33 -0500
nebbiolo1Linux (Ubuntu 22.04.1 LTS) / x86_64  OK    ERROR  skipped
palomino3Windows Server 2022 Datacenter / x64  OK    ERROR  skippedskipped
merida1macOS 10.14.6 Mojave / x86_64  OK    ERROR  skippedskipped
Package 67/303HostnameOS / ArchINSTALLBUILDCHECKBUILD BIN
CSAR 1.51.0  (landing page)
Jose M Muino
git_last_commit: 9bc95e7
git_last_commit_date: 2022-11-01 11:04:47 -0500
nebbiolo1Linux (Ubuntu 22.04.1 LTS) / x86_64  OK    OK    OK  UNNEEDED, same version is already published
palomino3Windows Server 2022 Datacenter / x64  OK    OK    OK    OK  UNNEEDED, same version is already published
merida1macOS 10.14.6 Mojave / x86_64  OK    OK    OK    OK  UNNEEDED, same version is already published
Package 68/303HostnameOS / ArchINSTALLBUILDCHECKBUILD BIN
csaw 1.33.0  (landing page)
Aaron Lun
git_last_commit: 613823d
git_last_commit_date: 2022-11-01 11:10:35 -0500
nebbiolo1Linux (Ubuntu 22.04.1 LTS) / x86_64  OK    OK    WARNINGS  UNNEEDED, same version is already published
palomino3Windows Server 2022 Datacenter / x64  OK    OK    WARNINGS    OK  UNNEEDED, same version is already published
merida1macOS 10.14.6 Mojave / x86_64  OK    OK    WARNINGS    OK  UNNEEDED, same version is already published
Package 69/303HostnameOS / ArchINSTALLBUILDCHECKBUILD BIN
customProDB 1.39.0  (landing page)
Xiaojing Wang
git_last_commit: 612f132
git_last_commit_date: 2022-11-01 11:08:20 -0500
nebbiolo1Linux (Ubuntu 22.04.1 LTS) / x86_64  OK    OK    OK  UNNEEDED, same version is already published
palomino3Windows Server 2022 Datacenter / x64  OK    OK    OK    OK  UNNEEDED, same version is already published
merida1macOS 10.14.6 Mojave / x86_64  OK    OK    OK    OK  UNNEEDED, same version is already published
Package 70/303HostnameOS / ArchINSTALLBUILDCHECKBUILD BIN
DAMEfinder 1.11.1  (landing page)
Stephany Orjuela
git_last_commit: 3f4d9bf
git_last_commit_date: 2022-12-06 08:46:37 -0500
nebbiolo1Linux (Ubuntu 22.04.1 LTS) / x86_64  OK    OK    OK  UNNEEDED, same version is already published
palomino3Windows Server 2022 Datacenter / x64  OK    OK    OK    OK  UNNEEDED, same version is already published
merida1macOS 10.14.6 Mojave / x86_64  OK    OK    OK    OK  UNNEEDED, same version is already published
Package 71/303HostnameOS / ArchINSTALLBUILDCHECKBUILD BIN
dasper 1.9.0  (landing page)
David Zhang
git_last_commit: 7fc89b3
git_last_commit_date: 2022-11-01 11:23:22 -0500
nebbiolo1Linux (Ubuntu 22.04.1 LTS) / x86_64  OK    OK    ERROR  
palomino3Windows Server 2022 Datacenter / x64  OK    ERROR  skippedskipped
merida1macOS 10.14.6 Mojave / x86_64  OK    OK    ERROR    OK  
Package 72/303HostnameOS / ArchINSTALLBUILDCHECKBUILD BIN
decompTumor2Sig 2.15.0  (landing page)
Rosario M. Piro
git_last_commit: f413c6a
git_last_commit_date: 2022-11-01 11:18:56 -0500
nebbiolo1Linux (Ubuntu 22.04.1 LTS) / x86_64  OK    OK    OK  UNNEEDED, same version is already published
palomino3Windows Server 2022 Datacenter / x64  OK    OK    OK    OK  UNNEEDED, same version is already published
merida1macOS 10.14.6 Mojave / x86_64  OK    OK    OK    OK  UNNEEDED, same version is already published
Package 73/303HostnameOS / ArchINSTALLBUILDCHECKBUILD BIN
DeepBlueR 1.25.1  (landing page)
Felipe Albrecht , Markus List , Quirin Manz
git_last_commit: 950d10c
git_last_commit_date: 2023-01-10 05:24:28 -0500
nebbiolo1Linux (Ubuntu 22.04.1 LTS) / x86_64  OK    ERROR  skipped
palomino3Windows Server 2022 Datacenter / x64  OK    ERROR  skippedskipped
merida1macOS 10.14.6 Mojave / x86_64  OK    ERROR  skippedskipped
Package 74/303HostnameOS / ArchINSTALLBUILDCHECKBUILD BIN
derfinder 1.33.0  (landing page)
Leonardo Collado-Torres
git_last_commit: 4da8676
git_last_commit_date: 2022-11-01 11:10:24 -0500
nebbiolo1Linux (Ubuntu 22.04.1 LTS) / x86_64  OK    OK    OK  UNNEEDED, same version is already published
palomino3Windows Server 2022 Datacenter / x64  OK    OK    OK    OK  UNNEEDED, same version is already published
merida1macOS 10.14.6 Mojave / x86_64  OK    OK    OK    OK  UNNEEDED, same version is already published
Package 75/303HostnameOS / ArchINSTALLBUILDCHECKBUILD BIN
derfinderPlot 1.33.0  (landing page)
Leonardo Collado-Torres
git_last_commit: a63cb58
git_last_commit_date: 2022-11-01 11:10:25 -0500
nebbiolo1Linux (Ubuntu 22.04.1 LTS) / x86_64  OK    OK    OK  UNNEEDED, same version is already published
palomino3Windows Server 2022 Datacenter / x64  OK    OK    OK    OK  UNNEEDED, same version is already published
merida1macOS 10.14.6 Mojave / x86_64  OK    OK    OK    OK  UNNEEDED, same version is already published
Package 76/303HostnameOS / ArchINSTALLBUILDCHECKBUILD BIN
DEScan2 1.19.0  (landing page)
Dario Righelli
git_last_commit: f5d07fe
git_last_commit_date: 2022-11-01 11:17:18 -0500
nebbiolo1Linux (Ubuntu 22.04.1 LTS) / x86_64  OK    OK    OK  UNNEEDED, same version is already published
palomino3Windows Server 2022 Datacenter / x64  OK    OK    OK    OK  UNNEEDED, same version is already published
merida1macOS 10.14.6 Mojave / x86_64  OK    OK    OK    OK  UNNEEDED, same version is already published
Package 77/303HostnameOS / ArchINSTALLBUILDCHECKBUILD BIN
DEWSeq 1.13.0  (landing page)
bioinformatics team Hentze
git_last_commit: ed545b2
git_last_commit_date: 2022-11-01 11:20:50 -0500
nebbiolo1Linux (Ubuntu 22.04.1 LTS) / x86_64  OK    OK    OK  UNNEEDED, same version is already published
palomino3Windows Server 2022 Datacenter / x64  OK    OK    OK    OK  UNNEEDED, same version is already published
merida1macOS 10.14.6 Mojave / x86_64  OK    OK    OK    OK  UNNEEDED, same version is already published
Package 78/303HostnameOS / ArchINSTALLBUILDCHECKBUILD BIN
diffHic 1.31.0  (landing page)
Aaron Lun
git_last_commit: d0d608e
git_last_commit_date: 2022-11-01 11:11:37 -0500
nebbiolo1Linux (Ubuntu 22.04.1 LTS) / x86_64  OK    OK    WARNINGS  UNNEEDED, same version is already published
palomino3Windows Server 2022 Datacenter / x64  OK    OK    WARNINGS    OK  UNNEEDED, same version is already published
merida1macOS 10.14.6 Mojave / x86_64  OK    OK    WARNINGS    OK  UNNEEDED, same version is already published
Package 79/303HostnameOS / ArchINSTALLBUILDCHECKBUILD BIN
diffUTR 1.7.0  (landing page)
Pierre-Luc Germain
git_last_commit: 5906818
git_last_commit_date: 2022-11-01 11:24:56 -0500
nebbiolo1Linux (Ubuntu 22.04.1 LTS) / x86_64  OK    OK    OK  UNNEEDED, same version is already published
palomino3Windows Server 2022 Datacenter / x64  OK    OK    OK    OK  UNNEEDED, same version is already published
merida1macOS 10.14.6 Mojave / x86_64  OK    OK    OK    OK  UNNEEDED, same version is already published
Package 80/303HostnameOS / ArchINSTALLBUILDCHECKBUILD BIN
DMRcate 2.13.0  (landing page)
Tim Peters
git_last_commit: 1da4c5d
git_last_commit_date: 2022-11-01 11:09:16 -0500
nebbiolo1Linux (Ubuntu 22.04.1 LTS) / x86_64  OK    OK    OK  UNNEEDED, same version is already published
palomino3Windows Server 2022 Datacenter / x64  OK    OK    TIMEOUT    OK  
merida1macOS 10.14.6 Mojave / x86_64  OK    OK    TIMEOUT    OK  
Package 81/303HostnameOS / ArchINSTALLBUILDCHECKBUILD BIN
DMRScan 1.21.0  (landing page)
Christian M Page
git_last_commit: a39425b
git_last_commit_date: 2022-11-01 11:15:04 -0500
nebbiolo1Linux (Ubuntu 22.04.1 LTS) / x86_64  OK    OK    OK  UNNEEDED, same version is already published
palomino3Windows Server 2022 Datacenter / x64  OK    OK    OK    OK  UNNEEDED, same version is already published
merida1macOS 10.14.6 Mojave / x86_64  OK    OK    OK    OK  UNNEEDED, same version is already published
Package 82/303HostnameOS / ArchINSTALLBUILDCHECKBUILD BIN
dmrseq 1.19.0  (landing page)
Keegan Korthauer
git_last_commit: 6a00ebd
git_last_commit_date: 2022-11-01 11:17:14 -0500
nebbiolo1Linux (Ubuntu 22.04.1 LTS) / x86_64  OK    OK    OK  UNNEEDED, same version is already published
palomino3Windows Server 2022 Datacenter / x64  OK    OK    OK    OK  NO, package depends on 'bsseq' which is not available
merida1macOS 10.14.6 Mojave / x86_64  OK    OK    OK    OK  NO, package depends on 'bsseq' which is not available
Package 83/303HostnameOS / ArchINSTALLBUILDCHECKBUILD BIN
DominoEffect 1.19.0  (landing page)
Marija Buljan
git_last_commit: ac67be0
git_last_commit_date: 2022-11-01 11:17:11 -0500
nebbiolo1Linux (Ubuntu 22.04.1 LTS) / x86_64  OK    OK    OK  UNNEEDED, same version is already published
palomino3Windows Server 2022 Datacenter / x64  OK    OK    OK    OK  UNNEEDED, same version is already published
merida1macOS 10.14.6 Mojave / x86_64  OK    OK    OK    OK  UNNEEDED, same version is already published
Package 84/303HostnameOS / ArchINSTALLBUILDCHECKBUILD BIN
easyRNASeq 2.35.0  (landing page)
Nicolas Delhomme
git_last_commit: 04012c4
git_last_commit_date: 2022-11-01 11:06:37 -0500
nebbiolo1Linux (Ubuntu 22.04.1 LTS) / x86_64  OK    OK    OK  UNNEEDED, same version is already published
palomino3Windows Server 2022 Datacenter / x64  OK    OK    OK    OK  UNNEEDED, same version is already published
merida1macOS 10.14.6 Mojave / x86_64  OK    OK    OK    OK  UNNEEDED, same version is already published
Package 85/303HostnameOS / ArchINSTALLBUILDCHECKBUILD BIN
ELMER 2.23.0  (landing page)
Tiago Chedraoui Silva
git_last_commit: 27c3e6f
git_last_commit_date: 2022-11-01 11:11:45 -0500
nebbiolo1Linux (Ubuntu 22.04.1 LTS) / x86_64  OK    OK    ERROR  
palomino3Windows Server 2022 Datacenter / x64  OK    OK    ERROR    OK  
merida1macOS 10.14.6 Mojave / x86_64  OK    OK    ERROR    OK  
Package 86/303HostnameOS / ArchINSTALLBUILDCHECKBUILD BIN
enhancerHomologSearch 1.5.0  (landing page)
Jianhong Ou
git_last_commit: 9b665c9
git_last_commit_date: 2022-11-11 10:43:52 -0500
nebbiolo1Linux (Ubuntu 22.04.1 LTS) / x86_64  OK    OK    WARNINGS  UNNEEDED, same version is already published
palomino3Windows Server 2022 Datacenter / x64  OK    OK    WARNINGS    OK  UNNEEDED, same version is already published
merida1macOS 10.14.6 Mojave / x86_64  OK    OK    WARNINGS    OK  UNNEEDED, same version is already published
Package 87/303HostnameOS / ArchINSTALLBUILDCHECKBUILD BIN
enrichTF 1.15.0  (landing page)
Zheng Wei
git_last_commit: 8cb8d13
git_last_commit_date: 2022-11-01 11:19:51 -0500
nebbiolo1Linux (Ubuntu 22.04.1 LTS) / x86_64  OK    OK    OK  UNNEEDED, same version is already published
palomino3Windows Server 2022 Datacenter / x64  OK    OK    OK    OK  UNNEEDED, same version is already published
merida1macOS 10.14.6 Mojave / x86_64  OK    OK    OK    OK  UNNEEDED, same version is already published
Package 88/303HostnameOS / ArchINSTALLBUILDCHECKBUILD BIN
ensembldb 2.23.1  (landing page)
Johannes Rainer
git_last_commit: 8995853
git_last_commit_date: 2022-11-09 05:50:04 -0500
nebbiolo1Linux (Ubuntu 22.04.1 LTS) / x86_64  OK    OK    OK  UNNEEDED, same version is already published
palomino3Windows Server 2022 Datacenter / x64  OK    OK    OK    OK  UNNEEDED, same version is already published
merida1macOS 10.14.6 Mojave / x86_64  OK    OK    OK    OK  UNNEEDED, same version is already published
Package 89/303HostnameOS / ArchINSTALLBUILDCHECKBUILD BIN
ensemblVEP 1.41.1  (landing page)
Bioconductor Package Maintainer
git_last_commit: af762fa
git_last_commit_date: 2022-11-28 21:19:59 -0500
nebbiolo1Linux (Ubuntu 22.04.1 LTS) / x86_64  OK    OK    OK  UNNEEDED, same version is already published
palomino3Windows Server 2022 Datacenter / x64... NOT SUPPORTED ...
merida1macOS 10.14.6 Mojave / x86_64  OK    OK    OK    OK  UNNEEDED, same version is already published
Package 90/303HostnameOS / ArchINSTALLBUILDCHECKBUILD BIN
epialleleR 1.7.0  (landing page)
Oleksii Nikolaienko
git_last_commit: 11ca088
git_last_commit_date: 2022-11-01 11:24:58 -0500
nebbiolo1Linux (Ubuntu 22.04.1 LTS) / x86_64  OK    OK    WARNINGS  UNNEEDED, same version is already published
palomino3Windows Server 2022 Datacenter / x64  OK    OK    OK    OK  UNNEEDED, same version is already published
merida1macOS 10.14.6 Mojave / x86_64  OK    OK    WARNINGS    OK  UNNEEDED, same version is already published
Package 91/303HostnameOS / ArchINSTALLBUILDCHECKBUILD BIN
EpiCompare 1.3.0  (landing page)
Sera Choi
git_last_commit: 0774994
git_last_commit_date: 2022-11-01 11:27:02 -0500
nebbiolo1Linux (Ubuntu 22.04.1 LTS) / x86_64  OK    OK    OK  UNNEEDED, same version is already published
palomino3Windows Server 2022 Datacenter / x64  OK    OK    OK    OK  UNNEEDED, same version is already published
merida1macOS 10.14.6 Mojave / x86_64  OK    OK    OK    OK  NO, package depends on 'ChIPseeker' which is not available
Package 92/303HostnameOS / ArchINSTALLBUILDCHECKBUILD BIN
epigenomix 1.39.0  (landing page)
Hans-Ulrich Klein
git_last_commit: 9187ade
git_last_commit_date: 2022-11-01 11:07:58 -0500
nebbiolo1Linux (Ubuntu 22.04.1 LTS) / x86_64  OK    OK    OK  UNNEEDED, same version is already published
palomino3Windows Server 2022 Datacenter / x64  OK    OK    OK    OK  UNNEEDED, same version is already published
merida1macOS 10.14.6 Mojave / x86_64  OK    OK    OK    OK  UNNEEDED, same version is already published
Package 93/303HostnameOS / ArchINSTALLBUILDCHECKBUILD BIN
epigraHMM 1.7.0  (landing page)
Pedro Baldoni
git_last_commit: 624c0c6
git_last_commit_date: 2022-11-01 11:25:04 -0500
nebbiolo1Linux (Ubuntu 22.04.1 LTS) / x86_64  OK    OK    WARNINGS  UNNEEDED, same version is already published
palomino3Windows Server 2022 Datacenter / x64  OK    OK    OK    OK  UNNEEDED, same version is already published
merida1macOS 10.14.6 Mojave / x86_64  OK    OK    WARNINGS    OK  UNNEEDED, same version is already published
Package 94/303HostnameOS / ArchINSTALLBUILDCHECKBUILD BIN
EpiMix 1.1.0  (landing page)
Yuanning Zheng
git_last_commit: 182edea
git_last_commit_date: 2022-11-01 11:27:17 -0500
nebbiolo1Linux (Ubuntu 22.04.1 LTS) / x86_64  OK    ERROR  skipped
palomino3Windows Server 2022 Datacenter / x64  OK    ERROR  skippedskipped
merida1macOS 10.14.6 Mojave / x86_64  OK    ERROR  skippedskipped
Package 95/303HostnameOS / ArchINSTALLBUILDCHECKBUILD BIN
epimutacions 1.3.0  (landing page)
Dolors Pelegri-Siso
git_last_commit: 4b983d2
git_last_commit_date: 2022-11-01 11:26:53 -0500
nebbiolo1Linux (Ubuntu 22.04.1 LTS) / x86_64  OK    OK    OK  UNNEEDED, same version is already published
palomino3Windows Server 2022 Datacenter / x64  OK    OK    OK    OK  UNNEEDED, same version is already published
merida1macOS 10.14.6 Mojave / x86_64  OK    OK    OK    OK  UNNEEDED, same version is already published
Package 96/303HostnameOS / ArchINSTALLBUILDCHECKBUILD BIN
EpiTxDb 1.11.0  (landing page)
Felix G.M. Ernst
git_last_commit: aa28b39
git_last_commit_date: 2022-11-01 11:21:35 -0500
nebbiolo1Linux (Ubuntu 22.04.1 LTS) / x86_64  OK    OK    OK  UNNEEDED, same version is already published
palomino3Windows Server 2022 Datacenter / x64  OK    OK    OK    OK  UNNEEDED, same version is already published
merida1macOS 10.14.6 Mojave / x86_64  OK    OK    OK    OK  UNNEEDED, same version is already published
Package 97/303HostnameOS / ArchINSTALLBUILDCHECKBUILD BIN
epivizr 2.29.0  (landing page)
Hector Corrada Bravo
git_last_commit: a0e3a4b
git_last_commit_date: 2022-11-01 11:08:48 -0500
nebbiolo1Linux (Ubuntu 22.04.1 LTS) / x86_64  OK    OK    OK  UNNEEDED, same version is already published
palomino3Windows Server 2022 Datacenter / x64  OK    OK    OK    OK  UNNEEDED, same version is already published
merida1macOS 10.14.6 Mojave / x86_64  OK    OK    OK    OK  UNNEEDED, same version is already published
Package 98/303HostnameOS / ArchINSTALLBUILDCHECKBUILD BIN
epivizrData 1.27.0  (landing page)
Hector Corrada Bravo
git_last_commit: 4065423
git_last_commit_date: 2022-11-01 11:13:39 -0500
nebbiolo1Linux (Ubuntu 22.04.1 LTS) / x86_64  OK    OK    OK  UNNEEDED, same version is already published
palomino3Windows Server 2022 Datacenter / x64  OK    OK    OK    OK  UNNEEDED, same version is already published
merida1macOS 10.14.6 Mojave / x86_64  OK    OK    OK    OK  UNNEEDED, same version is already published
Package 99/303HostnameOS / ArchINSTALLBUILDCHECKBUILD BIN
epivizrStandalone 1.27.0  (landing page)
Hector Corrada Bravo
git_last_commit: 697c987
git_last_commit_date: 2022-11-01 11:13:43 -0500
nebbiolo1Linux (Ubuntu 22.04.1 LTS) / x86_64  OK    OK    WARNINGS  UNNEEDED, same version is already published
palomino3Windows Server 2022 Datacenter / x64  OK    OK    WARNINGS    OK  UNNEEDED, same version is already published
merida1macOS 10.14.6 Mojave / x86_64  OK    OK    WARNINGS    OK  UNNEEDED, same version is already published
Package 100/303HostnameOS / ArchINSTALLBUILDCHECKBUILD BIN
erma 1.15.0  (landing page)
VJ Carey
git_last_commit: ed3b144
git_last_commit_date: 2022-11-01 11:11:49 -0500
nebbiolo1Linux (Ubuntu 22.04.1 LTS) / x86_64  OK    OK    OK  UNNEEDED, same version is already published
palomino3Windows Server 2022 Datacenter / x64  OK    OK    OK    OK  UNNEEDED, same version is already published
merida1macOS 10.14.6 Mojave / x86_64  OK    OK    OK    OK  UNNEEDED, same version is already published
Package 101/303HostnameOS / ArchINSTALLBUILDCHECKBUILD BIN
esATAC 1.21.0  (landing page)
Zheng Wei
git_last_commit: dc1b794
git_last_commit_date: 2022-11-01 11:16:47 -0500
nebbiolo1Linux (Ubuntu 22.04.1 LTS) / x86_64  OK    OK    WARNINGS  UNNEEDED, same version is already published
palomino3Windows Server 2022 Datacenter / x64  OK    OK    WARNINGS    OK  UNNEEDED, same version is already published
merida1macOS 10.14.6 Mojave / x86_64  OK    OK    WARNINGS    OK  NO, package depends on 'ChIPseeker' which is not available
Package 102/303HostnameOS / ArchINSTALLBUILDCHECKBUILD BIN
EventPointer 3.7.0  (landing page)
Juan A. Ferrer-Bonsoms
git_last_commit: 870be76
git_last_commit_date: 2022-11-01 11:15:15 -0500
nebbiolo1Linux (Ubuntu 22.04.1 LTS) / x86_64  OK    ERROR  skipped
palomino3Windows Server 2022 Datacenter / x64  OK    ERROR  skippedskipped
merida1macOS 10.14.6 Mojave / x86_64  OK    ERROR  skippedskipped
Package 103/303HostnameOS / ArchINSTALLBUILDCHECKBUILD BIN
exomeCopy 1.45.0  (landing page)
Michael Love
git_last_commit: 584c54b
git_last_commit_date: 2022-11-01 11:06:27 -0500
nebbiolo1Linux (Ubuntu 22.04.1 LTS) / x86_64  OK    OK    OK  UNNEEDED, same version is already published
palomino3Windows Server 2022 Datacenter / x64  OK    OK    OK    OK  UNNEEDED, same version is already published
merida1macOS 10.14.6 Mojave / x86_64  OK    OK    OK    OK  UNNEEDED, same version is already published
Package 104/303HostnameOS / ArchINSTALLBUILDCHECKBUILD BIN
exomePeak2 1.11.0  (landing page)
Zhen Wei
git_last_commit: 1b9534d
git_last_commit_date: 2022-11-01 11:21:28 -0500
nebbiolo1Linux (Ubuntu 22.04.1 LTS) / x86_64  OK    OK    OK  UNNEEDED, same version is already published
palomino3Windows Server 2022 Datacenter / x64  OK    OK    OK    OK  UNNEEDED, same version is already published
merida1macOS 10.14.6 Mojave / x86_64  OK    OK    OK    OK  UNNEEDED, same version is already published
Package 105/303HostnameOS / ArchINSTALLBUILDCHECKBUILD BIN
extraChIPs 1.3.4  (landing page)
Stephen Pederson
git_last_commit: 74da497
git_last_commit_date: 2022-12-19 09:33:27 -0500
nebbiolo1Linux (Ubuntu 22.04.1 LTS) / x86_64  OK    OK    OK  UNNEEDED, same version is already published
palomino3Windows Server 2022 Datacenter / x64  OK    OK    OK    OK  UNNEEDED, same version is already published
merida1macOS 10.14.6 Mojave / x86_64  OK    OK    OK    OK  UNNEEDED, same version is already published
Package 106/303HostnameOS / ArchINSTALLBUILDCHECKBUILD BIN
factR 1.1.0  (landing page)
Fursham Hamid
git_last_commit: d8724d2
git_last_commit_date: 2022-11-01 11:27:13 -0500
nebbiolo1Linux (Ubuntu 22.04.1 LTS) / x86_64  OK    OK    OK  UNNEEDED, same version is already published
palomino3Windows Server 2022 Datacenter / x64  OK    OK    OK    OK  UNNEEDED, same version is already published
merida1macOS 10.14.6 Mojave / x86_64  OK    OK    OK    OK  UNNEEDED, same version is already published
Package 107/303HostnameOS / ArchINSTALLBUILDCHECKBUILD BIN
FindIT2 1.5.0  (landing page)
Guandong Shang
git_last_commit: db4c20d
git_last_commit_date: 2022-11-01 11:25:15 -0500
nebbiolo1Linux (Ubuntu 22.04.1 LTS) / x86_64  OK    OK    OK  UNNEEDED, same version is already published
palomino3Windows Server 2022 Datacenter / x64  OK    OK    OK    OK  UNNEEDED, same version is already published
merida1macOS 10.14.6 Mojave / x86_64  OK    OK    OK    OK  UNNEEDED, same version is already published
Package 108/303HostnameOS / ArchINSTALLBUILDCHECKBUILD BIN
FLAMES 1.5.4  (landing page)
Voogd Oliver
git_last_commit: 91df8bf
git_last_commit_date: 2023-01-24 19:18:34 -0500
nebbiolo1Linux (Ubuntu 22.04.1 LTS) / x86_64  OK    OK    WARNINGS  UNNEEDED, same version is already published
palomino3Windows Server 2022 Datacenter / x64  OK    OK    OK    OK  UNNEEDED, same version is already published
merida1macOS 10.14.6 Mojave / x86_64  OK    OK    WARNINGS    OK  UNNEEDED, same version is already published
Package 109/303HostnameOS / ArchINSTALLBUILDCHECKBUILD BIN
FRASER 1.11.0  (landing page)
Christian Mertes
git_last_commit: ab699ed
git_last_commit_date: 2022-11-01 11:21:56 -0500
nebbiolo1Linux (Ubuntu 22.04.1 LTS) / x86_64  OK    OK    OK  UNNEEDED, same version is already published
palomino3Windows Server 2022 Datacenter / x64  OK    OK    OK    OK  UNNEEDED, same version is already published
merida1macOS 10.14.6 Mojave / x86_64  OK    OK    OK    OK  UNNEEDED, same version is already published
Package 110/303HostnameOS / ArchINSTALLBUILDCHECKBUILD BIN
FunChIP 1.25.0  (landing page)
Alice Parodi
git_last_commit: 532b8e4
git_last_commit_date: 2022-11-01 11:13:49 -0500
nebbiolo1Linux (Ubuntu 22.04.1 LTS) / x86_64  OK    OK    WARNINGS  UNNEEDED, same version is already published
palomino3Windows Server 2022 Datacenter / x64  OK    OK    WARNINGS    OK  UNNEEDED, same version is already published
merida1macOS 10.14.6 Mojave / x86_64  OK    OK    OK    OK  UNNEEDED, same version is already published
Package 111/303HostnameOS / ArchINSTALLBUILDCHECKBUILD BIN
funtooNorm 1.23.0  (landing page)
Kathleen Klein
git_last_commit: 9901b89
git_last_commit_date: 2022-11-01 11:15:04 -0500
nebbiolo1Linux (Ubuntu 22.04.1 LTS) / x86_64  OK    OK    WARNINGS  UNNEEDED, same version is already published
palomino3Windows Server 2022 Datacenter / x64  OK    OK    WARNINGS    OK  UNNEEDED, same version is already published
merida1macOS 10.14.6 Mojave / x86_64  OK    OK    WARNINGS    OK  UNNEEDED, same version is already published
Package 112/303HostnameOS / ArchINSTALLBUILDCHECKBUILD BIN
GA4GHclient 1.23.0  (landing page)
Welliton Souza
git_last_commit: 74319af
git_last_commit_date: 2022-11-01 11:15:24 -0500
nebbiolo1Linux (Ubuntu 22.04.1 LTS) / x86_64  OK    OK    OK  UNNEEDED, same version is already published
palomino3Windows Server 2022 Datacenter / x64  OK    OK    OK    OK  UNNEEDED, same version is already published
merida1macOS 10.14.6 Mojave / x86_64  OK    OK    OK    OK  UNNEEDED, same version is already published
Package 113/303HostnameOS / ArchINSTALLBUILDCHECKBUILD BIN
GA4GHshiny 1.21.0  (landing page)
Welliton Souza
git_last_commit: 7ca7b54
git_last_commit_date: 2022-11-01 11:15:45 -0500
nebbiolo1Linux (Ubuntu 22.04.1 LTS) / x86_64  OK    OK    OK  UNNEEDED, same version is already published
palomino3Windows Server 2022 Datacenter / x64  OK    OK    OK    OK  UNNEEDED, same version is already published
merida1macOS 10.14.6 Mojave / x86_64  OK    OK    OK    OK  UNNEEDED, same version is already published
Package 114/303HostnameOS / ArchINSTALLBUILDCHECKBUILD BIN
gcapc 1.23.0  (landing page)
Mingxiang Teng
git_last_commit: 353104a
git_last_commit_date: 2022-11-01 11:14:56 -0500
nebbiolo1Linux (Ubuntu 22.04.1 LTS) / x86_64  OK    OK    OK  UNNEEDED, same version is already published
palomino3Windows Server 2022 Datacenter / x64  OK    OK    OK    OK  UNNEEDED, same version is already published
merida1macOS 10.14.6 Mojave / x86_64  OK    OK    OK    OK  UNNEEDED, same version is already published
Package 115/303HostnameOS / ArchINSTALLBUILDCHECKBUILD BIN
genbankr 1.27.0  (landing page)
Gabriel Becker
git_last_commit: 52cde8c
git_last_commit_date: 2022-11-01 11:13:33 -0500
nebbiolo1Linux (Ubuntu 22.04.1 LTS) / x86_64  OK    ERROR  skipped
palomino3Windows Server 2022 Datacenter / x64  OK    ERROR  skippedskipped
merida1macOS 10.14.6 Mojave / x86_64  OK    ERROR  skippedskipped
Package 116/303HostnameOS / ArchINSTALLBUILDCHECKBUILD BIN
geneAttribution 1.25.0  (landing page)
Arthur Wuster
git_last_commit: 5aab3ee
git_last_commit_date: 2022-11-01 11:14:21 -0500
nebbiolo1Linux (Ubuntu 22.04.1 LTS) / x86_64  OK    OK    OK  UNNEEDED, same version is already published
palomino3Windows Server 2022 Datacenter / x64  OK    OK    OK    OK  UNNEEDED, same version is already published
merida1macOS 10.14.6 Mojave / x86_64  OK    OK    OK    OK  UNNEEDED, same version is already published
Package 117/303HostnameOS / ArchINSTALLBUILDCHECKBUILD BIN
genomation 1.31.0  (landing page)
Altuna Akalin , Vedran Franke
git_last_commit: ab5acbd
git_last_commit_date: 2022-11-01 11:10:49 -0500
nebbiolo1Linux (Ubuntu 22.04.1 LTS) / x86_64  OK    OK    WARNINGS  UNNEEDED, same version is already published
palomino3Windows Server 2022 Datacenter / x64  OK    OK    WARNINGS    OK  UNNEEDED, same version is already published
merida1macOS 10.14.6 Mojave / x86_64  OK    OK    WARNINGS    OK  UNNEEDED, same version is already published
Package 118/303HostnameOS / ArchINSTALLBUILDCHECKBUILD BIN
GenomAutomorphism 1.1.2  (landing page)
Robersy Sanchez
git_last_commit: 9dcc7e5
git_last_commit_date: 2022-12-09 11:15:27 -0500
nebbiolo1Linux (Ubuntu 22.04.1 LTS) / x86_64  OK    OK    WARNINGS  UNNEEDED, same version is already published
palomino3Windows Server 2022 Datacenter / x64  OK    OK    WARNINGS    OK  UNNEEDED, same version is already published
merida1macOS 10.14.6 Mojave / x86_64  OK    OK    WARNINGS    OK  UNNEEDED, same version is already published
Package 119/303HostnameOS / ArchINSTALLBUILDCHECKBUILD BIN
genomeIntervals 1.55.0  (landing page)
Julien Gagneur
git_last_commit: 65437b0
git_last_commit_date: 2022-11-01 11:04:21 -0500
nebbiolo1Linux (Ubuntu 22.04.1 LTS) / x86_64  OK    OK    WARNINGS  UNNEEDED, same version is already published
palomino3Windows Server 2022 Datacenter / x64  OK    OK    WARNINGS    OK  UNNEEDED, same version is already published
merida1macOS 10.14.6 Mojave / x86_64  OK    OK    WARNINGS    OK  UNNEEDED, same version is already published
Package 120/303HostnameOS / ArchINSTALLBUILDCHECKBUILD BIN
GenomicAlignments 1.35.0  (landing page)
Hervé Pagès
git_last_commit: 06a6074
git_last_commit_date: 2022-11-01 11:08:59 -0500
nebbiolo1Linux (Ubuntu 22.04.1 LTS) / x86_64  OK    OK    WARNINGS  UNNEEDED, same version is already published
palomino3Windows Server 2022 Datacenter / x64  OK    OK    WARNINGS    OK  UNNEEDED, same version is already published
merida1macOS 10.14.6 Mojave / x86_64  OK    OK    WARNINGS    OK  UNNEEDED, same version is already published
Package 121/303HostnameOS / ArchINSTALLBUILDCHECKBUILD BIN
GenomicDistributions 1.7.0  (landing page)
Kristyna Kupkova
git_last_commit: 134b183
git_last_commit_date: 2022-11-01 11:23:45 -0500
nebbiolo1Linux (Ubuntu 22.04.1 LTS) / x86_64  OK    OK    OK  UNNEEDED, same version is already published
palomino3Windows Server 2022 Datacenter / x64  OK    OK    OK    OK  UNNEEDED, same version is already published
merida1macOS 10.14.6 Mojave / x86_64  OK    OK    OK    OK  UNNEEDED, same version is already published
Package 122/303HostnameOS / ArchINSTALLBUILDCHECKBUILD BIN
GenomicFeatures 1.51.4  (landing page)
H. Pagès
git_last_commit: c864561
git_last_commit_date: 2022-12-14 21:06:06 -0500
nebbiolo1Linux (Ubuntu 22.04.1 LTS) / x86_64  OK    OK    ERROR  
palomino3Windows Server 2022 Datacenter / x64  OK    OK    ERROR    OK  
merida1macOS 10.14.6 Mojave / x86_64  OK    OK    ERROR    OK  
Package 123/303HostnameOS / ArchINSTALLBUILDCHECKBUILD BIN
GenomicFiles 1.35.0  (landing page)
Bioconductor Package Maintainer
git_last_commit: f96fdfd
git_last_commit_date: 2022-11-01 11:09:37 -0500
nebbiolo1Linux (Ubuntu 22.04.1 LTS) / x86_64  OK    OK    WARNINGS  UNNEEDED, same version is already published
palomino3Windows Server 2022 Datacenter / x64  OK    OK    WARNINGS    OK  UNNEEDED, same version is already published
merida1macOS 10.14.6 Mojave / x86_64  OK    OK    WARNINGS    OK  UNNEEDED, same version is already published
Package 124/303HostnameOS / ArchINSTALLBUILDCHECKBUILD BIN
GenomicInteractionNodes 1.3.0  (landing page)
Jianhong Ou
git_last_commit: d333b67
git_last_commit_date: 2022-11-01 11:26:54 -0500
nebbiolo1Linux (Ubuntu 22.04.1 LTS) / x86_64  OK    OK    OK  UNNEEDED, same version is already published
palomino3Windows Server 2022 Datacenter / x64  OK    OK    OK    OK  UNNEEDED, same version is already published
merida1macOS 10.14.6 Mojave / x86_64  OK    OK    OK    OK  UNNEEDED, same version is already published
Package 125/303HostnameOS / ArchINSTALLBUILDCHECKBUILD BIN
GenomicInteractions 1.33.0  (landing page)
Liz Ing-Simmons
git_last_commit: 9a34ccf
git_last_commit_date: 2022-11-01 11:10:21 -0500
nebbiolo1Linux (Ubuntu 22.04.1 LTS) / x86_64  OK    OK    OK  UNNEEDED, same version is already published
palomino3Windows Server 2022 Datacenter / x64  OK    OK    OK    OK  UNNEEDED, same version is already published
merida1macOS 10.14.6 Mojave / x86_64  OK    OK    OK    OK  UNNEEDED, same version is already published
Package 126/303HostnameOS / ArchINSTALLBUILDCHECKBUILD BIN
GenomicOZone 1.13.0  (landing page)
Hua Zhong, Mingzhou Song
git_last_commit: e628f5b
git_last_commit_date: 2022-11-01 11:20:20 -0500
nebbiolo1Linux (Ubuntu 22.04.1 LTS) / x86_64  OK    OK    OK  UNNEEDED, same version is already published
palomino3Windows Server 2022 Datacenter / x64  OK    OK    OK    OK  UNNEEDED, same version is already published
merida1macOS 10.14.6 Mojave / x86_64  OK    OK    OK    OK  UNNEEDED, same version is already published
Package 127/303HostnameOS / ArchINSTALLBUILDCHECKBUILD BIN
GenomicRanges 1.51.4  (landing page)
Hervé Pagès
git_last_commit: f1a44dc
git_last_commit_date: 2022-12-15 13:51:02 -0500
nebbiolo1Linux (Ubuntu 22.04.1 LTS) / x86_64  OK    OK    WARNINGS  UNNEEDED, same version is already published
palomino3Windows Server 2022 Datacenter / x64  OK    OK    WARNINGS    OK  UNNEEDED, same version is already published
merida1macOS 10.14.6 Mojave / x86_64  OK    OK    WARNINGS    OK  UNNEEDED, same version is already published
Package 128/303HostnameOS / ArchINSTALLBUILDCHECKBUILD BIN
GenomicScores 2.11.0  (landing page)
Robert Castelo
git_last_commit: d78fec9
git_last_commit_date: 2022-11-01 11:15:32 -0500
nebbiolo1Linux (Ubuntu 22.04.1 LTS) / x86_64  OK    OK    WARNINGS  UNNEEDED, same version is already published
palomino3Windows Server 2022 Datacenter / x64  OK    OK    WARNINGS    OK  UNNEEDED, same version is already published
merida1macOS 10.14.6 Mojave / x86_64  OK    OK    WARNINGS    OK  UNNEEDED, same version is already published
Package 129/303HostnameOS / ArchINSTALLBUILDCHECKBUILD BIN
GenomicTuples 1.33.0  (landing page)
Peter Hickey
git_last_commit: 2d72eeb
git_last_commit_date: 2022-11-01 11:10:31 -0500
nebbiolo1Linux (Ubuntu 22.04.1 LTS) / x86_64  OK    OK    WARNINGS  UNNEEDED, same version is already published
palomino3Windows Server 2022 Datacenter / x64  OK    OK    WARNINGS    OK  UNNEEDED, same version is already published
merida1macOS 10.14.6 Mojave / x86_64  OK    OK    WARNINGS    OK  UNNEEDED, same version is already published
Package 130/303HostnameOS / ArchINSTALLBUILDCHECKBUILD BIN
genotypeeval 1.31.0  (landing page)
Jennifer Tom
git_last_commit: 5e3f17e
git_last_commit_date: 2022-11-01 11:11:55 -0500
nebbiolo1Linux (Ubuntu 22.04.1 LTS) / x86_64  OK    OK    ERROR  
palomino3Windows Server 2022 Datacenter / x64  OK    OK    ERROR    OK  
merida1macOS 10.14.6 Mojave / x86_64  OK    OK    ERROR    OK  
Package 131/303HostnameOS / ArchINSTALLBUILDCHECKBUILD BIN
GenVisR 1.31.1  (landing page)
Zachary Skidmore
git_last_commit: f65e33d
git_last_commit_date: 2023-01-16 15:04:04 -0500
nebbiolo1Linux (Ubuntu 22.04.1 LTS) / x86_64  OK    OK    OK  UNNEEDED, same version is already published
palomino3Windows Server 2022 Datacenter / x64  OK    OK    OK    OK  UNNEEDED, same version is already published
merida1macOS 10.14.6 Mojave / x86_64  OK    OK    OK    OK  UNNEEDED, same version is already published
Package 132/303HostnameOS / ArchINSTALLBUILDCHECKBUILD BIN
ggbio 1.47.0  (landing page)
Michael Lawrence
git_last_commit: 45abc27
git_last_commit_date: 2022-11-01 11:06:25 -0500
nebbiolo1Linux (Ubuntu 22.04.1 LTS) / x86_64  OK    OK    WARNINGS  UNNEEDED, same version is already published
palomino3Windows Server 2022 Datacenter / x64  OK    OK    WARNINGS    OK  UNNEEDED, same version is already published
merida1macOS 10.14.6 Mojave / x86_64  OK    OK    WARNINGS    OK  UNNEEDED, same version is already published
Package 133/303HostnameOS / ArchINSTALLBUILDCHECKBUILD BIN
gmapR 1.41.0  (landing page)
Michael Lawrence
git_last_commit: fea773c
git_last_commit_date: 2022-11-01 11:07:10 -0500
nebbiolo1Linux (Ubuntu 22.04.1 LTS) / x86_64  OK    OK    WARNINGS  UNNEEDED, same version is already published
palomino3Windows Server 2022 Datacenter / x64... NOT SUPPORTED ...
merida1macOS 10.14.6 Mojave / x86_64  OK    OK    WARNINGS    OK  UNNEEDED, same version is already published
Package 134/303HostnameOS / ArchINSTALLBUILDCHECKBUILD BIN
gmoviz 1.11.0  (landing page)
Kathleen Zeglinski
git_last_commit: 0739ba9
git_last_commit_date: 2022-11-01 11:21:38 -0500
nebbiolo1Linux (Ubuntu 22.04.1 LTS) / x86_64  OK    OK    OK  UNNEEDED, same version is already published
palomino3Windows Server 2022 Datacenter / x64  OK    OK    OK    OK  UNNEEDED, same version is already published
merida1macOS 10.14.6 Mojave / x86_64  OK    OK    OK    OK  UNNEEDED, same version is already published
Package 135/303HostnameOS / ArchINSTALLBUILDCHECKBUILD BIN
GOTHiC 1.35.0  (landing page)
Borbala Mifsud
git_last_commit: a97a62c
git_last_commit_date: 2022-11-01 11:20:09 -0500
nebbiolo1Linux (Ubuntu 22.04.1 LTS) / x86_64  OK    OK    OK  UNNEEDED, same version is already published
palomino3Windows Server 2022 Datacenter / x64  OK    OK    OK    OK  UNNEEDED, same version is already published
merida1macOS 10.14.6 Mojave / x86_64  OK    OK    OK    OK  UNNEEDED, same version is already published
Package 136/303HostnameOS / ArchINSTALLBUILDCHECKBUILD BIN
GRaNIE 1.3.17  (landing page)
Christian Arnold
git_last_commit: ab89d83
git_last_commit_date: 2023-01-27 10:46:26 -0500
nebbiolo1Linux (Ubuntu 22.04.1 LTS) / x86_64  OK    ERROR  skipped
palomino3Windows Server 2022 Datacenter / x64  OK    ERROR  skippedskipped
merida1macOS 10.14.6 Mojave / x86_64  OK    ERROR  skippedskipped
Package 137/303HostnameOS / ArchINSTALLBUILDCHECKBUILD BIN
GreyListChIP 1.31.0  (landing page)
Rory Stark
git_last_commit: 6f93742
git_last_commit_date: 2022-11-01 11:11:03 -0500
nebbiolo1Linux (Ubuntu 22.04.1 LTS) / x86_64  OK    OK    OK  UNNEEDED, same version is already published
palomino3Windows Server 2022 Datacenter / x64  OK    OK    OK    OK  UNNEEDED, same version is already published
merida1macOS 10.14.6 Mojave / x86_64  OK    OK    OK    OK  UNNEEDED, same version is already published
Package 138/303HostnameOS / ArchINSTALLBUILDCHECKBUILD BIN
groHMM 1.33.0  (landing page)
Tulip Nandu , W. Lee Kraus
git_last_commit: f2bc9ca
git_last_commit_date: 2022-11-01 11:10:38 -0500
nebbiolo1Linux (Ubuntu 22.04.1 LTS) / x86_64  OK    OK    OK  UNNEEDED, same version is already published
palomino3Windows Server 2022 Datacenter / x64  OK    OK    OK    OK  UNNEEDED, same version is already published
merida1macOS 10.14.6 Mojave / x86_64  OK    OK    OK    OK  UNNEEDED, same version is already published
Package 139/303HostnameOS / ArchINSTALLBUILDCHECKBUILD BIN
GUIDEseq 1.29.4  (landing page)
Lihua Julie Zhu
git_last_commit: a1608c6
git_last_commit_date: 2022-11-21 23:35:38 -0500
nebbiolo1Linux (Ubuntu 22.04.1 LTS) / x86_64  OK    OK    WARNINGS  UNNEEDED, same version is already published
palomino3Windows Server 2022 Datacenter / x64  OK    OK    WARNINGS    OK  UNNEEDED, same version is already published
merida1macOS 10.14.6 Mojave / x86_64  OK    OK    WARNINGS    OK  NO, package depends on 'CRISPRseek' which is not available
Package 140/303HostnameOS / ArchINSTALLBUILDCHECKBUILD BIN
Gviz 1.43.0  (landing page)
Robert Ivanek
git_last_commit: aefa8d1
git_last_commit_date: 2022-11-01 11:06:41 -0500
nebbiolo1Linux (Ubuntu 22.04.1 LTS) / x86_64  OK    OK    ERROR  
palomino3Windows Server 2022 Datacenter / x64  OK    OK    WARNINGS    OK  UNNEEDED, same version is already published
merida1macOS 10.14.6 Mojave / x86_64  OK    OK    WARNINGS    OK  UNNEEDED, same version is already published
Package 141/303HostnameOS / ArchINSTALLBUILDCHECKBUILD BIN
gwascat 2.31.0  (landing page)
VJ Carey
git_last_commit: 667130c
git_last_commit_date: 2022-11-01 11:06:43 -0500
nebbiolo1Linux (Ubuntu 22.04.1 LTS) / x86_64  OK    OK    OK  UNNEEDED, same version is already published
palomino3Windows Server 2022 Datacenter / x64  OK    OK    OK    OK  UNNEEDED, same version is already published
merida1macOS 10.14.6 Mojave / x86_64  OK    OK    OK    OK  UNNEEDED, same version is already published
Package 142/303HostnameOS / ArchINSTALLBUILDCHECKBUILD BIN
h5vc 2.33.0  (landing page)
Paul Theodor Pyl
git_last_commit: a9ce41f
git_last_commit_date: 2022-11-01 11:08:58 -0500
nebbiolo1Linux (Ubuntu 22.04.1 LTS) / x86_64  OK    OK    WARNINGS  UNNEEDED, same version is already published
palomino3Windows Server 2022 Datacenter / x64  OK    OK    WARNINGS    OK  UNNEEDED, same version is already published
merida1macOS 10.14.6 Mojave / x86_64  OK    OK    WARNINGS    OK  UNNEEDED, same version is already published
Package 143/303HostnameOS / ArchINSTALLBUILDCHECKBUILD BIN
heatmaps 1.23.0  (landing page)
Malcolm Perry
git_last_commit: 745e9b9
git_last_commit_date: 2022-11-01 11:15:40 -0500
nebbiolo1Linux (Ubuntu 22.04.1 LTS) / x86_64  OK    OK    OK  UNNEEDED, same version is already published
palomino3Windows Server 2022 Datacenter / x64  OK    OK    OK    OK  UNNEEDED, same version is already published
merida1macOS 10.14.6 Mojave / x86_64  OK    OK    OK    OK  UNNEEDED, same version is already published
Package 144/303HostnameOS / ArchINSTALLBUILDCHECKBUILD BIN
HelloRanges 1.25.0  (landing page)
Michael Lawrence
git_last_commit: cd2ba49
git_last_commit_date: 2022-11-01 11:14:42 -0500
nebbiolo1Linux (Ubuntu 22.04.1 LTS) / x86_64  OK    OK    OK  UNNEEDED, same version is already published
palomino3Windows Server 2022 Datacenter / x64  OK    OK    OK    OK  UNNEEDED, same version is already published
merida1macOS 10.14.6 Mojave / x86_64  OK    OK    OK    OK  UNNEEDED, same version is already published
Package 145/303HostnameOS / ArchINSTALLBUILDCHECKBUILD BIN
HiCBricks 1.17.0  (landing page)
Koustav Pal
git_last_commit: d85dbc7
git_last_commit_date: 2022-11-01 11:18:41 -0500
nebbiolo1Linux (Ubuntu 22.04.1 LTS) / x86_64  OK    OK    OK  UNNEEDED, same version is already published
palomino3Windows Server 2022 Datacenter / x64  OK    OK    OK    OK  UNNEEDED, same version is already published
merida1macOS 10.14.6 Mojave / x86_64  OK    OK    OK    OK  UNNEEDED, same version is already published
Package 146/303HostnameOS / ArchINSTALLBUILDCHECKBUILD BIN
HiCDCPlus 1.7.0  (landing page)
Merve Sahin
git_last_commit: 2610977
git_last_commit_date: 2022-11-01 11:24:01 -0500
nebbiolo1Linux (Ubuntu 22.04.1 LTS) / x86_64  OK    OK    OK  UNNEEDED, same version is already published
palomino3Windows Server 2022 Datacenter / x64  OK    OK    OK    OK  UNNEEDED, same version is already published
merida1macOS 10.14.6 Mojave / x86_64  OK    OK    OK    OK  UNNEEDED, same version is already published
Package 147/303HostnameOS / ArchINSTALLBUILDCHECKBUILD BIN
HiCDOC 1.1.1  (landing page)
Maigné Élise
git_last_commit: 317e301
git_last_commit_date: 2022-11-30 10:33:16 -0500
nebbiolo1Linux (Ubuntu 22.04.1 LTS) / x86_64  OK    OK    OK  UNNEEDED, same version is already published
palomino3Windows Server 2022 Datacenter / x64  OK    OK    ERROR    OK  
merida1macOS 10.14.6 Mojave / x86_64  OK    OK    OK    OK  UNNEEDED, same version is already published
Package 148/303HostnameOS / ArchINSTALLBUILDCHECKBUILD BIN
HiContacts 1.1.0  (landing page)
Jacques Serizay
git_last_commit: 042f21c
git_last_commit_date: 2022-11-01 11:27:34 -0500
nebbiolo1Linux (Ubuntu 22.04.1 LTS) / x86_64  OK    OK    OK  UNNEEDED, same version is already published
palomino3Windows Server 2022 Datacenter / x64  OK    OK    OK    OK  UNNEEDED, same version is already published
merida1macOS 10.14.6 Mojave / x86_64  OK    OK    OK    OK  UNNEEDED, same version is already published
Package 149/303HostnameOS / ArchINSTALLBUILDCHECKBUILD BIN
HiTC 1.43.0  (landing page)
Nicolas Servant
git_last_commit: 5ca262b
git_last_commit_date: 2022-11-01 11:06:53 -0500
nebbiolo1Linux (Ubuntu 22.04.1 LTS) / x86_64  OK    OK    WARNINGS  UNNEEDED, same version is already published
palomino3Windows Server 2022 Datacenter / x64  OK    OK    WARNINGS    OK  UNNEEDED, same version is already published
merida1macOS 10.14.6 Mojave / x86_64  OK    OK    WARNINGS    OK  UNNEEDED, same version is already published
Package 150/303HostnameOS / ArchINSTALLBUILDCHECKBUILD BIN
HTSeqGenie 4.29.1  (landing page)
Jens Reeder
git_last_commit: e9b146a
git_last_commit_date: 2023-01-20 12:47:05 -0500
nebbiolo1Linux (Ubuntu 22.04.1 LTS) / x86_64  OK    OK    OK  UNNEEDED, same version is already published
palomino3Windows Server 2022 Datacenter / x64... NOT SUPPORTED ...
merida1macOS 10.14.6 Mojave / x86_64... NOT SUPPORTED ...
Package 151/303HostnameOS / ArchINSTALLBUILDCHECKBUILD BIN
IdeoViz 1.35.0  (landing page)
Shraddha Pai
git_last_commit: a358946
git_last_commit_date: 2022-11-01 11:10:27 -0500
nebbiolo1Linux (Ubuntu 22.04.1 LTS) / x86_64  OK    OK    WARNINGS  UNNEEDED, same version is already published
palomino3Windows Server 2022 Datacenter / x64  OK    OK    WARNINGS    OK  UNNEEDED, same version is already published
merida1macOS 10.14.6 Mojave / x86_64  OK    OK    WARNINGS    OK  UNNEEDED, same version is already published
Package 152/303HostnameOS / ArchINSTALLBUILDCHECKBUILD BIN
idr2d 1.13.0  (landing page)
Konstantin Krismer
git_last_commit: 8c8b82b
git_last_commit_date: 2022-11-01 11:20:29 -0500
nebbiolo1Linux (Ubuntu 22.04.1 LTS) / x86_64  OK    OK    OK  UNNEEDED, same version is already published
palomino3Windows Server 2022 Datacenter / x64  OK    OK    OK    OK  UNNEEDED, same version is already published
merida1macOS 10.14.6 Mojave / x86_64  OK    OK    OK    OK  UNNEEDED, same version is already published
Package 153/303HostnameOS / ArchINSTALLBUILDCHECKBUILD BIN
IMAS 1.23.0  (landing page)
Seonggyun Han
git_last_commit: e981ab2
git_last_commit_date: 2022-11-01 11:15:33 -0500
nebbiolo1Linux (Ubuntu 22.04.1 LTS) / x86_64  OK    OK    OK  UNNEEDED, same version is already published
palomino3Windows Server 2022 Datacenter / x64  OK    OK    OK    OK  UNNEEDED, same version is already published
merida1macOS 10.14.6 Mojave / x86_64  OK    OK    OK    OK  UNNEEDED, same version is already published
Package 154/303HostnameOS / ArchINSTALLBUILDCHECKBUILD BIN
InPAS 2.7.0  (landing page)
Jianhong Ou
git_last_commit: e85a9a3
git_last_commit_date: 2022-11-01 11:11:19 -0500
nebbiolo1Linux (Ubuntu 22.04.1 LTS) / x86_64  OK    OK    OK  UNNEEDED, same version is already published
palomino3Windows Server 2022 Datacenter / x64  OK    OK    OK    OK  UNNEEDED, same version is already published
merida1macOS 10.14.6 Mojave / x86_64  OK    OK    OK    OK  UNNEEDED, same version is already published
Package 155/303HostnameOS / ArchINSTALLBUILDCHECKBUILD BIN
INSPEcT 1.29.0  (landing page)
Stefano de Pretis
git_last_commit: 5409025
git_last_commit_date: 2022-11-01 11:11:51 -0500
nebbiolo1Linux (Ubuntu 22.04.1 LTS) / x86_64  OK    OK    OK  UNNEEDED, same version is already published
palomino3Windows Server 2022 Datacenter / x64  OK    OK    OK    OK  UNNEEDED, same version is already published
merida1macOS 10.14.6 Mojave / x86_64  OK    OK    OK    OK  UNNEEDED, same version is already published
Package 156/303HostnameOS / ArchINSTALLBUILDCHECKBUILD BIN
InteractionSet 1.27.0  (landing page)
Aaron Lun
git_last_commit: 06a9ff0
git_last_commit_date: 2022-11-01 11:13:35 -0500
nebbiolo1Linux (Ubuntu 22.04.1 LTS) / x86_64  OK    OK    WARNINGS  UNNEEDED, same version is already published
palomino3Windows Server 2022 Datacenter / x64  OK    OK    WARNINGS    OK  UNNEEDED, same version is already published
merida1macOS 10.14.6 Mojave / x86_64  OK    OK    WARNINGS    OK  UNNEEDED, same version is already published
Package 157/303HostnameOS / ArchINSTALLBUILDCHECKBUILD BIN
IsoformSwitchAnalyzeR 1.21.0  (landing page)
Kristoffer Vitting-Seerup
git_last_commit: 76182b8
git_last_commit_date: 2022-11-01 11:15:48 -0500
nebbiolo1Linux (Ubuntu 22.04.1 LTS) / x86_64  OK    ERROR  skipped
palomino3Windows Server 2022 Datacenter / x64  OK    ERROR  skippedskipped
merida1macOS 10.14.6 Mojave / x86_64  OK    ERROR  skippedskipped
Package 158/303HostnameOS / ArchINSTALLBUILDCHECKBUILD BIN
IVAS 2.19.0  (landing page)
Seonggyun Han
git_last_commit: 48e6abc
git_last_commit_date: 2022-11-01 11:11:02 -0500
nebbiolo1Linux (Ubuntu 22.04.1 LTS) / x86_64  OK    OK    WARNINGS  UNNEEDED, same version is already published
palomino3Windows Server 2022 Datacenter / x64  OK    OK    WARNINGS    OK  UNNEEDED, same version is already published
merida1macOS 10.14.6 Mojave / x86_64  OK    OK    WARNINGS    OK  UNNEEDED, same version is already published
Package 159/303HostnameOS / ArchINSTALLBUILDCHECKBUILD BIN
karyoploteR 1.25.0  (landing page)
Bernat Gel
git_last_commit: 051aa8b
git_last_commit_date: 2022-11-01 11:15:07 -0500
nebbiolo1Linux (Ubuntu 22.04.1 LTS) / x86_64  OK    OK    OK  UNNEEDED, same version is already published
palomino3Windows Server 2022 Datacenter / x64  OK    OK    OK    OK  UNNEEDED, same version is already published
merida1macOS 10.14.6 Mojave / x86_64  OK    OK    OK    OK  UNNEEDED, same version is already published
Package 160/303HostnameOS / ArchINSTALLBUILDCHECKBUILD BIN
katdetectr 1.1.2  (landing page)
Daan Hazelaar
git_last_commit: 5203eb8
git_last_commit_date: 2022-12-05 12:02:32 -0500
nebbiolo1Linux (Ubuntu 22.04.1 LTS) / x86_64  OK    OK    OK  UNNEEDED, same version is already published
palomino3Windows Server 2022 Datacenter / x64  OK    OK    OK    OK  UNNEEDED, same version is already published
merida1macOS 10.14.6 Mojave / x86_64  OK    OK    OK    OK  UNNEEDED, same version is already published
Package 161/303HostnameOS / ArchINSTALLBUILDCHECKBUILD BIN
MADSEQ 1.25.0  (landing page)
Yu Kong
git_last_commit: 3fde695
git_last_commit_date: 2022-11-01 11:13:50 -0500
nebbiolo1Linux (Ubuntu 22.04.1 LTS) / x86_64  OK    OK    OK  UNNEEDED, same version is already published
palomino3Windows Server 2022 Datacenter / x64  OK    OK    OK    OK  UNNEEDED, same version is already published
merida1macOS 10.14.6 Mojave / x86_64  OK    OK    OK    OK  UNNEEDED, same version is already published
Package 162/303HostnameOS / ArchINSTALLBUILDCHECKBUILD BIN
maser 1.17.0  (landing page)
Diogo F.T. Veiga
git_last_commit: 2aacb1a
git_last_commit_date: 2022-11-01 11:17:54 -0500
nebbiolo1Linux (Ubuntu 22.04.1 LTS) / x86_64  OK    OK    OK  UNNEEDED, same version is already published
palomino3Windows Server 2022 Datacenter / x64  OK    OK    OK    OK  UNNEEDED, same version is already published
merida1macOS 10.14.6 Mojave / x86_64  OK    OK    OK    OK  UNNEEDED, same version is already published
Package 163/303HostnameOS / ArchINSTALLBUILDCHECKBUILD BIN
metagene 2.31.0  (landing page)
Charles Joly Beauparlant
git_last_commit: 7597c31
git_last_commit_date: 2022-11-01 11:10:04 -0500
nebbiolo1Linux (Ubuntu 22.04.1 LTS) / x86_64  OK    OK    ERROR  
palomino3Windows Server 2022 Datacenter / x64  OK    OK    WARNINGS    OK  UNNEEDED, same version is already published
merida1macOS 10.14.6 Mojave / x86_64  OK    OK    ERROR    OK  
Package 164/303HostnameOS / ArchINSTALLBUILDCHECKBUILD BIN
metagene2 1.15.0  (landing page)
Eric Fournier
git_last_commit: b4d3902
git_last_commit_date: 2022-11-01 11:19:52 -0500
nebbiolo1Linux (Ubuntu 22.04.1 LTS) / x86_64  OK    OK    ERROR  
palomino3Windows Server 2022 Datacenter / x64  OK    OK    ERROR    OK  
merida1macOS 10.14.6 Mojave / x86_64  OK    OK    ERROR    OK  
Package 165/303HostnameOS / ArchINSTALLBUILDCHECKBUILD BIN
metaseqR2 1.11.0  (landing page)
Panagiotis Moulos
git_last_commit: 36efa5b
git_last_commit_date: 2022-11-01 11:22:03 -0500
nebbiolo1Linux (Ubuntu 22.04.1 LTS) / x86_64  OK    OK    WARNINGS  NO, package depends on 'baySeq' which is not available
palomino3Windows Server 2022 Datacenter / x64  OK    OK    WARNINGS    OK  NO, package depends on 'baySeq' which is not available
merida1macOS 10.14.6 Mojave / x86_64  OK    OK    WARNINGS    OK  NO, package depends on 'baySeq' which is not available
Package 166/303HostnameOS / ArchINSTALLBUILDCHECKBUILD BIN
metavizr 1.23.0  (landing page)
Hector Corrada Bravo
git_last_commit: 335f07f
git_last_commit_date: 2022-11-01 11:15:37 -0500
nebbiolo1Linux (Ubuntu 22.04.1 LTS) / x86_64  OK    ERROR  skipped
palomino3Windows Server 2022 Datacenter / x64  OK    ERROR  skippedskipped
merida1macOS 10.14.6 Mojave / x86_64  OK    ERROR  skippedskipped
Package 167/303HostnameOS / ArchINSTALLBUILDCHECKBUILD BIN
MethCP 1.13.0  (landing page)
Boying Gong
git_last_commit: dfe560d
git_last_commit_date: 2022-11-01 11:20:49 -0500
nebbiolo1Linux (Ubuntu 22.04.1 LTS) / x86_64  OK    OK    ERROR  
palomino3Windows Server 2022 Datacenter / x64  OK    OK    ERROR    OK  
merida1macOS 10.14.6 Mojave / x86_64  OK    OK    ERROR    OK  
Package 168/303HostnameOS / ArchINSTALLBUILDCHECKBUILD BIN
methimpute 1.21.0  (landing page)
Aaron Taudt
git_last_commit: 5d8d695
git_last_commit_date: 2022-11-01 11:16:30 -0500
nebbiolo1Linux (Ubuntu 22.04.1 LTS) / x86_64  OK    OK    OK  UNNEEDED, same version is already published
palomino3Windows Server 2022 Datacenter / x64  OK    OK    OK    OK  UNNEEDED, same version is already published
merida1macOS 10.14.6 Mojave / x86_64  OK    OK    OK    OK  UNNEEDED, same version is already published
Package 169/303HostnameOS / ArchINSTALLBUILDCHECKBUILD BIN
methInheritSim 1.21.0  (landing page)
Pascal Belleau
git_last_commit: 0f2cecc
git_last_commit_date: 2022-11-01 11:15:46 -0500
nebbiolo1Linux (Ubuntu 22.04.1 LTS) / x86_64  OK    OK    OK  UNNEEDED, same version is already published
palomino3Windows Server 2022 Datacenter / x64  OK    OK    OK    OK  UNNEEDED, same version is already published
merida1macOS 10.14.6 Mojave / x86_64  OK    OK    OK    OK  UNNEEDED, same version is already published
Package 170/303HostnameOS / ArchINSTALLBUILDCHECKBUILD BIN
methylKit 1.25.0  (landing page)
Altuna Akalin , Alexander Gosdschan
git_last_commit: 9fdb2d6
git_last_commit_date: 2022-11-01 11:14:04 -0500
nebbiolo1Linux (Ubuntu 22.04.1 LTS) / x86_64  OK    OK    WARNINGS  UNNEEDED, same version is already published
palomino3Windows Server 2022 Datacenter / x64  OK    OK    WARNINGS    OK  UNNEEDED, same version is already published
merida1macOS 10.14.6 Mojave / x86_64  OK    OK    WARNINGS    OK  UNNEEDED, same version is already published
Package 171/303HostnameOS / ArchINSTALLBUILDCHECKBUILD BIN
methylPipe 1.33.0  (landing page)
Kamal Kishore
git_last_commit: 452179b
git_last_commit_date: 2022-11-01 11:10:12 -0500
nebbiolo1Linux (Ubuntu 22.04.1 LTS) / x86_64  OK    OK    WARNINGS  UNNEEDED, same version is already published
palomino3Windows Server 2022 Datacenter / x64  OK    OK    WARNINGS    OK  UNNEEDED, same version is already published
merida1macOS 10.14.6 Mojave / x86_64  OK    OK    WARNINGS    OK  UNNEEDED, same version is already published
Package 172/303HostnameOS / ArchINSTALLBUILDCHECKBUILD BIN
methylSig 1.11.0  (landing page)
Raymond G. Cavalcante
git_last_commit: 5d89bed
git_last_commit_date: 2022-11-01 11:21:55 -0500
nebbiolo1Linux (Ubuntu 22.04.1 LTS) / x86_64  OK    OK    OK  UNNEEDED, same version is already published
palomino3Windows Server 2022 Datacenter / x64  OK    OK    OK    OK  NO, package depends on 'bsseq' which is not available
merida1macOS 10.14.6 Mojave / x86_64  OK    OK    OK    OK  NO, package depends on 'bsseq' which is not available
Package 173/303HostnameOS / ArchINSTALLBUILDCHECKBUILD BIN
methylumi 2.45.0  (landing page)
Sean Davis
git_last_commit: bd20f4e
git_last_commit_date: 2022-11-01 11:04:28 -0500
nebbiolo1Linux (Ubuntu 22.04.1 LTS) / x86_64  OK    OK    OK  UNNEEDED, same version is already published
palomino3Windows Server 2022 Datacenter / x64  OK    OK    OK    OK  UNNEEDED, same version is already published
merida1macOS 10.14.6 Mojave / x86_64  OK    OK    OK    OK  UNNEEDED, same version is already published
Package 174/303HostnameOS / ArchINSTALLBUILDCHECKBUILD BIN
minfi 1.45.0  (landing page)
Kasper Daniel Hansen
git_last_commit: 748572d
git_last_commit_date: 2022-11-01 11:06:23 -0500
nebbiolo1Linux (Ubuntu 22.04.1 LTS) / x86_64  OK    OK    OK  UNNEEDED, same version is already published
palomino3Windows Server 2022 Datacenter / x64  OK    OK    OK    OK  UNNEEDED, same version is already published
merida1macOS 10.14.6 Mojave / x86_64  OK    OK    OK    OK  UNNEEDED, same version is already published
Package 175/303HostnameOS / ArchINSTALLBUILDCHECKBUILD BIN
MinimumDistance 1.43.0  (landing page)
Robert Scharpf
git_last_commit: d0215e7
git_last_commit_date: 2022-11-01 11:06:56 -0500
nebbiolo1Linux (Ubuntu 22.04.1 LTS) / x86_64  OK    OK    WARNINGS  UNNEEDED, same version is already published
palomino3Windows Server 2022 Datacenter / x64  OK    OK    WARNINGS    OK  UNNEEDED, same version is already published
merida1macOS 10.14.6 Mojave / x86_64  OK    OK    WARNINGS    OK  UNNEEDED, same version is already published
Package 176/303HostnameOS / ArchINSTALLBUILDCHECKBUILD BIN
MMAPPR2 1.13.0  (landing page)
Jonathon Hill
git_last_commit: 3719f84
git_last_commit_date: 2022-11-01 11:20:05 -0500
nebbiolo1Linux (Ubuntu 22.04.1 LTS) / x86_64  OK    OK    OK  UNNEEDED, same version is already published
palomino3Windows Server 2022 Datacenter / x64... NOT SUPPORTED ...
merida1macOS 10.14.6 Mojave / x86_64  OK    OK    OK    OK  UNNEEDED, same version is already published
Package 177/303HostnameOS / ArchINSTALLBUILDCHECKBUILD BIN
monaLisa 1.5.0  (landing page)
Michael Stadler
git_last_commit: e24b24c
git_last_commit_date: 2022-11-01 11:25:44 -0500
nebbiolo1Linux (Ubuntu 22.04.1 LTS) / x86_64  OK    OK    OK  UNNEEDED, same version is already published
palomino3Windows Server 2022 Datacenter / x64  OK    OK    OK    OK  UNNEEDED, same version is already published
merida1macOS 10.14.6 Mojave / x86_64  OK    OK    OK    OK  UNNEEDED, same version is already published
Package 178/303HostnameOS / ArchINSTALLBUILDCHECKBUILD BIN
mosaics 2.37.0  (landing page)
Dongjun Chung
git_last_commit: 04a778c
git_last_commit_date: 2022-11-01 11:05:34 -0500
nebbiolo1Linux (Ubuntu 22.04.1 LTS) / x86_64  OK    OK    OK  UNNEEDED, same version is already published
palomino3Windows Server 2022 Datacenter / x64  OK    OK    OK    OK  UNNEEDED, same version is already published
merida1macOS 10.14.6 Mojave / x86_64  OK    OK    OK    OK  UNNEEDED, same version is already published
Package 179/303HostnameOS / ArchINSTALLBUILDCHECKBUILD BIN
Motif2Site 1.3.0  (landing page)
Peyman Zarrineh
git_last_commit: b1ab8d3
git_last_commit_date: 2022-11-01 11:26:28 -0500
nebbiolo1Linux (Ubuntu 22.04.1 LTS) / x86_64  OK    OK    OK  UNNEEDED, same version is already published
palomino3Windows Server 2022 Datacenter / x64  OK    OK    OK    OK  UNNEEDED, same version is already published
merida1macOS 10.14.6 Mojave / x86_64  OK    OK    OK    OK  UNNEEDED, same version is already published
Package 180/303HostnameOS / ArchINSTALLBUILDCHECKBUILD BIN
motifbreakR 2.13.0  (landing page)
Simon Gert Coetzee
git_last_commit: 96f78d9
git_last_commit_date: 2022-11-01 11:12:10 -0500
nebbiolo1Linux (Ubuntu 22.04.1 LTS) / x86_64  OK    ERROR  skipped
palomino3Windows Server 2022 Datacenter / x64  OK    ERROR  skippedskipped
merida1macOS 10.14.6 Mojave / x86_64  OK    ERROR  skippedskipped
Package 181/303HostnameOS / ArchINSTALLBUILDCHECKBUILD BIN
motifmatchr 1.21.0  (landing page)
Alicia Schep
git_last_commit: d772875
git_last_commit_date: 2022-11-01 11:15:47 -0500
nebbiolo1Linux (Ubuntu 22.04.1 LTS) / x86_64  OK    OK    OK  UNNEEDED, same version is already published
palomino3Windows Server 2022 Datacenter / x64  OK    OK    OK    OK  UNNEEDED, same version is already published
merida1macOS 10.14.6 Mojave / x86_64  OK    OK    OK    OK  UNNEEDED, same version is already published
Package 182/303HostnameOS / ArchINSTALLBUILDCHECKBUILD BIN
MouseFM 1.9.0  (landing page)
Matthias Munz
git_last_commit: d0a7ac7
git_last_commit_date: 2022-11-01 11:26:10 -0500
nebbiolo1Linux (Ubuntu 22.04.1 LTS) / x86_64  OK    OK    OK  UNNEEDED, same version is already published
palomino3Windows Server 2022 Datacenter / x64  OK    OK    OK    OK  UNNEEDED, same version is already published
merida1macOS 10.14.6 Mojave / x86_64  OK    OK    OK    OK  UNNEEDED, same version is already published
Package 183/303HostnameOS / ArchINSTALLBUILDCHECKBUILD BIN
msgbsR 1.23.0  (landing page)
Benjamin Mayne
git_last_commit: 642ad30
git_last_commit_date: 2022-11-01 11:15:43 -0500
nebbiolo1Linux (Ubuntu 22.04.1 LTS) / x86_64  OK    OK    OK  UNNEEDED, same version is already published
palomino3Windows Server 2022 Datacenter / x64  OK    OK    OK    OK  UNNEEDED, same version is already published
merida1macOS 10.14.6 Mojave / x86_64  OK    OK    OK    OK  UNNEEDED, same version is already published
Package 184/303HostnameOS / ArchINSTALLBUILDCHECKBUILD BIN
multicrispr 1.9.0  (landing page)
Aditya Bhagwat
git_last_commit: d19c1d3
git_last_commit_date: 2022-11-01 11:22:14 -0500
nebbiolo1Linux (Ubuntu 22.04.1 LTS) / x86_64  OK    OK    OK  UNNEEDED, same version is already published
palomino3Windows Server 2022 Datacenter / x64  OK    OK    OK    OK  UNNEEDED, same version is already published
merida1macOS 10.14.6 Mojave / x86_64  OK    OK    OK    OK  NO, package depends on 'CRISPRseek' which is not available
Package 185/303HostnameOS / ArchINSTALLBUILDCHECKBUILD BIN
multiHiCcompare 1.17.0  (landing page)
John Stansfield , Mikhail Dozmorov
git_last_commit: 4c8f411
git_last_commit_date: 2022-11-01 11:18:16 -0500
nebbiolo1Linux (Ubuntu 22.04.1 LTS) / x86_64  OK    OK    OK  UNNEEDED, same version is already published
palomino3Windows Server 2022 Datacenter / x64  OK    OK    OK    OK  UNNEEDED, same version is already published
merida1macOS 10.14.6 Mojave / x86_64  OK    OK    OK    OK  UNNEEDED, same version is already published
Package 186/303HostnameOS / ArchINSTALLBUILDCHECKBUILD BIN
MungeSumstats 1.7.16  (landing page)
Alan Murphy
git_last_commit: cd43ad3
git_last_commit_date: 2023-01-21 11:27:14 -0500
nebbiolo1Linux (Ubuntu 22.04.1 LTS) / x86_64  OK    OK    ERROR  
palomino3Windows Server 2022 Datacenter / x64  OK    OK    OK    OK  UNNEEDED, same version is already published
merida1macOS 10.14.6 Mojave / x86_64  OK    OK    OK    OK  UNNEEDED, same version is already published
Package 187/303HostnameOS / ArchINSTALLBUILDCHECKBUILD BIN
musicatk 1.9.0  (landing page)
Aaron Chevalier
git_last_commit: 69829e2
git_last_commit_date: 2022-11-01 11:23:15 -0500
nebbiolo1Linux (Ubuntu 22.04.1 LTS) / x86_64  OK    OK    OK  NO, package depends on 'TCGAbiolinks' which is not available
palomino3Windows Server 2022 Datacenter / x64  OK    OK    OK    OK  UNNEEDED, same version is already published
merida1macOS 10.14.6 Mojave / x86_64  OK    OK    OK    OK  NO, package depends on 'TCGAbiolinks' which is not available
Package 188/303HostnameOS / ArchINSTALLBUILDCHECKBUILD BIN
MutationalPatterns 3.9.1  (landing page)
Mark van Roosmalen
git_last_commit: b8898d2
git_last_commit_date: 2023-01-11 01:57:43 -0500
nebbiolo1Linux (Ubuntu 22.04.1 LTS) / x86_64  OK    OK    OK  UNNEEDED, same version is already published
palomino3Windows Server 2022 Datacenter / x64  OK    OK    OK    OK  UNNEEDED, same version is already published
merida1macOS 10.14.6 Mojave / x86_64  OK    OK    OK    OK  UNNEEDED, same version is already published
Package 189/303HostnameOS / ArchINSTALLBUILDCHECKBUILD BIN
myvariant 1.29.0  (landing page)
Adam Mark, Chunlei Wu
git_last_commit: 15fafd6
git_last_commit_date: 2022-11-01 11:12:05 -0500
nebbiolo1Linux (Ubuntu 22.04.1 LTS) / x86_64  OK    OK    OK  UNNEEDED, same version is already published
palomino3Windows Server 2022 Datacenter / x64  OK    OK    OK    OK  UNNEEDED, same version is already published
merida1macOS 10.14.6 Mojave / x86_64  OK    OK    OK    OK  UNNEEDED, same version is already published
Package 190/303HostnameOS / ArchINSTALLBUILDCHECKBUILD BIN
NADfinder 1.23.0  (landing page)
Jianhong Ou
git_last_commit: 8b9a90e
git_last_commit_date: 2022-11-01 11:15:27 -0500
nebbiolo1Linux (Ubuntu 22.04.1 LTS) / x86_64  OK    OK    OK  UNNEEDED, same version is already published
palomino3Windows Server 2022 Datacenter / x64  OK    OK    OK    OK  UNNEEDED, same version is already published
merida1macOS 10.14.6 Mojave / x86_64  OK    OK    OK    OK  UNNEEDED, same version is already published
Package 191/303HostnameOS / ArchINSTALLBUILDCHECKBUILD BIN
nearBynding 1.9.0  (landing page)
Veronica Busa
git_last_commit: 363a190
git_last_commit_date: 2022-11-01 11:22:51 -0500
nebbiolo1Linux (Ubuntu 22.04.1 LTS) / x86_64  OK    OK    OK  UNNEEDED, same version is already published
palomino3Windows Server 2022 Datacenter / x64  OK    OK    OK    OK  UNNEEDED, same version is already published
merida1macOS 10.14.6 Mojave / x86_64  OK    OK    OK    OK  UNNEEDED, same version is already published
Package 192/303HostnameOS / ArchINSTALLBUILDCHECKBUILD BIN
netDx 1.11.0  (landing page)
Shraddha Pai
git_last_commit: 1f60d88
git_last_commit_date: 2022-11-01 11:21:16 -0500
nebbiolo1Linux (Ubuntu 22.04.1 LTS) / x86_64  OK    OK    TIMEOUT  
palomino3Windows Server 2022 Datacenter / x64... NOT SUPPORTED ...
merida1macOS 10.14.6 Mojave / x86_64  OK    ERROR  skippedskipped
Package 193/303HostnameOS / ArchINSTALLBUILDCHECKBUILD BIN
NoRCE 1.11.0  (landing page)
Gulden Olgun
git_last_commit: 0258bbc
git_last_commit_date: 2022-11-01 11:21:35 -0500
nebbiolo1Linux (Ubuntu 22.04.1 LTS) / x86_64  OK    OK    OK  UNNEEDED, same version is already published
palomino3Windows Server 2022 Datacenter / x64  OK    OK    OK    OK  UNNEEDED, same version is already published
merida1macOS 10.14.6 Mojave / x86_64  OK    OK    OK    OK  UNNEEDED, same version is already published
Package 194/303HostnameOS / ArchINSTALLBUILDCHECKBUILD BIN
normr 1.25.0  (landing page)
Johannes Helmuth
git_last_commit: 60c3267
git_last_commit_date: 2022-11-01 11:13:56 -0500
nebbiolo1Linux (Ubuntu 22.04.1 LTS) / x86_64  OK    OK    WARNINGS  UNNEEDED, same version is already published
palomino3Windows Server 2022 Datacenter / x64  OK    OK    WARNINGS    OK  UNNEEDED, same version is already published
merida1macOS 10.14.6 Mojave / x86_64  OK    OK    WARNINGS    OK  UNNEEDED, same version is already published
Package 195/303HostnameOS / ArchINSTALLBUILDCHECKBUILD BIN
nucleR 2.31.0  (landing page)
Alba Sala
git_last_commit: b03e676
git_last_commit_date: 2022-11-01 11:06:05 -0500
nebbiolo1Linux (Ubuntu 22.04.1 LTS) / x86_64  OK    OK    WARNINGS  UNNEEDED, same version is already published
palomino3Windows Server 2022 Datacenter / x64  OK    OK    WARNINGS    OK  UNNEEDED, same version is already published
merida1macOS 10.14.6 Mojave / x86_64  OK    OK    WARNINGS    OK  UNNEEDED, same version is already published
Package 196/303HostnameOS / ArchINSTALLBUILDCHECKBUILD BIN
nullranges 1.5.13  (landing page)
Michael Love
git_last_commit: 60cf615
git_last_commit_date: 2023-01-22 16:10:55 -0500
nebbiolo1Linux (Ubuntu 22.04.1 LTS) / x86_64  OK    ERROR  skipped
palomino3Windows Server 2022 Datacenter / x64  OK    ERROR  skippedskipped
merida1macOS 10.14.6 Mojave / x86_64  OK    ERROR  skippedskipped
Package 197/303HostnameOS / ArchINSTALLBUILDCHECKBUILD BIN
NxtIRFcore 1.5.0  (landing page)
Alex Chit Hei Wong
git_last_commit: 4bdae9a
git_last_commit_date: 2022-11-01 11:26:02 -0500
nebbiolo1Linux (Ubuntu 22.04.1 LTS) / x86_64  OK    OK    OK  UNNEEDED, same version is already published
palomino3Windows Server 2022 Datacenter / x64  OK    OK    OK    OK  UNNEEDED, same version is already published
merida1macOS 10.14.6 Mojave / x86_64  OK    OK    OK    OK  UNNEEDED, same version is already published
Package 198/303HostnameOS / ArchINSTALLBUILDCHECKBUILD BIN
ODER 1.5.0  (landing page)
David Zhang
git_last_commit: 0803904
git_last_commit_date: 2022-11-01 11:25:49 -0500
nebbiolo1Linux (Ubuntu 22.04.1 LTS) / x86_64  OK    ERROR  skipped
palomino3Windows Server 2022 Datacenter / x64  OK    ERROR  skippedskipped
merida1macOS 10.14.6 Mojave / x86_64  OK    ERROR  skippedskipped
Package 199/303HostnameOS / ArchINSTALLBUILDCHECKBUILD BIN
OGRE 1.3.0  (landing page)
Sven Berres
git_last_commit: dccd067
git_last_commit_date: 2022-11-01 11:26:19 -0500
nebbiolo1Linux (Ubuntu 22.04.1 LTS) / x86_64  OK    ERROR  skipped
palomino3Windows Server 2022 Datacenter / x64  OK    ERROR  skippedskipped
merida1macOS 10.14.6 Mojave / x86_64  OK    ERROR  skippedskipped
Package 200/303HostnameOS / ArchINSTALLBUILDCHECKBUILD BIN
OMICsPCA 1.17.0  (landing page)
Subhadeep Das
git_last_commit: b909099
git_last_commit_date: 2022-11-01 11:18:32 -0500
nebbiolo1Linux (Ubuntu 22.04.1 LTS) / x86_64  OK    OK    OK  UNNEEDED, same version is already published
palomino3Windows Server 2022 Datacenter / x64  OK    OK    OK    OK  UNNEEDED, same version is already published
merida1macOS 10.14.6 Mojave / x86_64  OK    OK    OK    OK  UNNEEDED, same version is already published
Package 201/303HostnameOS / ArchINSTALLBUILDCHECKBUILD BIN
ORFik 1.19.7  (landing page)
Haakon Tjeldnes
git_last_commit: d3ee070
git_last_commit_date: 2023-01-30 03:23:09 -0500
nebbiolo1Linux (Ubuntu 22.04.1 LTS) / x86_64  OK    OK    OK  YES
palomino3Windows Server 2022 Datacenter / x64  OK    OK    OK    OK  YES
merida1macOS 10.14.6 Mojave / x86_64  OK    OK    OK    OK  YES
Package 202/303HostnameOS / ArchINSTALLBUILDCHECKBUILD BIN
Organism.dplyr 1.27.0  (landing page)
Martin Morgan
git_last_commit: 85941bd
git_last_commit_date: 2022-11-01 11:15:16 -0500
nebbiolo1Linux (Ubuntu 22.04.1 LTS) / x86_64  OK    OK    OK  UNNEEDED, same version is already published
palomino3Windows Server 2022 Datacenter / x64  OK    OK    OK    OK  UNNEEDED, same version is already published
merida1macOS 10.14.6 Mojave / x86_64  OK    OK    OK    OK  UNNEEDED, same version is already published
Package 203/303HostnameOS / ArchINSTALLBUILDCHECKBUILD BIN
panelcn.mops 1.21.0  (landing page)
Gundula Povysil
git_last_commit: fdf0d20
git_last_commit_date: 2022-11-01 11:16:24 -0500
nebbiolo1Linux (Ubuntu 22.04.1 LTS) / x86_64  OK    OK    OK  UNNEEDED, same version is already published
palomino3Windows Server 2022 Datacenter / x64  OK    OK    OK    OK  UNNEEDED, same version is already published
merida1macOS 10.14.6 Mojave / x86_64  OK    OK    OK    OK  UNNEEDED, same version is already published
Package 204/303HostnameOS / ArchINSTALLBUILDCHECKBUILD BIN
periodicDNA 1.9.0  (landing page)
Jacques Serizay
git_last_commit: cab0084
git_last_commit_date: 2022-11-01 15:41:21 -0500
nebbiolo1Linux (Ubuntu 22.04.1 LTS) / x86_64  OK    OK    WARNINGS  UNNEEDED, same version is already published
palomino3Windows Server 2022 Datacenter / x64  OK    OK    WARNINGS    OK  UNNEEDED, same version is already published
merida1macOS 10.14.6 Mojave / x86_64  OK    OK    WARNINGS    OK  UNNEEDED, same version is already published
Package 205/303HostnameOS / ArchINSTALLBUILDCHECKBUILD BIN
Pi 2.11.0  (landing page)
Hai Fang
git_last_commit: 9bee510
git_last_commit_date: 2022-11-01 11:14:29 -0500
nebbiolo1Linux (Ubuntu 22.04.1 LTS) / x86_64  OK    OK    WARNINGS  UNNEEDED, same version is already published
palomino3Windows Server 2022 Datacenter / x64  OK    OK    WARNINGS    OK  UNNEEDED, same version is already published
merida1macOS 10.14.6 Mojave / x86_64  OK    OK    WARNINGS    OK  UNNEEDED, same version is already published
Package 206/303HostnameOS / ArchINSTALLBUILDCHECKBUILD BIN
pipeFrame 1.15.0  (landing page)
Zheng Wei
git_last_commit: 59770a6
git_last_commit_date: 2022-11-01 11:19:48 -0500
nebbiolo1Linux (Ubuntu 22.04.1 LTS) / x86_64  OK    OK    OK  UNNEEDED, same version is already published
palomino3Windows Server 2022 Datacenter / x64  OK    OK    OK    OK  UNNEEDED, same version is already published
merida1macOS 10.14.6 Mojave / x86_64  OK    OK    OK    OK  UNNEEDED, same version is already published
Package 207/303HostnameOS / ArchINSTALLBUILDCHECKBUILD BIN
plyranges 1.19.0  (landing page)
Stuart Lee
git_last_commit: 932ef74
git_last_commit_date: 2022-11-01 11:17:28 -0500
nebbiolo1Linux (Ubuntu 22.04.1 LTS) / x86_64  OK    OK    WARNINGS  UNNEEDED, same version is already published
palomino3Windows Server 2022 Datacenter / x64  OK    OK    WARNINGS    OK  UNNEEDED, same version is already published
merida1macOS 10.14.6 Mojave / x86_64  OK    OK    WARNINGS    OK  UNNEEDED, same version is already published
Package 208/303HostnameOS / ArchINSTALLBUILDCHECKBUILD BIN
podkat 1.31.1  (landing page)
Ulrich Bodenhofer
git_last_commit: e370b8f
git_last_commit_date: 2022-11-16 10:18:43 -0500
nebbiolo1Linux (Ubuntu 22.04.1 LTS) / x86_64  OK    OK    WARNINGS  UNNEEDED, same version is already published
palomino3Windows Server 2022 Datacenter / x64  OK    OK    OK    OK  UNNEEDED, same version is already published
merida1macOS 10.14.6 Mojave / x86_64  OK    OK    WARNINGS    OK  UNNEEDED, same version is already published
Package 209/303HostnameOS / ArchINSTALLBUILDCHECKBUILD BIN
pram 1.15.0  (landing page)
Peng Liu
git_last_commit: 00f64b5
git_last_commit_date: 2022-11-01 11:19:24 -0500
nebbiolo1Linux (Ubuntu 22.04.1 LTS) / x86_64  OK    OK    OK  UNNEEDED, same version is already published
palomino3Windows Server 2022 Datacenter / x64  OK    OK    OK    OK  UNNEEDED, same version is already published
merida1macOS 10.14.6 Mojave / x86_64  OK    OK    OK    OK  UNNEEDED, same version is already published
Package 210/303HostnameOS / ArchINSTALLBUILDCHECKBUILD BIN
prebs 1.39.0  (landing page)
Karolis Uziela
git_last_commit: 4e05358
git_last_commit_date: 2022-11-01 11:08:10 -0500
nebbiolo1Linux (Ubuntu 22.04.1 LTS) / x86_64  OK    OK    OK