Back to Multiple platform build/check report for BioC 3.17:   simplified   long
ABC[D]EFGHIJKLMNOPQRSTUVWXYZ

This page was generated on 2023-03-21 11:05:12 -0400 (Tue, 21 Mar 2023).

HostnameOSArch (*)R versionInstalled pkgs
nebbiolo1Linux (Ubuntu 22.04.1 LTS)x86_64R Under development (unstable) (2023-03-16 r83996) -- "Unsuffered Consequences" 4305
palomino3Windows Server 2022 Datacenterx64R Under development (unstable) (2023-03-15 r83984 ucrt) -- "Unsuffered Consequences" 4287
merida1macOS 10.14.6 Mojavex86_64R Under development (unstable) (2023-03-16 r83985) -- "Unsuffered Consequences" 4286
Click on any hostname to see more info about the system (e.g. compilers)      (*) as reported by 'uname -p', except on Windows and Mac OS X

BUILD results for DEsubs on nebbiolo1


To the developers/maintainers of the DEsubs package:
- Please allow up to 24 hours (and sometimes 48 hours) for your latest push to git@git.bioconductor.org:packages/DEsubs.git to
reflect on this report. See How and When does the builder pull? When will my changes propagate? for more information.
- Make sure to use the following settings in order to reproduce any error or warning you see on this page.

raw results

Package 532/2189HostnameOS / ArchINSTALLBUILDCHECKBUILD BIN
DEsubs 1.25.0  (landing page)
Aristidis G. Vrahatis , Panos Balomenos
Snapshot Date: 2023-03-20 14:00:22 -0400 (Mon, 20 Mar 2023)
git_url: https://git.bioconductor.org/packages/DEsubs
git_branch: master
git_last_commit: c66c7be
git_last_commit_date: 2022-11-01 11:14:32 -0400 (Tue, 01 Nov 2022)
nebbiolo1Linux (Ubuntu 22.04.1 LTS) / x86_64  OK    OK    WARNINGS  UNNEEDED, same version is already published
palomino3Windows Server 2022 Datacenter / x64  OK    OK    WARNINGS    OK  UNNEEDED, same version is already published
merida1macOS 10.14.6 Mojave / x86_64  OK    OK    WARNINGS    OK  UNNEEDED, same version is already published

Summary

Package: DEsubs
Version: 1.25.0
Command: /home/biocbuild/bbs-3.17-bioc/R/bin/R CMD build --keep-empty-dirs --no-resave-data DEsubs
StartedAt: 2023-03-20 16:26:52 -0400 (Mon, 20 Mar 2023)
EndedAt: 2023-03-20 16:27:55 -0400 (Mon, 20 Mar 2023)
EllapsedTime: 62.7 seconds
RetCode: 0
Status:   OK  
PackageFile: DEsubs_1.25.0.tar.gz
PackageFileSize: 3.971 MiB

Command output

##############################################################################
##############################################################################
###
### Running command:
###
###   /home/biocbuild/bbs-3.17-bioc/R/bin/R CMD build --keep-empty-dirs --no-resave-data DEsubs
###
##############################################################################
##############################################################################


* checking for file ‘DEsubs/DESCRIPTION’ ... OK
* preparing ‘DEsubs’:
* checking DESCRIPTION meta-information ... OK
* installing the package to build vignettes
* creating vignettes ... OK
* checking for LF line-endings in source and make files and shell scripts
* checking for empty or unneeded directories
* building ‘DEsubs_1.25.0.tar.gz’