Back to Multiple platform build/check report for BioC 3.17:   simplified   long
[A]BCDEFGHIJKLMNOPQRSTUVWXYZ

This page was generated on 2023-03-24 11:06:34 -0400 (Fri, 24 Mar 2023).

HostnameOSArch (*)R versionInstalled pkgs
nebbiolo1Linux (Ubuntu 22.04.1 LTS)x86_64R Under development (unstable) (2023-03-16 r83996) -- "Unsuffered Consequences" 4546
palomino3Windows Server 2022 Datacenterx64R Under development (unstable) (2023-03-15 r83984 ucrt) -- "Unsuffered Consequences" 4307
merida1macOS 10.14.6 Mojavex86_64R Under development (unstable) (2023-03-16 r83985) -- "Unsuffered Consequences" 4299
Click on any hostname to see more info about the system (e.g. compilers)      (*) as reported by 'uname -p', except on Windows and Mac OS X

CHECK results for alpine on merida1


To the developers/maintainers of the alpine package:
- Please allow up to 24 hours (and sometimes 48 hours) for your latest push to git@git.bioconductor.org:packages/alpine.git to
reflect on this report. See How and When does the builder pull? When will my changes propagate? for more information.
- Make sure to use the following settings in order to reproduce any error or warning you see on this page.

raw results

Package 53/2195HostnameOS / ArchINSTALLBUILDCHECKBUILD BIN
alpine 1.25.0  (landing page)
Michael Love
Snapshot Date: 2023-03-23 14:00:15 -0400 (Thu, 23 Mar 2023)
git_url: https://git.bioconductor.org/packages/alpine
git_branch: devel
git_last_commit: 609ae1e
git_last_commit_date: 2022-11-01 11:14:18 -0400 (Tue, 01 Nov 2022)
nebbiolo1Linux (Ubuntu 22.04.1 LTS) / x86_64  OK    OK    OK  UNNEEDED, same version is already published
palomino3Windows Server 2022 Datacenter / x64  OK    OK    OK    OK  UNNEEDED, same version is already published
merida1macOS 10.14.6 Mojave / x86_64  OK    OK    OK    OK  UNNEEDED, same version is already published

Summary

Package: alpine
Version: 1.25.0
Command: /Library/Frameworks/R.framework/Resources/bin/R CMD check --install=check:alpine.install-out.txt --library=/Library/Frameworks/R.framework/Resources/library --no-vignettes --timings alpine_1.25.0.tar.gz
StartedAt: 2023-03-23 22:18:35 -0400 (Thu, 23 Mar 2023)
EndedAt: 2023-03-23 22:31:58 -0400 (Thu, 23 Mar 2023)
EllapsedTime: 802.5 seconds
RetCode: 0
Status:   OK  
CheckDir: alpine.Rcheck
Warnings: 0

Command output

##############################################################################
##############################################################################
###
### Running command:
###
###   /Library/Frameworks/R.framework/Resources/bin/R CMD check --install=check:alpine.install-out.txt --library=/Library/Frameworks/R.framework/Resources/library --no-vignettes --timings alpine_1.25.0.tar.gz
###
##############################################################################
##############################################################################


* using log directory ‘/Users/biocbuild/bbs-3.17-bioc/meat/alpine.Rcheck’
* using R Under development (unstable) (2023-03-16 r83985)
* using platform: x86_64-apple-darwin17.0 (64-bit)
* R was compiled by
    Apple clang version 12.0.0 (clang-1200.0.32.29)
    GNU Fortran (GCC) 8.2.0
* running under: macOS Mojave 10.14.6
* using session charset: UTF-8
* using option ‘--no-vignettes’
* checking for file ‘alpine/DESCRIPTION’ ... OK
* this is package ‘alpine’ version ‘1.25.0’
* checking package namespace information ... OK
* checking package dependencies ... OK
* checking if this is a source package ... OK
* checking if there is a namespace ... OK
* checking for hidden files and directories ... OK
* checking for portable file names ... OK
* checking for sufficient/correct file permissions ... OK
* checking whether package ‘alpine’ can be installed ... OK
* checking installed package size ... OK
* checking package directory ... OK
* checking ‘build’ directory ... OK
* checking DESCRIPTION meta-information ... OK
* checking top-level files ... OK
* checking for left-over files ... OK
* checking index information ... OK
* checking package subdirectories ... OK
* checking R files for non-ASCII characters ... OK
* checking R files for syntax errors ... OK
* checking whether the package can be loaded ... OK
* checking whether the package can be loaded with stated dependencies ... OK
* checking whether the package can be unloaded cleanly ... OK
* checking whether the namespace can be loaded with stated dependencies ... OK
* checking whether the namespace can be unloaded cleanly ... OK
* checking dependencies in R code ... OK
* checking S3 generic/method consistency ... OK
* checking replacement functions ... OK
* checking foreign function calls ... OK
* checking R code for possible problems ... OK
* checking Rd files ... OK
* checking Rd metadata ... OK
* checking Rd cross-references ... OK
* checking for missing documentation entries ... OK
* checking for code/documentation mismatches ... OK
* checking Rd \usage sections ... OK
* checking Rd contents ... OK
* checking for unstated dependencies in examples ... OK
* checking contents of ‘data’ directory ... OK
* checking data for non-ASCII characters ... OK
* checking data for ASCII and uncompressed saves ... OK
* checking files in ‘vignettes’ ... OK
* checking examples ... OK
Examples with CPU (user + system) or elapsed time > 5s
                    user system elapsed
fitBiasModels     22.546  0.972  31.538
estimateAbundance 17.872  1.421  26.326
predictCoverage   10.093  0.501  14.719
getFragmentWidths  6.823  0.296   9.677
getReadLength      4.097  0.253   6.435
buildFragtypes     4.072  0.190   5.996
* checking for unstated dependencies in ‘tests’ ... OK
* checking tests ...
  Running ‘testthat.R’
 OK
* checking for unstated dependencies in vignettes ... OK
* checking package vignettes in ‘inst/doc’ ... OK
* checking running R code from vignettes ... SKIPPED
* checking re-building of vignette outputs ... SKIPPED
* checking PDF version of manual ... OK
* DONE

Status: OK


Installation output

alpine.Rcheck/00install.out

##############################################################################
##############################################################################
###
### Running command:
###
###   /Library/Frameworks/R.framework/Resources/bin/R CMD INSTALL alpine
###
##############################################################################
##############################################################################


* installing to library ‘/Library/Frameworks/R.framework/Versions/4.3/Resources/library’
* installing *source* package ‘alpine’ ...
** using staged installation
** R
** data
** inst
** byte-compile and prepare package for lazy loading
** help
*** installing help indices
** building package indices
** installing vignettes
** testing if installed package can be loaded from temporary location
** testing if installed package can be loaded from final location
** testing if installed package keeps a record of temporary installation path
* DONE (alpine)

Tests output

alpine.Rcheck/tests/testthat.Rout


R Under development (unstable) (2023-03-16 r83985) -- "Unsuffered Consequences"
Copyright (C) 2023 The R Foundation for Statistical Computing
Platform: x86_64-apple-darwin17.0 (64-bit)

R is free software and comes with ABSOLUTELY NO WARRANTY.
You are welcome to redistribute it under certain conditions.
Type 'license()' or 'licence()' for distribution details.

R is a collaborative project with many contributors.
Type 'contributors()' for more information and
'citation()' on how to cite R or R packages in publications.

Type 'demo()' for some demos, 'help()' for on-line help, or
'help.start()' for an HTML browser interface to help.
Type 'q()' to quit R.

> library(testthat)
> library(alpine)
> test_check("alpine")
[ FAIL 0 | WARN 4 | SKIP 0 | PASS 1 ]

[ FAIL 0 | WARN 4 | SKIP 0 | PASS 1 ]
> 
> proc.time()
   user  system elapsed 
 88.413   3.987 121.314 

Example timings

alpine.Rcheck/alpine-Ex.timings

nameusersystemelapsed
buildFragtypes4.0720.1905.996
estimateAbundance17.872 1.42126.326
extractAlpine0.0370.0020.049
fitBiasModels22.546 0.97231.538
getFragmentWidths6.8230.2969.677
getReadLength4.0970.2536.435
mergeGenes0.4400.0090.634
normalizeDESeq0.0030.0000.003
plotFragLen0.0360.0040.060
plotGC0.0680.0050.107
plotGRL0.3160.0100.447
plotOrder00.0950.0070.146
plotRelPos0.0410.0040.060
predictCoverage10.093 0.50114.719
splitGenesAcrossChroms0.5960.0110.829
splitLongGenes0.8090.0121.062