Back to Multiple platform build/check report for BioC 3.17:   simplified   long
ABCDEFGH[I]JKLMNOPQRSTUVWXYZ

This page was generated on 2023-03-29 11:06:18 -0400 (Wed, 29 Mar 2023).

HostnameOSArch (*)R versionInstalled pkgs
nebbiolo1Linux (Ubuntu 22.04.1 LTS)x86_64R Under development (unstable) (2023-03-16 r83996) -- "Unsuffered Consequences" 4547
palomino3Windows Server 2022 Datacenterx64R Under development (unstable) (2023-03-15 r83984 ucrt) -- "Unsuffered Consequences" 4308
merida1macOS 10.14.6 Mojavex86_64R Under development (unstable) (2023-03-16 r83985) -- "Unsuffered Consequences" 4301
Click on any hostname to see more info about the system (e.g. compilers)      (*) as reported by 'uname -p', except on Windows and Mac OS X

BUILD results for IdeoViz on merida1


To the developers/maintainers of the IdeoViz package:
- Please allow up to 24 hours (and sometimes 48 hours) for your latest push to git@git.bioconductor.org:packages/IdeoViz.git to
reflect on this report. See How and When does the builder pull? When will my changes propagate? for more information.
- Make sure to use the following settings in order to reproduce any error or warning you see on this page.

raw results

Package 960/2195HostnameOS / ArchINSTALLBUILDCHECKBUILD BIN
IdeoViz 1.35.0  (landing page)
Shraddha Pai
Snapshot Date: 2023-03-28 14:00:22 -0400 (Tue, 28 Mar 2023)
git_url: https://git.bioconductor.org/packages/IdeoViz
git_branch: devel
git_last_commit: a358946
git_last_commit_date: 2022-11-01 11:10:27 -0400 (Tue, 01 Nov 2022)
nebbiolo1Linux (Ubuntu 22.04.1 LTS) / x86_64  OK    OK    WARNINGS  UNNEEDED, same version is already published
palomino3Windows Server 2022 Datacenter / x64  OK    OK    WARNINGS    OK  UNNEEDED, same version is already published
merida1macOS 10.14.6 Mojave / x86_64  OK    OK    WARNINGS    OK  UNNEEDED, same version is already published

Summary

Package: IdeoViz
Version: 1.35.0
Command: /Library/Frameworks/R.framework/Resources/bin/R CMD build --keep-empty-dirs --no-resave-data IdeoViz
StartedAt: 2023-03-28 18:22:01 -0400 (Tue, 28 Mar 2023)
EndedAt: 2023-03-28 18:23:59 -0400 (Tue, 28 Mar 2023)
EllapsedTime: 118.3 seconds
RetCode: 0
Status:   OK  
PackageFile: IdeoViz_1.35.0.tar.gz
PackageFileSize: 1021 KiB

Command output

##############################################################################
##############################################################################
###
### Running command:
###
###   /Library/Frameworks/R.framework/Resources/bin/R CMD build --keep-empty-dirs --no-resave-data IdeoViz
###
##############################################################################
##############################################################################


* checking for file ‘IdeoViz/DESCRIPTION’ ... OK
* preparing ‘IdeoViz’:
* checking DESCRIPTION meta-information ... OK
* installing the package to build vignettes
* creating vignettes ... OK
* checking for LF line-endings in source and make files and shell scripts
* checking for empty or unneeded directories
* looking to see if a ‘data/datalist’ file should be added
  NB: this package now depends on R (>= 3.5.0)
  WARNING: Added dependency on R >= 3.5.0 because serialized objects in
  serialize/load version 3 cannot be read in older versions of R.
  File(s) containing such objects:
    ‘IdeoViz/data/binned_fullGenome.rda’
    ‘IdeoViz/data/binned_multiSeries.rda’
    ‘IdeoViz/data/binned_singleSeries.rda’ ‘IdeoViz/data/examples.rda’
    ‘IdeoViz/data/wins.rda’ ‘IdeoViz/data/wins_discrete.rda’
    ‘IdeoViz/data/wins_entiregenome.rda’
* building ‘IdeoViz_1.35.0.tar.gz’