Back to Multiple platform build/check report for BioC 3.17: simplified long |
|
This page was generated on 2023-06-08 11:05:25 -0400 (Thu, 08 Jun 2023).
Hostname | OS | Arch (*) | R version | Installed pkgs |
---|---|---|---|---|
nebbiolo1 | Linux (Ubuntu 22.04.2 LTS) | x86_64 | 4.3.0 RC (2023-04-13 r84269) -- "Already Tomorrow" | 4628 |
palomino3 | Windows Server 2022 Datacenter | x64 | 4.3.0 RC (2023-04-13 r84269 ucrt) -- "Already Tomorrow" | 4379 |
merida1 | macOS 12.6.4 Monterey | x86_64 | 4.3.0 RC (2023-04-13 r84257) -- "Already Tomorrow" | 4385 |
Click on any hostname to see more info about the system (e.g. compilers) (*) as reported by 'uname -p', except on Windows and Mac OS X |
To the developers/maintainers of the gep2pep package: - Allow up to 24 hours (and sometimes 48 hours) for your latest push to git@git.bioconductor.org:packages/gep2pep.git to reflect on this report. See Troubleshooting Build Report for more information. - Use the following Renviron settings to reproduce errors and warnings. - If 'R CMD check' started to fail recently on the Linux builder(s) over a missing dependency, add the missing dependency to 'Suggests:' in your DESCRIPTION file. See Renviron.bioc for more information. |
Package 826/2229 | Hostname | OS / Arch | INSTALL | BUILD | CHECK | BUILD BIN | ||||||||
gep2pep 1.20.0 (landing page) Francesco Napolitano
| nebbiolo1 | Linux (Ubuntu 22.04.2 LTS) / x86_64 | OK | OK | OK | ![]() | ||||||||
palomino3 | Windows Server 2022 Datacenter / x64 | OK | OK | OK | OK | ![]() | ||||||||
merida1 | macOS 12.6.4 Monterey / x86_64 | OK | OK | OK | OK | ![]() | ||||||||
Package: gep2pep |
Version: 1.20.0 |
Command: /home/biocbuild/bbs-3.17-bioc/R/bin/R CMD check --install=check:gep2pep.install-out.txt --library=/home/biocbuild/bbs-3.17-bioc/R/site-library --timings gep2pep_1.20.0.tar.gz |
StartedAt: 2023-06-07 21:31:19 -0400 (Wed, 07 Jun 2023) |
EndedAt: 2023-06-07 21:33:42 -0400 (Wed, 07 Jun 2023) |
EllapsedTime: 143.0 seconds |
RetCode: 0 |
Status: OK |
CheckDir: gep2pep.Rcheck |
Warnings: 0 |
############################################################################## ############################################################################## ### ### Running command: ### ### /home/biocbuild/bbs-3.17-bioc/R/bin/R CMD check --install=check:gep2pep.install-out.txt --library=/home/biocbuild/bbs-3.17-bioc/R/site-library --timings gep2pep_1.20.0.tar.gz ### ############################################################################## ############################################################################## * using log directory ‘/home/biocbuild/bbs-3.17-bioc/meat/gep2pep.Rcheck’ * using R version 4.3.0 RC (2023-04-13 r84269) * using platform: x86_64-pc-linux-gnu (64-bit) * R was compiled by gcc (Ubuntu 11.3.0-1ubuntu1~22.04) 11.3.0 GNU Fortran (Ubuntu 11.3.0-1ubuntu1~22.04) 11.3.0 * running under: Ubuntu 22.04.2 LTS * using session charset: UTF-8 * checking for file ‘gep2pep/DESCRIPTION’ ... OK * checking extension type ... Package * this is package ‘gep2pep’ version ‘1.20.0’ * package encoding: UTF-8 * checking package namespace information ... OK * checking package dependencies ... OK * checking if this is a source package ... OK * checking if there is a namespace ... OK * checking for hidden files and directories ... OK * checking for portable file names ... OK * checking for sufficient/correct file permissions ... OK * checking whether package ‘gep2pep’ can be installed ... OK * checking installed package size ... OK * checking package directory ... OK * checking ‘build’ directory ... OK * checking DESCRIPTION meta-information ... OK * checking top-level files ... OK * checking for left-over files ... OK * checking index information ... OK * checking package subdirectories ... OK * checking R files for non-ASCII characters ... OK * checking R files for syntax errors ... OK * checking whether the package can be loaded ... OK * checking whether the package can be loaded with stated dependencies ... OK * checking whether the package can be unloaded cleanly ... OK * checking whether the namespace can be loaded with stated dependencies ... OK * checking whether the namespace can be unloaded cleanly ... OK * checking loading without being on the library search path ... OK * checking dependencies in R code ... OK * checking S3 generic/method consistency ... OK * checking replacement functions ... OK * checking foreign function calls ... OK * checking R code for possible problems ... OK * checking Rd files ... OK * checking Rd metadata ... OK * checking Rd cross-references ... OK * checking for missing documentation entries ... OK * checking for code/documentation mismatches ... OK * checking Rd \usage sections ... OK * checking Rd contents ... OK * checking for unstated dependencies in examples ... OK * checking files in ‘vignettes’ ... OK * checking examples ... OK * checking for unstated dependencies in ‘tests’ ... OK * checking tests ... Running ‘testthat.R’ OK * checking for unstated dependencies in vignettes ... OK * checking package vignettes in ‘inst/doc’ ... OK * checking running R code from vignettes ... ‘vignette.Rmd’ using ‘UTF-8’... OK NONE * checking re-building of vignette outputs ... OK * checking PDF version of manual ... OK * DONE Status: OK
gep2pep.Rcheck/00install.out
############################################################################## ############################################################################## ### ### Running command: ### ### /home/biocbuild/bbs-3.17-bioc/R/bin/R CMD INSTALL gep2pep ### ############################################################################## ############################################################################## * installing to library ‘/home/biocbuild/bbs-3.17-bioc/R/site-library’ * installing *source* package ‘gep2pep’ ... ** using staged installation ** R ** inst ** byte-compile and prepare package for lazy loading ** help *** installing help indices ** building package indices ** installing vignettes ** testing if installed package can be loaded from temporary location ** testing if installed package can be loaded from final location ** testing if installed package keeps a record of temporary installation path * DONE (gep2pep)
gep2pep.Rcheck/tests/testthat.Rout
R version 4.3.0 RC (2023-04-13 r84269) -- "Already Tomorrow" Copyright (C) 2023 The R Foundation for Statistical Computing Platform: x86_64-pc-linux-gnu (64-bit) R is free software and comes with ABSOLUTELY NO WARRANTY. You are welcome to redistribute it under certain conditions. Type 'license()' or 'licence()' for distribution details. R is a collaborative project with many contributors. Type 'contributors()' for more information and 'citation()' on how to cite R or R packages in publications. Type 'demo()' for some demos, 'help()' for on-line help, or 'help.start()' for an HTML browser interface to help. Type 'q()' to quit R. > library(testthat) > library(gep2pep) > > test_check("gep2pep") Chunk 1 of 2, 520 bytes (current file size: 4.3 Kb) Chunk 2 of 2, 665 bytes (current file size: 16.3 Kb) Chunk 1 of 2, 540 bytes (current file size: 4.3 Kb) Chunk 2 of 2, 691 bytes (current file size: 16.3 Kb) Chunk 1 of 2, 549 bytes (current file size: 4.3 Kb) Chunk 2 of 2, 685 bytes (current file size: 16.3 Kb) [ FAIL 0 | WARN 2272 | SKIP 1 | PASS 154 ] ══ Skipped tests ═══════════════════════════════════════════════════════════════ • empty test (1) [ FAIL 0 | WARN 2272 | SKIP 1 | PASS 154 ] > > proc.time() user system elapsed 24.523 1.211 25.746
gep2pep.Rcheck/gep2pep-Ex.timings
name | user | system | elapsed | |
CategorizedCollection | 0.086 | 0.000 | 0.085 | |
CondSEA | 1.036 | 0.044 | 1.081 | |
PathSEA | 0.545 | 0.044 | 0.589 | |
addSingleGeneSets | 0.465 | 0.048 | 0.513 | |
as.CategorizedCollection | 0.265 | 0.044 | 0.309 | |
buildPEPs | 0.491 | 0.060 | 0.552 | |
checkRepository | 0.172 | 0.008 | 0.180 | |
clearCache | 0.589 | 0.059 | 0.649 | |
createMergedRepository | 0.547 | 0.063 | 0.611 | |
createRepository | 0.138 | 0.008 | 0.147 | |
exportSEA | 0.517 | 0.040 | 0.558 | |
gene2pathways | 0.168 | 0.016 | 0.184 | |
getCollections | 0.148 | 0.020 | 0.167 | |
getDetails | 0.542 | 0.072 | 0.614 | |
getResults | 0.580 | 0.053 | 0.634 | |
importFromRawMode | 0.704 | 0.054 | 0.758 | |
importMSigDB.xml | 0.168 | 0.016 | 0.184 | |
loadCollection | 0.177 | 0.018 | 0.195 | |
loadESmatrix | 0.544 | 0.036 | 0.637 | |
loadPVmatrix | 1.047 | 0.107 | 1.155 | |
loadSampleGEP | 0.002 | 0.000 | 0.001 | |
loadSamplePWS | 0.001 | 0.000 | 0.001 | |
makeCollectionIDs | 0.039 | 0.000 | 0.039 | |
openRepository | 0.168 | 0.012 | 0.179 | |
setId2setName | 0.039 | 0.000 | 0.038 | |