Back to Multiple platform build/check report for BioC 3.17: simplified long |
|
This page was generated on 2023-10-03 11:36:37 -0400 (Tue, 03 Oct 2023).
Hostname | OS | Arch (*) | R version | Installed pkgs |
---|---|---|---|---|
nebbiolo1 | Linux (Ubuntu 22.04.2 LTS) | x86_64 | 4.3.1 (2023-06-16) -- "Beagle Scouts" | 4626 |
palomino3 | Windows Server 2022 Datacenter | x64 | 4.3.1 (2023-06-16 ucrt) -- "Beagle Scouts" | 4379 |
merida1 | macOS 12.6.4 Monterey | x86_64 | 4.3.1 (2023-06-16) -- "Beagle Scouts" | 4395 |
Click on any hostname to see more info about the system (e.g. compilers) (*) as reported by 'uname -p', except on Windows and Mac OS X |
Package 1297/2230 | Hostname | OS / Arch | INSTALL | BUILD | CHECK | BUILD BIN | ||||||||
MsBackendRawFileReader 1.6.0 (landing page) Christian Panse
| nebbiolo1 | Linux (Ubuntu 22.04.2 LTS) / x86_64 | OK | OK | OK | ![]() | ||||||||
palomino3 | Windows Server 2022 Datacenter / x64 | OK | OK | OK | OK | ![]() | ||||||||
merida1 | macOS 12.6.4 Monterey / x86_64 | OK | OK | OK | OK | ![]() | ||||||||
To the developers/maintainers of the MsBackendRawFileReader package: - Allow up to 24 hours (and sometimes 48 hours) for your latest push to git@git.bioconductor.org:packages/MsBackendRawFileReader.git to reflect on this report. See Troubleshooting Build Report for more information. - Use the following Renviron settings to reproduce errors and warnings. - If 'R CMD check' started to fail recently on the Linux builder(s) over a missing dependency, add the missing dependency to 'Suggests:' in your DESCRIPTION file. See Renviron.bioc for more information. |
Package: MsBackendRawFileReader |
Version: 1.6.0 |
Command: F:\biocbuild\bbs-3.17-bioc\R\bin\R.exe CMD check --no-multiarch --install=check:MsBackendRawFileReader.install-out.txt --library=F:\biocbuild\bbs-3.17-bioc\R\library --no-vignettes --timings MsBackendRawFileReader_1.6.0.tar.gz |
StartedAt: 2023-10-03 04:32:37 -0400 (Tue, 03 Oct 2023) |
EndedAt: 2023-10-03 04:37:22 -0400 (Tue, 03 Oct 2023) |
EllapsedTime: 284.5 seconds |
RetCode: 0 |
Status: OK |
CheckDir: MsBackendRawFileReader.Rcheck |
Warnings: 0 |
############################################################################## ############################################################################## ### ### Running command: ### ### F:\biocbuild\bbs-3.17-bioc\R\bin\R.exe CMD check --no-multiarch --install=check:MsBackendRawFileReader.install-out.txt --library=F:\biocbuild\bbs-3.17-bioc\R\library --no-vignettes --timings MsBackendRawFileReader_1.6.0.tar.gz ### ############################################################################## ############################################################################## * using log directory 'F:/biocbuild/bbs-3.17-bioc/meat/MsBackendRawFileReader.Rcheck' * using R version 4.3.1 (2023-06-16 ucrt) * using platform: x86_64-w64-mingw32 (64-bit) * R was compiled by gcc.exe (GCC) 12.2.0 GNU Fortran (GCC) 12.2.0 * running under: Windows Server 2022 x64 (build 20348) * using session charset: UTF-8 * using option '--no-vignettes' * checking for file 'MsBackendRawFileReader/DESCRIPTION' ... OK * checking extension type ... Package * this is package 'MsBackendRawFileReader' version '1.6.0' * package encoding: UTF-8 * checking package namespace information ... OK * checking package dependencies ... OK * checking if this is a source package ... OK * checking if there is a namespace ... OK * checking for hidden files and directories ... OK * checking for portable file names ... OK * checking whether package 'MsBackendRawFileReader' can be installed ... OK * checking installed package size ... OK * checking package directory ... OK * checking 'build' directory ... OK * checking DESCRIPTION meta-information ... OK * checking top-level files ... OK * checking for left-over files ... OK * checking index information ... OK * checking package subdirectories ... OK * checking R files for non-ASCII characters ... OK * checking R files for syntax errors ... OK * checking whether the package can be loaded ... OK * checking whether the package can be loaded with stated dependencies ... OK * checking whether the package can be unloaded cleanly ... OK * checking whether the namespace can be loaded with stated dependencies ... OK * checking whether the namespace can be unloaded cleanly ... OK * checking startup messages can be suppressed ... OK * checking dependencies in R code ... OK * checking S3 generic/method consistency ... OK * checking replacement functions ... OK * checking foreign function calls ... OK * checking R code for possible problems ... OK * checking Rd files ... OK * checking Rd metadata ... OK * checking Rd cross-references ... OK * checking for missing documentation entries ... OK * checking for code/documentation mismatches ... OK * checking Rd \usage sections ... OK * checking Rd contents ... OK * checking for unstated dependencies in examples ... OK * checking files in 'vignettes' ... OK * checking examples ... OK Examples with CPU (user + system) or elapsed time > 5s user system elapsed ioBenchmark 8.14 2.36 52.20 MsBackendRawFileReader-class 0.83 0.01 10.70 MsBackendRawFileReader 0.80 0.02 23.80 hidden_aliases 0.29 0.00 9.85 * checking for unstated dependencies in 'tests' ... OK * checking tests ... Running 'testthat.R' OK * checking for unstated dependencies in vignettes ... OK * checking package vignettes in 'inst/doc' ... OK * checking running R code from vignettes ... SKIPPED * checking re-building of vignette outputs ... SKIPPED * checking PDF version of manual ... OK * DONE Status: OK
MsBackendRawFileReader.Rcheck/00install.out
############################################################################## ############################################################################## ### ### Running command: ### ### F:\biocbuild\bbs-3.17-bioc\R\bin\R.exe CMD INSTALL MsBackendRawFileReader ### ############################################################################## ############################################################################## * installing to library 'F:/biocbuild/bbs-3.17-bioc/R/library' * installing *source* package 'MsBackendRawFileReader' ... ** using staged installation ** R ** inst ** byte-compile and prepare package for lazy loading ** help *** installing help indices ** building package indices ** installing vignettes ** testing if installed package can be loaded from temporary location ** testing if installed package can be loaded from final location ** testing if installed package keeps a record of temporary installation path * DONE (MsBackendRawFileReader)
MsBackendRawFileReader.Rcheck/tests/testthat.Rout
R version 4.3.1 (2023-06-16 ucrt) -- "Beagle Scouts" Copyright (C) 2023 The R Foundation for Statistical Computing Platform: x86_64-w64-mingw32/x64 (64-bit) R is free software and comes with ABSOLUTELY NO WARRANTY. You are welcome to redistribute it under certain conditions. Type 'license()' or 'licence()' for distribution details. R is a collaborative project with many contributors. Type 'contributors()' for more information and 'citation()' on how to cite R or R packages in publications. Type 'demo()' for some demos, 'help()' for on-line help, or 'help.start()' for an HTML browser interface to help. Type 'q()' to quit R. > library("testthat") > library("MsBackendRawFileReader") Loading required package: Spectra Loading required package: S4Vectors Loading required package: stats4 Loading required package: BiocGenerics Attaching package: 'BiocGenerics' The following objects are masked from 'package:stats': IQR, mad, sd, var, xtabs The following objects are masked from 'package:base': Filter, Find, Map, Position, Reduce, anyDuplicated, aperm, append, as.data.frame, basename, cbind, colnames, dirname, do.call, duplicated, eval, evalq, get, grep, grepl, intersect, is.unsorted, lapply, mapply, match, mget, order, paste, pmax, pmax.int, pmin, pmin.int, rank, rbind, rownames, sapply, setdiff, sort, table, tapply, union, unique, unsplit, which.max, which.min Attaching package: 'S4Vectors' The following object is masked from 'package:utils': findMatches The following objects are masked from 'package:base': I, expand.grid, unname Loading required package: BiocParallel Loading required package: ProtGenerics Attaching package: 'ProtGenerics' The following object is masked from 'package:stats': smooth > library("Spectra") > > > sample_raw_file <- file.path(system.file(package = "rawrr"), + 'extdata', 'sample.raw') > > sample_mzXML_file <- file.path(path.package(package = 'MsBackendRawFileReader'), + 'extdata', 'sample.mzXML') > > > sample_raw <- backendInitialize(MsBackendRawFileReader::MsBackendRawFileReader(), files = sample_raw_file) > > > #sample_mzr <- backendInitialize(MsBackendMzR(), files = sample_mzXML_file) > > > mgf_file <- file.path(system.file(package = "MsBackendRawFileReader"), + 'extdata', '3159619b11ed_4590_9594.mgf') > > > rv <- lapply(1:2, function(x){ + file.copy(from = sample_raw_file, to = tempfile(fileext='.raw'))}) > > > register(SnowParam(workers = 1, type = "SOCK") , default = TRUE); > sample_raw_2 <- backendInitialize(MsBackendRawFileReader(), + files = file.path(tempdir(), + list.files(path = tempdir(), pattern = 'raw$'))) > > > test_check("MsBackendRawFileReader") [ FAIL 0 | WARN 1 | SKIP 2 | PASS 20 ] ══ Skipped tests (2) ═══════════════════════════════════════════════════════════ • isFALSE(file.exists(sample_mzXML_file)) is TRUE (1): 'test_MsBackendMzR_MsBackendRawFileReader.R:1:1' • isFALSE(require(MsBackendRawMgf)) is TRUE (1): 'test_top_n_mgf.R:1:1' [ FAIL 0 | WARN 1 | SKIP 2 | PASS 20 ] > > > be <- Spectra::backendInitialize(MsBackendRawFileReader::MsBackendRawFileReader(), + files = c(sample_raw_file)) > > ## Run the MsBackend spectra variable test suite > test_suite <- system.file("test_backends", "test_MsBackend", + package = "Spectra") > > #res <- test_file(paste0(test_suite, "/test_spectra_variables.R"), > # reporter = check_reporter(), stop_on_failure = TRUE) > > > ## Run the whole suite. > res <- test_dir(test_suite, stop_on_failure = TRUE) ✔ | F W S OK | Context ⠏ | 0 | spectra_subsetting ⠋ | 1 | spectra_subsetting ⠹ | 13 | spectra_subsetting ⠼ | 25 | spectra_subsetting ⠧ | 38 | spectra_subsetting ⠏ | 50 | spectra_subsetting ⠸ | 64 | spectra_subsetting ⠇ | 79 | spectra_subsetting ⠴ | 96 | spectra_subsetting ⠇ | 109 | spectra_subsetting ⠸ | 124 | spectra_subsetting ⠙ | 142 | spectra_subsetting ⠋ | 151 | spectra_subsetting ⠹ | 163 | spectra_subsetting ⠧ | 178 | spectra_subsetting ⠹ | 193 | spectra_subsetting ⠧ | 208 | spectra_subsetting ⠹ | 223 | spectra_subsetting ⠧ | 238 | spectra_subsetting ⠏ | 250 | spectra_subsetting ⠴ | 266 | spectra_subsetting ⠙ | 282 | spectra_subsetting ⠙ | 292 | spectra_subsetting ⠼ | 305 | spectra_subsetting ⠏ | 320 | spectra_subsetting ⠸ | 334 | spectra_subsetting ⠦ | 347 | spectra_subsetting ⠸ | 364 | spectra_subsetting ⠹ | 373 | spectra_subsetting ⠧ | 388 | spectra_subsetting ⠹ | 403 | spectra_subsetting ⠹ | 413 | spectra_subsetting ⠸ | 424 | spectra_subsetting ⠴ | 436 | spectra_subsetting ⠋ | 451 | spectra_subsetting ⠇ | 469 | spectra_subsetting ⠋ | 481 | spectra_subsetting ⠴ | 496 | spectra_subsetting ⠸ | 514 | spectra_subsetting ⠦ | 527 | spectra_subsetting ⠇ | 539 | spectra_subsetting ⠹ | 553 | spectra_subsetting ⠼ | 565 | spectra_subsetting ⠦ | 577 | spectra_subsetting ⠙ | 592 | spectra_subsetting ⠦ | 607 | spectra_subsetting ⠙ | 622 | spectra_subsetting ⠸ | 634 | spectra_subsetting ⠇ | 649 | spectra_subsetting ⠦ | 667 | spectra_subsetting ⠇ | 679 | spectra_subsetting ⠸ | 694 | spectra_subsetting ⠏ | 710 | spectra_subsetting ⠼ | 725 | spectra_subsetting ⠦ | 737 | spectra_subsetting ⠹ | 753 | spectra_subsetting ⠇ | 769 | spectra_subsetting ⠋ | 781 | spectra_subsetting ⠦ | 797 | spectra_subsetting ⠋ | 811 | spectra_subsetting ⠴ | 826 | spectra_subsetting ⠋ | 841 | spectra_subsetting ⠹ | 853 | spectra_subsetting ⠧ | 868 | spectra_subsetting ⠏ | 880 | spectra_subsetting ⠼ | 895 | spectra_subsetting ⠋ | 911 | spectra_subsetting ⠼ | 925 | spectra_subsetting ⠏ | 940 | spectra_subsetting ⠼ | 955 | spectra_subsetting ⠦ | 967 | spectra_subsetting ⠇ | 979 | spectra_subsetting ⠼ | 995 | spectra_subsetting ⠇ | 1009 | spectra_subsetting ⠸ | 1024 | spectra_subsetting ⠦ | 1037 | spectra_subsetting ⠋ | 1051 | spectra_subsetting ⠸ | 1064 | spectra_subsetting ⠴ | 1076 | spectra_subsetting ⠏ | 1090 | spectra_subsetting ⠼ | 1105 | spectra_subsetting ⠏ | 1120 | spectra_subsetting ⠙ | 1132 | spectra_subsetting ⠧ | 1148 | spectra_subsetting ⠙ | 1162 | spectra_subsetting ⠼ | 1175 | spectra_subsetting ⠏ | 1190 | spectra_subsetting ⠸ | 1204 | spectra_subsetting ⠇ | 1219 | spectra_subsetting ⠙ | 1232 | spectra_subsetting ⠇ | 1249 | spectra_subsetting ⠦ | 1267 | spectra_subsetting ⠙ | 1282 | spectra_subsetting ⠧ | 1298 | spectra_subsetting ⠼ | 1315 | spectra_subsetting ⠦ | 1327 | spectra_subsetting ⠇ | 1339 | spectra_subsetting ⠸ | 1354 | spectra_subsetting ⠇ | 1369 | spectra_subsetting ⠸ | 1384 | spectra_subsetting ⠴ | 1396 | spectra_subsetting ⠼ | 1415 | spectra_subsetting ⠦ | 1417 | spectra_subsetting ⠏ | 1430 | spectra_subsetting ⠦ | 1447 | spectra_subsetting ⠹ | 1463 | spectra_subsetting ⠏ | 1480 | spectra_subsetting ⠼ | 1495 | spectra_subsetting ⠋ | 1511 | spectra_subsetting ⠧ | 1528 | spectra_subsetting ⠹ | 1543 | spectra_subsetting ⠏ | 1560 | spectra_subsetting ⠹ | 1573 | spectra_subsetting ⠋ | 1591 | spectra_subsetting ⠦ | 1607 | spectra_subsetting ⠸ | 1624 | spectra_subsetting ⠇ | 1639 | spectra_subsetting ⠸ | 1654 | spectra_subsetting ⠙ | 1672 | spectra_subsetting ⠦ | 1687 | spectra_subsetting ⠙ | 1702 | spectra_subsetting ⠦ | 1717 | spectra_subsetting ⠸ | 1724 | spectra_subsetting ⠴ | 1726 | spectra_subsetting ⠧ | 1728 | spectra_subsetting ⠏ | 1730 | spectra_subsetting ⠙ | 1732 | spectra_subsetting ⠸ | 1734 | spectra_subsetting ⠴ | 1736 | spectra_subsetting ⠧ | 1738 | spectra_subsetting ⠏ | 1740 | spectra_subsetting ⠙ | 1742 | spectra_subsetting ⠸ | 1744 | spectra_subsetting ⠦ | 1747 | spectra_subsetting ⠇ | 1749 | spectra_subsetting ⠋ | 1751 | spectra_subsetting ⠸ | 1754 | spectra_subsetting ⠴ | 1756 | spectra_subsetting ⠧ | 1758 | spectra_subsetting ⠏ | 1760 | spectra_subsetting ⠙ | 1762 | spectra_subsetting ⠸ | 1764 | spectra_subsetting ⠴ | 1766 | spectra_subsetting ⠧ | 1768 | spectra_subsetting ⠏ | 1770 | spectra_subsetting ⠙ | 1772 | spectra_subsetting ⠸ | 1774 | spectra_subsetting ⠴ | 1776 | spectra_subsetting ⠧ | 1778 | spectra_subsetting ⠏ | 1780 | spectra_subsetting ⠙ | 1782 | spectra_subsetting ⠸ | 1784 | spectra_subsetting ⠴ | 1786 | spectra_subsetting ⠧ | 1788 | spectra_subsetting ⠏ | 1790 | spectra_subsetting ⠙ | 1792 | spectra_subsetting ⠸ | 1794 | spectra_subsetting ⠴ | 1796 | spectra_subsetting ⠧ | 1798 | spectra_subsetting ⠏ | 1800 | spectra_subsetting ⠙ | 1802 | spectra_subsetting ⠸ | 1804 | spectra_subsetting ⠴ | 1806 | spectra_subsetting ⠧ | 1808 | spectra_subsetting ⠏ | 1810 | spectra_subsetting ⠙ | 1812 | spectra_subsetting ⠸ | 1814 | spectra_subsetting ⠴ | 1816 | spectra_subsetting ⠧ | 1818 | spectra_subsetting ⠏ | 1820 | spectra_subsetting ⠙ | 1822 | spectra_subsetting ⠸ | 1824 | spectra_subsetting ⠴ | 1826 | spectra_subsetting ⠧ | 1828 | spectra_subsetting ⠏ | 1830 | spectra_subsetting ⠙ | 1832 | spectra_subsetting ⠸ | 1834 | spectra_subsetting ⠴ | 1836 | spectra_subsetting ⠇ | 1839 | spectra_subsetting ⠋ | 1841 | spectra_subsetting ⠹ | 1843 | spectra_subsetting ⠼ | 1845 | spectra_subsetting ⠦ | 1847 | spectra_subsetting ⠇ | 1849 | spectra_subsetting ⠋ | 1851 | spectra_subsetting ⠹ | 1853 | spectra_subsetting ⠼ | 1855 | spectra_subsetting ⠦ | 1857 | spectra_subsetting ⠇ | 1859 | spectra_subsetting ⠋ | 1861 | spectra_subsetting ⠹ | 1863 | spectra_subsetting ⠼ | 1865 | spectra_subsetting ⠦ | 1867 | spectra_subsetting ⠇ | 1869 | spectra_subsetting ⠋ | 1871 | spectra_subsetting ⠹ | 1873 | spectra_subsetting ⠴ | 1876 | spectra_subsetting ⠧ | 1878 | spectra_subsetting ⠏ | 1880 | spectra_subsetting ⠙ | 1882 | spectra_subsetting ⠸ | 1884 | spectra_subsetting ⠴ | 1886 | spectra_subsetting ⠧ | 1888 | spectra_subsetting ⠏ | 1890 | spectra_subsetting ⠹ | 1893 | spectra_subsetting ⠼ | 1895 | spectra_subsetting ⠦ | 1897 | spectra_subsetting ⠇ | 1899 | spectra_subsetting ⠋ | 1901 | spectra_subsetting ⠹ | 1903 | spectra_subsetting ⠴ | 1906 | spectra_subsetting ⠧ | 1908 | spectra_subsetting ⠏ | 1910 | spectra_subsetting ⠙ | 1912 | spectra_subsetting ⠸ | 1914 | spectra_subsetting ⠴ | 1916 | spectra_subsetting ⠧ | 1918 | spectra_subsetting ⠏ | 1920 | spectra_subsetting ⠙ | 1922 | spectra_subsetting ⠸ | 1924 | spectra_subsetting ⠴ | 1926 | spectra_subsetting ⠧ | 1928 | spectra_subsetting ⠏ | 1930 | spectra_subsetting ⠋ | 1931 | spectra_subsetting ⠹ | 1933 | spectra_subsetting ⠼ | 1935 | spectra_subsetting ⠦ | 1937 | spectra_subsetting ⠇ | 1939 | spectra_subsetting ⠋ | 1941 | spectra_subsetting ⠹ | 1943 | spectra_subsetting ⠼ | 1945 | spectra_subsetting ⠦ | 1947 | spectra_subsetting ⠇ | 1949 | spectra_subsetting ⠋ | 1951 | spectra_subsetting ⠹ | 1953 | spectra_subsetting ⠼ | 1955 | spectra_subsetting ⠦ | 1957 | spectra_subsetting ⠇ | 1959 | spectra_subsetting ⠋ | 1961 | spectra_subsetting ⠸ | 1964 | spectra_subsetting ⠴ | 1966 | spectra_subsetting ⠧ | 1968 | spectra_subsetting ⠏ | 1970 | spectra_subsetting ⠙ | 1972 | spectra_subsetting ⠸ | 1974 | spectra_subsetting ⠴ | 1976 | spectra_subsetting ⠧ | 1978 | spectra_subsetting ⠏ | 1980 | spectra_subsetting ⠙ | 1982 | spectra_subsetting ⠸ | 1984 | spectra_subsetting ⠴ | 1986 | spectra_subsetting ⠧ | 1988 | spectra_subsetting ⠏ | 1990 | spectra_subsetting ⠙ | 1992 | spectra_subsetting ⠸ | 1994 | spectra_subsetting ⠴ | 1996 | spectra_subsetting ⠧ | 1998 | spectra_subsetting ⠏ | 2000 | spectra_subsetting ⠙ | 2002 | spectra_subsetting ⠸ | 2004 | spectra_subsetting ⠴ | 2006 | spectra_subsetting ⠧ | 2008 | spectra_subsetting ⠏ | 2010 | spectra_subsetting ⠙ | 2012 | spectra_subsetting ⠸ | 2014 | spectra_subsetting ⠴ | 2016 | spectra_subsetting ⠧ | 2018 | spectra_subsetting ⠏ | 2020 | spectra_subsetting ⠙ | 2022 | spectra_subsetting ⠸ | 2024 | spectra_subsetting ⠴ | 2026 | spectra_subsetting ⠧ | 2028 | spectra_subsetting ⠏ | 2030 | spectra_subsetting ⠙ | 2032 | spectra_subsetting ⠸ | 2034 | spectra_subsetting ⠴ | 2036 | spectra_subsetting ⠇ | 2039 | spectra_subsetting ⠋ | 2041 | spectra_subsetting ⠹ | 2043 | spectra_subsetting ⠼ | 2045 | spectra_subsetting ⠦ | 2047 | spectra_subsetting ⠇ | 2049 | spectra_subsetting ⠋ | 2051 | spectra_subsetting ⠹ | 2053 | spectra_subsetting ⠼ | 2055 | spectra_subsetting ⠦ | 2057 | spectra_subsetting ⠇ | 2059 | spectra_subsetting ⠋ | 2061 | spectra_subsetting ⠹ | 2063 | spectra_subsetting ⠼ | 2065 | spectra_subsetting ⠦ | 2067 | spectra_subsetting ⠇ | 2069 | spectra_subsetting ⠋ | 2071 | spectra_subsetting ⠹ | 2073 | spectra_subsetting ⠼ | 2075 | spectra_subsetting ⠦ | 2077 | spectra_subsetting ⠇ | 2079 | spectra_subsetting ⠋ | 2081 | spectra_subsetting ⠹ | 2083 | spectra_subsetting ⠼ | 2085 | spectra_subsetting ⠦ | 2087 | spectra_subsetting ⠇ | 2089 | spectra_subsetting ⠋ | 2091 | spectra_subsetting ⠹ | 2093 | spectra_subsetting ⠼ | 2095 | spectra_subsetting ⠦ | 2097 | spectra_subsetting ⠇ | 2099 | spectra_subsetting ⠋ | 2101 | spectra_subsetting ⠹ | 2103 | spectra_subsetting ⠼ | 2105 | spectra_subsetting ⠦ | 2107 | spectra_subsetting ⠇ | 2109 | spectra_subsetting ⠋ | 2111 | spectra_subsetting ⠹ | 2113 | spectra_subsetting ⠼ | 2115 | spectra_subsetting ⠦ | 2117 | spectra_subsetting ⠇ | 2119 | spectra_subsetting ⠋ | 2121 | spectra_subsetting ⠹ | 2123 | spectra_subsetting ⠼ | 2125 | spectra_subsetting ⠦ | 2127 | spectra_subsetting ⠇ | 2129 | spectra_subsetting ⠋ | 2131 | spectra_subsetting ⠹ | 2133 | spectra_subsetting ⠼ | 2135 | spectra_subsetting ⠦ | 2137 | spectra_subsetting ⠇ | 2139 | spectra_subsetting ⠋ | 2141 | spectra_subsetting ⠹ | 2143 | spectra_subsetting ⠼ | 2145 | spectra_subsetting ⠦ | 2147 | spectra_subsetting ⠇ | 2149 | spectra_subsetting ⠋ | 2151 | spectra_subsetting ⠙ | 2152 | spectra_subsetting ⠸ | 2154 | spectra_subsetting ⠴ | 2156 | spectra_subsetting ⠇ | 2159 | spectra_subsetting ⠋ | 2161 | spectra_subsetting ⠹ | 2163 | spectra_subsetting ⠼ | 2165 | spectra_subsetting ⠦ | 2167 | spectra_subsetting ⠇ | 2169 | spectra_subsetting ⠋ | 2171 | spectra_subsetting ⠹ | 2173 | spectra_subsetting ⠼ | 2175 | spectra_subsetting ⠦ | 2177 | spectra_subsetting ⠇ | 2179 | spectra_subsetting ⠋ | 2181 | spectra_subsetting ⠹ | 2183 | spectra_subsetting ⠼ | 2185 | spectra_subsetting ⠧ | 2188 | spectra_subsetting ⠏ | 2190 | spectra_subsetting ⠙ | 2192 | spectra_subsetting ⠸ | 2194 | spectra_subsetting ⠴ | 2196 | spectra_subsetting ⠧ | 2198 | spectra_subsetting ⠏ | 2200 | spectra_subsetting ⠹ | 2203 | spectra_subsetting ⠼ | 2205 | spectra_subsetting ⠦ | 2207 | spectra_subsetting ⠇ | 2209 | spectra_subsetting ⠋ | 2211 | spectra_subsetting ⠹ | 2213 | spectra_subsetting ⠼ | 2215 | spectra_subsetting ⠦ | 2217 | spectra_subsetting ⠇ | 2219 | spectra_subsetting ⠋ | 2221 | spectra_subsetting ⠹ | 2223 | spectra_subsetting ⠼ | 2225 | spectra_subsetting ⠦ | 2227 | spectra_subsetting ⠇ | 2229 | spectra_subsetting ⠋ | 2231 | spectra_subsetting ⠹ | 2233 | spectra_subsetting ⠼ | 2235 | spectra_subsetting ⠦ | 2237 | spectra_subsetting ⠇ | 2239 | spectra_subsetting ⠋ | 2241 | spectra_subsetting ⠹ | 2243 | spectra_subsetting ⠼ | 2245 | spectra_subsetting ⠦ | 2247 | spectra_subsetting ⠇ | 2249 | spectra_subsetting ⠋ | 2251 | spectra_subsetting ⠹ | 2253 | spectra_subsetting ⠼ | 2255 | spectra_subsetting ⠦ | 2257 | spectra_subsetting ⠇ | 2259 | spectra_subsetting ⠋ | 2261 | spectra_subsetting ⠹ | 2263 | spectra_subsetting ⠼ | 2265 | spectra_subsetting ⠦ | 2267 | spectra_subsetting ⠇ | 2269 | spectra_subsetting ⠋ | 2271 | spectra_subsetting ⠹ | 2273 | spectra_subsetting ⠼ | 2275 | spectra_subsetting ⠦ | 2277 | spectra_subsetting ⠇ | 2279 | spectra_subsetting ⠋ | 2281 | spectra_subsetting ⠹ | 2283 | spectra_subsetting ⠼ | 2285 | spectra_subsetting ⠦ | 2287 | spectra_subsetting ⠇ | 2289 | spectra_subsetting ⠋ | 2291 | spectra_subsetting ⠹ | 2293 | spectra_subsetting ⠼ | 2295 | spectra_subsetting ⠇ | 2299 | spectra_subsetting ⠼ | 2305 | spectra_subsetting ⠋ | 2311 | spectra_subsetting ⠹ | 2313 | spectra_subsetting ✔ | 2313 | spectra_subsetting [50.4s] ⠏ | 0 | spectra_variables ⠙ | 12 | spectra_variables ⠸ | 14 | spectra_variables ⠴ | 16 | spectra_variables ⠴ | 36 | spectra_variables ⠹ | 43 | spectra_variables ⠋ | 1 60 | spectra_variables ⠹ | 1 62 | spectra_variables ✔ | 1 62 | spectra_variables [12.7s] ══ Results ═════════════════════════════════════════════════════════════════════ Duration: 63.1 s ── Skipped tests (1) ─────────────────────────────────────────────────────────── • empty test (1): 'test_spectra_variables.R:262:1' [ FAIL 0 | WARN 0 | SKIP 1 | PASS 2375 ] > > proc.time() user system elapsed 60.45 2.01 117.68
MsBackendRawFileReader.Rcheck/MsBackendRawFileReader-Ex.timings
name | user | system | elapsed | |
MsBackendRawFileReader-class | 0.83 | 0.01 | 10.70 | |
MsBackendRawFileReader | 0.80 | 0.02 | 23.80 | |
hidden_aliases | 0.29 | 0.00 | 9.85 | |
ioBenchmark | 8.14 | 2.36 | 52.20 | |