Back to Multiple platform build/check report for BioC 3.17:   simplified   long
ABCDEF[G]HIJKLMNOPQRSTUVWXYZ

This page was generated on 2023-03-24 11:05:59 -0400 (Fri, 24 Mar 2023).

HostnameOSArch (*)R versionInstalled pkgs
nebbiolo1Linux (Ubuntu 22.04.1 LTS)x86_64R Under development (unstable) (2023-03-16 r83996) -- "Unsuffered Consequences" 4546
palomino3Windows Server 2022 Datacenterx64R Under development (unstable) (2023-03-15 r83984 ucrt) -- "Unsuffered Consequences" 4307
merida1macOS 10.14.6 Mojavex86_64R Under development (unstable) (2023-03-16 r83985) -- "Unsuffered Consequences" 4299
Click on any hostname to see more info about the system (e.g. compilers)      (*) as reported by 'uname -p', except on Windows and Mac OS X

INSTALL results for GRaNIE on palomino3


To the developers/maintainers of the GRaNIE package:
- Please allow up to 24 hours (and sometimes 48 hours) for your latest push to git@git.bioconductor.org:packages/GRaNIE.git to
reflect on this report. See How and When does the builder pull? When will my changes propagate? for more information.
- Make sure to use the following settings in order to reproduce any error or warning you see on this page.

raw results

Package 859/2195HostnameOS / ArchINSTALLBUILDCHECKBUILD BIN
GRaNIE 1.3.32  (landing page)
Christian Arnold
Snapshot Date: 2023-03-23 14:00:15 -0400 (Thu, 23 Mar 2023)
git_url: https://git.bioconductor.org/packages/GRaNIE
git_branch: devel
git_last_commit: ddf7ae0
git_last_commit_date: 2023-03-10 11:20:50 -0400 (Fri, 10 Mar 2023)
nebbiolo1Linux (Ubuntu 22.04.1 LTS) / x86_64  OK    OK    OK  UNNEEDED, same version is already published
palomino3Windows Server 2022 Datacenter / x64  OK    OK    WARNINGS    OK  UNNEEDED, same version is already published
merida1macOS 10.14.6 Mojave / x86_64  OK    OK    ERROR    OK  

Summary

Package: GRaNIE
Version: 1.3.32
Command: F:\biocbuild\bbs-3.17-bioc\R\bin\R.exe CMD INSTALL GRaNIE
StartedAt: 2023-03-23 16:04:23 -0400 (Thu, 23 Mar 2023)
EndedAt: 2023-03-23 16:05:10 -0400 (Thu, 23 Mar 2023)
EllapsedTime: 47.4 seconds
RetCode: 0
Status:   OK  

Command output

##############################################################################
##############################################################################
###
### Running command:
###
###   F:\biocbuild\bbs-3.17-bioc\R\bin\R.exe CMD INSTALL GRaNIE
###
##############################################################################
##############################################################################


* installing to library 'F:/biocbuild/bbs-3.17-bioc/R/library'
* installing *source* package 'GRaNIE' ...
** using staged installation
** R
** byte-compile and prepare package for lazy loading
Warning: replacing previous import 'GenomicRanges::windows' by 'grDevices::windows' when loading 'GRaNIE'
** help
*** installing help indices
** building package indices
** installing vignettes
** testing if installed package can be loaded from temporary location
Warning: replacing previous import 'GenomicRanges::windows' by 'grDevices::windows' when loading 'GRaNIE'
** testing if installed package can be loaded from final location
Warning: replacing previous import 'GenomicRanges::windows' by 'grDevices::windows' when loading 'GRaNIE'
** testing if installed package keeps a record of temporary installation path
* DONE (GRaNIE)