Back to Multiple platform build/check report for BioC 3.17:   simplified   long
ABCDEFGHIJKL[M]NOPQRSTUVWXYZ

This page was generated on 2023-03-22 11:06:00 -0400 (Wed, 22 Mar 2023).

HostnameOSArch (*)R versionInstalled pkgs
nebbiolo1Linux (Ubuntu 22.04.1 LTS)x86_64R Under development (unstable) (2023-03-16 r83996) -- "Unsuffered Consequences" 4508
palomino3Windows Server 2022 Datacenterx64R Under development (unstable) (2023-03-15 r83984 ucrt) -- "Unsuffered Consequences" 4293
merida1macOS 10.14.6 Mojavex86_64R Under development (unstable) (2023-03-16 r83985) -- "Unsuffered Consequences" 4290
Click on any hostname to see more info about the system (e.g. compilers)      (*) as reported by 'uname -p', except on Windows and Mac OS X

BUILD BIN results for methylKit on palomino3


To the developers/maintainers of the methylKit package:
- Please allow up to 24 hours (and sometimes 48 hours) for your latest push to git@git.bioconductor.org:packages/methylKit.git to
reflect on this report. See How and When does the builder pull? When will my changes propagate? for more information.
- Make sure to use the following settings in order to reproduce any error or warning you see on this page.

raw results

Package 1180/2189HostnameOS / ArchINSTALLBUILDCHECKBUILD BIN
methylKit 1.25.0  (landing page)
Altuna Akalin , Alexander Gosdschan
Snapshot Date: 2023-03-21 14:00:22 -0400 (Tue, 21 Mar 2023)
git_url: https://git.bioconductor.org/packages/methylKit
git_branch: master
git_last_commit: 9fdb2d6
git_last_commit_date: 2022-11-01 11:14:04 -0400 (Tue, 01 Nov 2022)
nebbiolo1Linux (Ubuntu 22.04.1 LTS) / x86_64  OK    OK    WARNINGS  UNNEEDED, same version is already published
palomino3Windows Server 2022 Datacenter / x64  OK    OK    WARNINGS    OK  UNNEEDED, same version is already published
merida1macOS 10.14.6 Mojave / x86_64  OK    OK    WARNINGS    OK  UNNEEDED, same version is already published

Summary

Package: methylKit
Version: 1.25.0
Command: rm -rf methylKit.buildbin-libdir && mkdir methylKit.buildbin-libdir && F:\biocbuild\bbs-3.17-bioc\R\bin\R.exe CMD INSTALL --build --library=methylKit.buildbin-libdir methylKit_1.25.0.tar.gz
StartedAt: 2023-03-22 09:00:57 -0400 (Wed, 22 Mar 2023)
EndedAt: 2023-03-22 09:02:20 -0400 (Wed, 22 Mar 2023)
EllapsedTime: 83.6 seconds
RetCode: 0
Status:   OK  
PackageFile: methylKit_1.25.0.zip
PackageFileSize: 6.361 MiB

Command output

##############################################################################
##############################################################################
###
### Running command:
###
###   rm -rf methylKit.buildbin-libdir && mkdir methylKit.buildbin-libdir && F:\biocbuild\bbs-3.17-bioc\R\bin\R.exe CMD INSTALL --build --library=methylKit.buildbin-libdir methylKit_1.25.0.tar.gz
###
##############################################################################
##############################################################################


* installing *source* package 'methylKit' ...
** using staged installation
** libs
using C++ compiler: 'G__~1.EXE (GCC) 12.2.0'
using C++11
g++  -std=gnu++11 -I"F:/biocbuild/bbs-3.17-bioc/R/include" -DNDEBUG -D_FILE_OFFSET_BITS=64 -I'F:/biocbuild/bbs-3.17-bioc/R/library/Rcpp/include' -I'F:/biocbuild/bbs-3.17-bioc/R/library/Rhtslib/include' -I'F:/biocbuild/bbs-3.17-bioc/R/library/zlibbioc/include'   -I"C:/rtools43/x86_64-w64-mingw32.static.posix/include"     -O2 -Wall  -mfpmath=sse -msse2 -mstackrealign  -c RcppExports.cpp -o RcppExports.o
g++  -std=gnu++11 -I"F:/biocbuild/bbs-3.17-bioc/R/include" -DNDEBUG -D_FILE_OFFSET_BITS=64 -I'F:/biocbuild/bbs-3.17-bioc/R/library/Rcpp/include' -I'F:/biocbuild/bbs-3.17-bioc/R/library/Rhtslib/include' -I'F:/biocbuild/bbs-3.17-bioc/R/library/zlibbioc/include'   -I"C:/rtools43/x86_64-w64-mingw32.static.posix/include"     -O2 -Wall  -mfpmath=sse -msse2 -mstackrealign  -c methCall.cpp -o methCall.o
methCall.cpp: In function 'int process_sam(std::istream*, std::string&, std::string&, std::string&, int&, int&, int&, int, int, size_t&)':
methCall.cpp:687:39: warning: 'CHGout' may be used uninitialized [-Wmaybe-uninitialized]
  687 |       if(CHGstatus){ processCHmethHash(CHGmethHash,CHGout,mincov);}
      |                      ~~~~~~~~~~~~~~~~~^~~~~~~~~~~~~~~~~~~~~~~~~~~
methCall.cpp:547:24: note: 'CHGout' was declared here
  547 |   FILE *out, *CHHout, *CHGout;
      |                        ^~~~~~
methCall.cpp:686:39: warning: 'CHHout' may be used uninitialized [-Wmaybe-uninitialized]
  686 |       if(CHHstatus){ processCHmethHash(CHHmethHash,CHHout,mincov); }
      |                      ~~~~~~~~~~~~~~~~~^~~~~~~~~~~~~~~~~~~~~~~~~~~
methCall.cpp:547:15: note: 'CHHout' was declared here
  547 |   FILE *out, *CHHout, *CHGout;
      |               ^~~~~~
methCall.cpp:685:39: warning: 'out' may be used uninitialized [-Wmaybe-uninitialized]
  685 |       if(CpGstatus){ processCGmethHash(CGmethHash,out,mincov);}
      |                      ~~~~~~~~~~~~~~~~~^~~~~~~~~~~~~~~~~~~~~~~
methCall.cpp:547:9: note: 'out' was declared here
  547 |   FILE *out, *CHHout, *CHGout;
      |         ^~~
methCall.cpp: In function 'int process_bam(std::string&, std::string&, std::string&, std::string&, int&, int&, int&, int, size_t&)':
methCall.cpp:1014:39: warning: 'CHGout' may be used uninitialized [-Wmaybe-uninitialized]
 1014 |       if(CHGstatus){ processCHmethHash(CHGmethHash,CHGout,mincov);}
      |                      ~~~~~~~~~~~~~~~~~^~~~~~~~~~~~~~~~~~~~~~~~~~~
methCall.cpp:827:24: note: 'CHGout' was declared here
  827 |   FILE *out, *CHHout, *CHGout;
      |                        ^~~~~~
methCall.cpp:1013:39: warning: 'CHHout' may be used uninitialized [-Wmaybe-uninitialized]
 1013 |       if(CHHstatus){ processCHmethHash(CHHmethHash,CHHout,mincov); }
      |                      ~~~~~~~~~~~~~~~~~^~~~~~~~~~~~~~~~~~~~~~~~~~~
methCall.cpp:827:15: note: 'CHHout' was declared here
  827 |   FILE *out, *CHHout, *CHGout;
      |               ^~~~~~
methCall.cpp:1012:39: warning: 'out' may be used uninitialized [-Wmaybe-uninitialized]
 1012 |       if(CpGstatus){ processCGmethHash(CGmethHash,out,mincov);}
      |                      ~~~~~~~~~~~~~~~~~^~~~~~~~~~~~~~~~~~~~~~~
methCall.cpp:827:9: note: 'out' was declared here
  827 |   FILE *out, *CHHout, *CHGout;
      |         ^~~
methCall.cpp: In function 'int process_single_bismark(std::istream*, std::string&, std::string&, std::string&, int&, int&, int&, size_t&)':
methCall.cpp:1244:39: warning: 'CHGout' may be used uninitialized [-Wmaybe-uninitialized]
 1244 |       if(CHGstatus){ processCHmethHash(CHGmethHash,CHGout,mincov);}
      |                      ~~~~~~~~~~~~~~~~~^~~~~~~~~~~~~~~~~~~~~~~~~~~
methCall.cpp:1142:24: note: 'CHGout' was declared here
 1142 |   FILE *out, *CHHout, *CHGout;
      |                        ^~~~~~
methCall.cpp:1243:39: warning: 'CHHout' may be used uninitialized [-Wmaybe-uninitialized]
 1243 |       if(CHHstatus){ processCHmethHash(CHHmethHash,CHHout,mincov); }
      |                      ~~~~~~~~~~~~~~~~~^~~~~~~~~~~~~~~~~~~~~~~~~~~
methCall.cpp:1142:15: note: 'CHHout' was declared here
 1142 |   FILE *out, *CHHout, *CHGout;
      |               ^~~~~~
methCall.cpp:1242:39: warning: 'out' may be used uninitialized [-Wmaybe-uninitialized]
 1242 |       if(CpGstatus){ processCGmethHash(CGmethHash,out,mincov);}
      |                      ~~~~~~~~~~~~~~~~~^~~~~~~~~~~~~~~~~~~~~~~
methCall.cpp:1142:9: note: 'out' was declared here
 1142 |   FILE *out, *CHHout, *CHGout;
      |         ^~~
g++ -shared -s -static-libgcc -o methylKit.dll tmp.def RcppExports.o methCall.o F:/biocbuild/bbs-3.17-bioc/R/library/Rhtslib/usrlib/x64/libhts.a -lz -lm -lbz2 -llzma -lcurl -lidn2 -lunistring -liconv -lssl -lcrypto -lcrypt32 -lwsock32 -lwldap32 -lssh2 -lgcrypt -lgpg-error -lws2_32 -lzstd -lregex -LC:/rtools43/x86_64-w64-mingw32.static.posix/lib/x64 -LC:/rtools43/x86_64-w64-mingw32.static.posix/lib -LF:/biocbuild/bbs-3.17-bioc/R/bin/x64 -lR
installing to F:/biocbuild/bbs-3.17-bioc/meat/methylKit.buildbin-libdir/00LOCK-methylKit/00new/methylKit/libs/x64
** R
** data
** inst
** byte-compile and prepare package for lazy loading
** help
*** installing help indices
** building package indices
** installing vignettes
** testing if installed package can be loaded from temporary location
** testing if installed package can be loaded from final location
** testing if installed package keeps a record of temporary installation path
* MD5 sums
packaged installation of 'methylKit' as methylKit_1.25.0.zip
* DONE (methylKit)