Back to Multiple platform build/check report for BioC 3.17: simplified long |
|
This page was generated on 2023-03-29 11:06:05 -0400 (Wed, 29 Mar 2023).
Hostname | OS | Arch (*) | R version | Installed pkgs |
---|---|---|---|---|
nebbiolo1 | Linux (Ubuntu 22.04.1 LTS) | x86_64 | R Under development (unstable) (2023-03-16 r83996) -- "Unsuffered Consequences" | 4547 |
palomino3 | Windows Server 2022 Datacenter | x64 | R Under development (unstable) (2023-03-15 r83984 ucrt) -- "Unsuffered Consequences" | 4308 |
merida1 | macOS 10.14.6 Mojave | x86_64 | R Under development (unstable) (2023-03-16 r83985) -- "Unsuffered Consequences" | 4301 |
Click on any hostname to see more info about the system (e.g. compilers) (*) as reported by 'uname -p', except on Windows and Mac OS X |
To the developers/maintainers of the CAGEfightR package: - Please allow up to 24 hours (and sometimes 48 hours) for your latest push to git@git.bioconductor.org:packages/CAGEfightR.git to reflect on this report. See How and When does the builder pull? When will my changes propagate? for more information. - Make sure to use the following settings in order to reproduce any error or warning you see on this page. |
Package 254/2195 | Hostname | OS / Arch | INSTALL | BUILD | CHECK | BUILD BIN | ||||||||
CAGEfightR 1.19.0 (landing page) Malte Thodberg
| nebbiolo1 | Linux (Ubuntu 22.04.1 LTS) / x86_64 | OK | OK | OK | ![]() | ||||||||
palomino3 | Windows Server 2022 Datacenter / x64 | OK | OK | OK | OK | ![]() | ||||||||
merida1 | macOS 10.14.6 Mojave / x86_64 | OK | OK | OK | OK | ![]() | ||||||||
Package: CAGEfightR |
Version: 1.19.0 |
Command: /Library/Frameworks/R.framework/Resources/bin/R CMD check --install=check:CAGEfightR.install-out.txt --library=/Library/Frameworks/R.framework/Resources/library --no-vignettes --timings CAGEfightR_1.19.0.tar.gz |
StartedAt: 2023-03-28 22:32:42 -0400 (Tue, 28 Mar 2023) |
EndedAt: 2023-03-28 22:48:15 -0400 (Tue, 28 Mar 2023) |
EllapsedTime: 932.7 seconds |
RetCode: 0 |
Status: OK |
CheckDir: CAGEfightR.Rcheck |
Warnings: 0 |
############################################################################## ############################################################################## ### ### Running command: ### ### /Library/Frameworks/R.framework/Resources/bin/R CMD check --install=check:CAGEfightR.install-out.txt --library=/Library/Frameworks/R.framework/Resources/library --no-vignettes --timings CAGEfightR_1.19.0.tar.gz ### ############################################################################## ############################################################################## * using log directory ‘/Users/biocbuild/bbs-3.17-bioc/meat/CAGEfightR.Rcheck’ * using R Under development (unstable) (2023-03-16 r83985) * using platform: x86_64-apple-darwin17.0 (64-bit) * R was compiled by Apple clang version 12.0.0 (clang-1200.0.32.29) GNU Fortran (GCC) 8.2.0 * running under: macOS Mojave 10.14.6 * using session charset: UTF-8 * using option ‘--no-vignettes’ * checking for file ‘CAGEfightR/DESCRIPTION’ ... OK * checking extension type ... Package * this is package ‘CAGEfightR’ version ‘1.19.0’ * package encoding: UTF-8 * checking package namespace information ... OK * checking package dependencies ... OK * checking if this is a source package ... OK * checking if there is a namespace ... OK * checking for hidden files and directories ... OK * checking for portable file names ... OK * checking for sufficient/correct file permissions ... OK * checking whether package ‘CAGEfightR’ can be installed ... OK * checking installed package size ... OK * checking package directory ... OK * checking ‘build’ directory ... OK * checking DESCRIPTION meta-information ... OK * checking top-level files ... OK * checking for left-over files ... OK * checking index information ... OK * checking package subdirectories ... OK * checking R files for non-ASCII characters ... OK * checking R files for syntax errors ... OK * checking whether the package can be loaded ... OK * checking whether the package can be loaded with stated dependencies ... OK * checking whether the package can be unloaded cleanly ... OK * checking whether the namespace can be loaded with stated dependencies ... OK * checking whether the namespace can be unloaded cleanly ... OK * checking startup messages can be suppressed ... OK * checking dependencies in R code ... OK * checking S3 generic/method consistency ... OK * checking replacement functions ... OK * checking foreign function calls ... OK * checking R code for possible problems ... OK * checking Rd files ... OK * checking Rd metadata ... OK * checking Rd cross-references ... OK * checking for missing documentation entries ... OK * checking for code/documentation mismatches ... OK * checking Rd \usage sections ... OK * checking Rd contents ... OK * checking for unstated dependencies in examples ... OK * checking contents of ‘data’ directory ... OK * checking data for non-ASCII characters ... OK * checking LazyData ... OK * checking data for ASCII and uncompressed saves ... OK * checking files in ‘vignettes’ ... OK * checking examples ... OK Examples with CPU (user + system) or elapsed time > 5s user system elapsed findLinks 8.539 0.927 11.836 assignGeneID 6.540 0.142 8.836 calcShape 6.223 0.296 9.462 trackCTSS 5.834 0.317 8.118 trimToPercentiles 4.415 0.080 6.002 * checking for unstated dependencies in vignettes ... OK * checking package vignettes in ‘inst/doc’ ... OK * checking running R code from vignettes ... SKIPPED * checking re-building of vignette outputs ... SKIPPED * checking PDF version of manual ... OK * DONE Status: OK
CAGEfightR.Rcheck/00install.out
############################################################################## ############################################################################## ### ### Running command: ### ### /Library/Frameworks/R.framework/Resources/bin/R CMD INSTALL CAGEfightR ### ############################################################################## ############################################################################## * installing to library ‘/Library/Frameworks/R.framework/Versions/4.3/Resources/library’ * installing *source* package ‘CAGEfightR’ ... ** using staged installation ** R ** data *** moving datasets to lazyload DB ** inst ** byte-compile and prepare package for lazy loading ** help *** installing help indices ** building package indices ** installing vignettes ** testing if installed package can be loaded from temporary location ** testing if installed package can be loaded from final location ** testing if installed package keeps a record of temporary installation path * DONE (CAGEfightR)
CAGEfightR.Rcheck/CAGEfightR-Ex.timings
name | user | system | elapsed | |
assignGeneID | 6.540 | 0.142 | 8.836 | |
assignMissingID | 2.045 | 0.039 | 2.721 | |
assignTxID | 1.740 | 0.030 | 2.369 | |
assignTxType | 0.001 | 0.001 | 0.001 | |
balanceBC | 0.001 | 0.000 | 0.001 | |
balanceD | 0.001 | 0.000 | 0.001 | |
bwCommonGenome | 0.071 | 0.005 | 0.106 | |
bwGenomeCompatibility | 0.034 | 0.003 | 0.052 | |
bwValid | 0.015 | 0.003 | 0.029 | |
calcBidirectionality | 0.891 | 0.014 | 1.178 | |
calcComposition | 2.667 | 0.035 | 3.563 | |
calcPooled | 0.211 | 0.006 | 0.288 | |
calcShape | 6.223 | 0.296 | 9.462 | |
calcSupport | 0.224 | 0.003 | 0.334 | |
calcTPM | 0.260 | 0.004 | 0.389 | |
calcTotalTags | 0.130 | 0.004 | 0.204 | |
checkCTSSs | 0.531 | 0.007 | 0.789 | |
checkPeaked | 0.122 | 0.005 | 0.186 | |
checkPooled | 0.162 | 0.012 | 0.259 | |
clusterBidirectionally | 0.001 | 0.001 | 0.000 | |
clusterUnidirectionally | 3.038 | 0.018 | 4.355 | |
combineClusters | 1.572 | 0.014 | 2.178 | |
convertBAM2BigWig | 0 | 0 | 0 | |
convertBED2BigWig | 0.001 | 0.000 | 0.001 | |
convertGRanges2GPos | 0.159 | 0.001 | 0.220 | |
exampleDesign | 0.008 | 0.012 | 0.026 | |
findLinks | 8.539 | 0.927 | 11.836 | |
findStretches | 0.874 | 0.098 | 1.282 | |
quantifyCTSSs | 0.001 | 0.000 | 0.001 | |
quantifyCTSSs2 | 0 | 0 | 0 | |
quantifyClusters | 0.817 | 0.077 | 1.167 | |
quantifyGenes | 2.531 | 0.184 | 3.623 | |
quickEnhancers | 0 | 0 | 0 | |
quickGenes | 0 | 0 | 0 | |
quickTSSs | 0 | 0 | 0 | |
shapeEntropy | 0.001 | 0.000 | 0.001 | |
shapeIQR | 0.000 | 0.000 | 0.001 | |
shapeMean | 0.001 | 0.001 | 0.001 | |
shapeMultimodality | 0.000 | 0.000 | 0.001 | |
subsetByBidirectionality | 0.899 | 0.043 | 1.233 | |
subsetByComposition | 2.458 | 0.041 | 3.299 | |
subsetBySupport | 0.176 | 0.007 | 0.238 | |
swapRanges | 0.348 | 0.009 | 0.471 | |
swapScores | 0.227 | 0.006 | 0.305 | |
trackBalance | 0.001 | 0.000 | 0.001 | |
trackCTSS | 5.834 | 0.317 | 8.118 | |
trackClusters | 3.570 | 0.020 | 4.743 | |
trackLinks | 2.029 | 0.475 | 3.002 | |
trimToPeak | 1.763 | 0.161 | 2.547 | |
trimToPercentiles | 4.415 | 0.080 | 6.002 | |
tuneTagClustering | 0 | 0 | 0 | |
utilsAggregateRows | 0.692 | 0.350 | 1.397 | |
utilsDeStrand | 0.250 | 0.004 | 0.336 | |
utilsScoreOverlaps | 0.145 | 0.001 | 0.197 | |
utilsSimplifyTxDb | 0.000 | 0.001 | 0.001 | |