Back to Multiple platform build/check report for BioC 3.17: simplified long |
|
This page was generated on 2023-03-23 11:05:19 -0400 (Thu, 23 Mar 2023).
Hostname | OS | Arch (*) | R version | Installed pkgs |
---|---|---|---|---|
nebbiolo1 | Linux (Ubuntu 22.04.1 LTS) | x86_64 | R Under development (unstable) (2023-03-16 r83996) -- "Unsuffered Consequences" | 4536 |
palomino3 | Windows Server 2022 Datacenter | x64 | R Under development (unstable) (2023-03-15 r83984 ucrt) -- "Unsuffered Consequences" | 4298 |
merida1 | macOS 10.14.6 Mojave | x86_64 | R Under development (unstable) (2023-03-16 r83985) -- "Unsuffered Consequences" | 4290 |
Click on any hostname to see more info about the system (e.g. compilers) (*) as reported by 'uname -p', except on Windows and Mac OS X |
To the developers/maintainers of the mogsa package: - Please allow up to 24 hours (and sometimes 48 hours) for your latest push to git@git.bioconductor.org:packages/mogsa.git to reflect on this report. See How and When does the builder pull? When will my changes propagate? for more information. - Make sure to use the following settings in order to reproduce any error or warning you see on this page. |
Package 1252/2189 | Hostname | OS / Arch | INSTALL | BUILD | CHECK | BUILD BIN | ||||||||
mogsa 1.33.0 (landing page) Chen Meng
| nebbiolo1 | Linux (Ubuntu 22.04.1 LTS) / x86_64 | OK | OK | OK | ![]() | ||||||||
palomino3 | Windows Server 2022 Datacenter / x64 | OK | OK | OK | OK | ![]() | ||||||||
merida1 | macOS 10.14.6 Mojave / x86_64 | OK | OK | OK | OK | ![]() | ||||||||
Package: mogsa |
Version: 1.33.0 |
Command: /home/biocbuild/bbs-3.17-bioc/R/bin/R CMD check --install=check:mogsa.install-out.txt --library=/home/biocbuild/bbs-3.17-bioc/R/site-library --timings mogsa_1.33.0.tar.gz |
StartedAt: 2023-03-22 22:11:43 -0400 (Wed, 22 Mar 2023) |
EndedAt: 2023-03-22 22:16:01 -0400 (Wed, 22 Mar 2023) |
EllapsedTime: 257.0 seconds |
RetCode: 0 |
Status: OK |
CheckDir: mogsa.Rcheck |
Warnings: 0 |
############################################################################## ############################################################################## ### ### Running command: ### ### /home/biocbuild/bbs-3.17-bioc/R/bin/R CMD check --install=check:mogsa.install-out.txt --library=/home/biocbuild/bbs-3.17-bioc/R/site-library --timings mogsa_1.33.0.tar.gz ### ############################################################################## ############################################################################## * using log directory ‘/home/biocbuild/bbs-3.17-bioc/meat/mogsa.Rcheck’ * using R Under development (unstable) (2023-03-16 r83996) * using platform: x86_64-pc-linux-gnu (64-bit) * R was compiled by gcc (Ubuntu 11.3.0-1ubuntu1~22.04) 11.3.0 GNU Fortran (Ubuntu 11.3.0-1ubuntu1~22.04) 11.3.0 * running under: Ubuntu 22.04.2 LTS * using session charset: UTF-8 * checking for file ‘mogsa/DESCRIPTION’ ... OK * checking extension type ... Package * this is package ‘mogsa’ version ‘1.33.0’ * checking package namespace information ... OK * checking package dependencies ... OK * checking if this is a source package ... OK * checking if there is a namespace ... OK * checking for hidden files and directories ... OK * checking for portable file names ... OK * checking for sufficient/correct file permissions ... OK * checking whether package ‘mogsa’ can be installed ... OK * checking installed package size ... OK * checking package directory ... OK * checking ‘build’ directory ... OK * checking DESCRIPTION meta-information ... OK * checking top-level files ... OK * checking for left-over files ... OK * checking index information ... OK * checking package subdirectories ... OK * checking R files for non-ASCII characters ... OK * checking R files for syntax errors ... OK * checking whether the package can be loaded ... OK * checking whether the package can be loaded with stated dependencies ... OK * checking whether the package can be unloaded cleanly ... OK * checking whether the namespace can be loaded with stated dependencies ... OK * checking whether the namespace can be unloaded cleanly ... OK * checking loading without being on the library search path ... OK * checking dependencies in R code ... OK * checking S3 generic/method consistency ... OK * checking replacement functions ... OK * checking foreign function calls ... OK * checking R code for possible problems ... OK * checking Rd files ... NOTE checkRd: (-1) NCI60_4array_supdata.Rd:15: Escaped LaTeX specials: \$ checkRd: (-1) NCI60_4array_supdata.Rd:19: Escaped LaTeX specials: \$ checkRd: (-1) NCI60_4array_supdata.Rd:23: Escaped LaTeX specials: \$ checkRd: (-1) NCI60_4array_supdata.Rd:27: Escaped LaTeX specials: \$ checkRd: (-1) NCI60_4arrays.Rd:21: Escaped LaTeX specials: \$ checkRd: (-1) NCI60_4arrays.Rd:25: Escaped LaTeX specials: \$ checkRd: (-1) NCI60_4arrays.Rd:29: Escaped LaTeX specials: \$ checkRd: (-1) NCI60_4arrays.Rd:33: Escaped LaTeX specials: \$ * checking Rd metadata ... OK * checking Rd cross-references ... OK * checking for missing documentation entries ... OK * checking for code/documentation mismatches ... OK * checking Rd \usage sections ... OK * checking Rd contents ... OK * checking for unstated dependencies in examples ... OK * checking contents of ‘data’ directory ... OK * checking data for non-ASCII characters ... OK * checking data for ASCII and uncompressed saves ... OK * checking files in ‘vignettes’ ... OK * checking examples ... OK * checking for unstated dependencies in vignettes ... OK * checking package vignettes in ‘inst/doc’ ... OK * checking running R code from vignettes ... ‘moCluster-knitr.Rnw’... OK ‘mogsa-knitr.Rnw’... OK NONE * checking re-building of vignette outputs ... OK * checking PDF version of manual ... OK * DONE Status: 1 NOTE See ‘/home/biocbuild/bbs-3.17-bioc/meat/mogsa.Rcheck/00check.log’ for details.
mogsa.Rcheck/00install.out
############################################################################## ############################################################################## ### ### Running command: ### ### /home/biocbuild/bbs-3.17-bioc/R/bin/R CMD INSTALL mogsa ### ############################################################################## ############################################################################## * installing to library ‘/home/biocbuild/bbs-3.17-bioc/R/site-library’ * installing *source* package ‘mogsa’ ... ** using staged installation ** R ** data ** inst ** byte-compile and prepare package for lazy loading ** help *** installing help indices ** building package indices ** installing vignettes ** testing if installed package can be loaded from temporary location ** testing if installed package can be loaded from final location ** testing if installed package keeps a record of temporary installation path * DONE (mogsa)
mogsa.Rcheck/mogsa-Ex.timings
name | user | system | elapsed | |
GIS | 0.140 | 0.025 | 0.165 | |
annotate.gs | 0.120 | 0.003 | 0.124 | |
bootMbpca | 0 | 0 | 0 | |
bootMoa | 0 | 0 | 0 | |
box.gs.feature | 0.174 | 0.000 | 0.174 | |
combine-methods | 0.624 | 0.012 | 0.636 | |
decompose.gs.group | 0.116 | 0.000 | 0.116 | |
decompose.gs.ind | 0.100 | 0.003 | 0.104 | |
distMoa | 0.213 | 0.000 | 0.213 | |
getmgsa | 0.107 | 0.012 | 0.119 | |
matpower | 0.001 | 0.000 | 0.001 | |
mbpca | 2.633 | 0.096 | 2.729 | |
mgsa-class | 0.185 | 0.023 | 0.209 | |
moGap | 1.617 | 0.028 | 1.645 | |
moa-class | 0.099 | 0.003 | 0.102 | |
moa | 0.768 | 0.019 | 0.810 | |
moa.sup-class | 0.111 | 0.000 | 0.118 | |
moaCoef | 0.243 | 0.000 | 0.244 | |
moaScore | 0.246 | 0.000 | 0.247 | |
mogsa-package | 0.183 | 0.007 | 0.191 | |
mogsa | 0.300 | 0.008 | 0.309 | |
pairwise.rv | 0.005 | 0.007 | 0.012 | |
plotGS | 0.121 | 0.004 | 0.125 | |
prepGraphite | 0.262 | 0.004 | 0.267 | |
prepMsigDB | 0.002 | 0.000 | 0.003 | |
prepSupMoa | 3.199 | 0.052 | 3.251 | |
softK | 0 | 0 | 0 | |
sup.moa | 0.948 | 0.060 | 1.008 | |
wsvd | 0.001 | 0.000 | 0.001 | |