Back to Multiple platform build/check report for BioC 3.17:   simplified   long
A[B]CDEFGHIJKLMNOPQRSTUVWXYZ

This page was generated on 2023-03-28 11:05:46 -0400 (Tue, 28 Mar 2023).

HostnameOSArch (*)R versionInstalled pkgs
nebbiolo1Linux (Ubuntu 22.04.1 LTS)x86_64R Under development (unstable) (2023-03-16 r83996) -- "Unsuffered Consequences" 4547
palomino3Windows Server 2022 Datacenterx64R Under development (unstable) (2023-03-15 r83984 ucrt) -- "Unsuffered Consequences" 4308
merida1macOS 10.14.6 Mojavex86_64R Under development (unstable) (2023-03-16 r83985) -- "Unsuffered Consequences" 4301
Click on any hostname to see more info about the system (e.g. compilers)      (*) as reported by 'uname -p', except on Windows and Mac OS X

CHECK results for benchdamic on palomino3


To the developers/maintainers of the benchdamic package:
- Please allow up to 24 hours (and sometimes 48 hours) for your latest push to git@git.bioconductor.org:packages/benchdamic.git to
reflect on this report. See How and When does the builder pull? When will my changes propagate? for more information.
- Make sure to use the following settings in order to reproduce any error or warning you see on this page.

raw results

Package 152/2195HostnameOS / ArchINSTALLBUILDCHECKBUILD BIN
benchdamic 1.5.2  (landing page)
Matteo Calgaro
Snapshot Date: 2023-03-27 14:00:21 -0400 (Mon, 27 Mar 2023)
git_url: https://git.bioconductor.org/packages/benchdamic
git_branch: devel
git_last_commit: 224bcad
git_last_commit_date: 2022-11-21 11:52:14 -0400 (Mon, 21 Nov 2022)
nebbiolo1Linux (Ubuntu 22.04.1 LTS) / x86_64  OK    OK    OK  UNNEEDED, same version is already published
palomino3Windows Server 2022 Datacenter / x64  OK    OK    OK    OK  UNNEEDED, same version is already published
merida1macOS 10.14.6 Mojave / x86_64  OK    TIMEOUT  skippedskipped

Summary

Package: benchdamic
Version: 1.5.2
Command: F:\biocbuild\bbs-3.17-bioc\R\bin\R.exe CMD check --no-multiarch --install=check:benchdamic.install-out.txt --library=F:\biocbuild\bbs-3.17-bioc\R\library --no-vignettes --timings benchdamic_1.5.2.tar.gz
StartedAt: 2023-03-27 23:29:16 -0400 (Mon, 27 Mar 2023)
EndedAt: 2023-03-27 23:40:33 -0400 (Mon, 27 Mar 2023)
EllapsedTime: 677.1 seconds
RetCode: 0
Status:   OK  
CheckDir: benchdamic.Rcheck
Warnings: 0

Command output

##############################################################################
##############################################################################
###
### Running command:
###
###   F:\biocbuild\bbs-3.17-bioc\R\bin\R.exe CMD check --no-multiarch --install=check:benchdamic.install-out.txt --library=F:\biocbuild\bbs-3.17-bioc\R\library --no-vignettes --timings benchdamic_1.5.2.tar.gz
###
##############################################################################
##############################################################################


* using log directory 'F:/biocbuild/bbs-3.17-bioc/meat/benchdamic.Rcheck'
* using R Under development (unstable) (2023-03-15 r83984 ucrt)
* using platform: x86_64-w64-mingw32 (64-bit)
* R was compiled by
    gcc.exe (GCC) 12.2.0
    GNU Fortran (GCC) 12.2.0
* running under: Windows Server 2022 x64 (build 20348)
* using session charset: UTF-8
* using option '--no-vignettes'
* checking for file 'benchdamic/DESCRIPTION' ... OK
* checking extension type ... Package
* this is package 'benchdamic' version '1.5.2'
* package encoding: UTF-8
* checking package namespace information ... OK
* checking package dependencies ... OK
* checking if this is a source package ... OK
* checking if there is a namespace ... OK
* checking for hidden files and directories ... OK
* checking for portable file names ... OK
* checking whether package 'benchdamic' can be installed ... OK
* checking installed package size ... OK
* checking package directory ... OK
* checking 'build' directory ... OK
* checking DESCRIPTION meta-information ... OK
* checking top-level files ... OK
* checking for left-over files ... OK
* checking index information ... OK
* checking package subdirectories ... OK
* checking R files for non-ASCII characters ... OK
* checking R files for syntax errors ... OK
* checking whether the package can be loaded ... OK
* checking whether the package can be loaded with stated dependencies ... OK
* checking whether the package can be unloaded cleanly ... OK
* checking whether the namespace can be loaded with stated dependencies ... OK
* checking whether the namespace can be unloaded cleanly ... OK
* checking dependencies in R code ... OK
* checking S3 generic/method consistency ... OK
* checking replacement functions ... OK
* checking foreign function calls ... OK
* checking R code for possible problems ... OK
* checking Rd files ... OK
* checking Rd metadata ... OK
* checking Rd cross-references ... OK
* checking for missing documentation entries ... OK
* checking for code/documentation mismatches ... OK
* checking Rd \usage sections ... OK
* checking Rd contents ... OK
* checking for unstated dependencies in examples ... OK
* checking contents of 'data' directory ... OK
* checking data for non-ASCII characters ... OK
* checking LazyData ... OK
* checking data for ASCII and uncompressed saves ... OK
* checking files in 'vignettes' ... OK
* checking examples ... OK
Examples with CPU (user + system) or elapsed time > 5s
                user system elapsed
DA_ALDEx2       7.46   2.31   41.03
plotConcordance 5.53   0.16    5.69
* checking for unstated dependencies in 'tests' ... OK
* checking tests ...
  Running 'testthat.R'
 OK
* checking for unstated dependencies in vignettes ... OK
* checking package vignettes in 'inst/doc' ... OK
* checking running R code from vignettes ... SKIPPED
* checking re-building of vignette outputs ... SKIPPED
* checking PDF version of manual ... OK
* DONE

Status: OK


Installation output

benchdamic.Rcheck/00install.out

##############################################################################
##############################################################################
###
### Running command:
###
###   F:\biocbuild\bbs-3.17-bioc\R\bin\R.exe CMD INSTALL benchdamic
###
##############################################################################
##############################################################################


* installing to library 'F:/biocbuild/bbs-3.17-bioc/R/library'
* installing *source* package 'benchdamic' ...
** using staged installation
** R
** data
*** moving datasets to lazyload DB
** byte-compile and prepare package for lazy loading
** help
*** installing help indices
** building package indices
** installing vignettes
** testing if installed package can be loaded from temporary location
** testing if installed package can be loaded from final location
** testing if installed package keeps a record of temporary installation path
* DONE (benchdamic)

Tests output

benchdamic.Rcheck/tests/testthat.Rout


R Under development (unstable) (2023-03-15 r83984 ucrt) -- "Unsuffered Consequences"
Copyright (C) 2023 The R Foundation for Statistical Computing
Platform: x86_64-w64-mingw32/x64 (64-bit)

R is free software and comes with ABSOLUTELY NO WARRANTY.
You are welcome to redistribute it under certain conditions.
Type 'license()' or 'licence()' for distribution details.

R is a collaborative project with many contributors.
Type 'contributors()' for more information and
'citation()' on how to cite R or R packages in publications.

Type 'demo()' for some demos, 'help()' for on-line help, or
'help.start()' for an HTML browser interface to help.
Type 'q()' to quit R.

> library(testthat)
> library(benchdamic)
> 
> test_check("benchdamic")
|------------(25%)----------(50%)----------(75%)----------|
|------------(25%)----------(50%)----------(75%)----------|
|------------(25%)----------(50%)----------(75%)----------|
|------------(25%)----------(50%)----------(75%)----------|
|------------(25%)----------(50%)----------(75%)----------|
[ FAIL 0 | WARN 1 | SKIP 0 | PASS 292 ]

[ FAIL 0 | WARN 1 | SKIP 0 | PASS 292 ]
> 
> proc.time()
   user  system elapsed 
  75.42    4.28   95.70 

Example timings

benchdamic.Rcheck/benchdamic-Ex.timings

nameusersystemelapsed
CAT000
DA_ALDEx2 7.46 2.3141.03
DA_ANCOM1.800.021.83
DA_DESeq24.830.014.86
DA_MAST0.650.040.68
DA_NOISeq1.550.011.56
DA_Seurat0.680.030.72
DA_basic0.030.000.03
DA_corncob1.460.072.02
DA_dearseq0.190.000.21
DA_edgeR0.160.010.17
DA_limma0.080.000.08
DA_metagenomeSeq0.370.020.39
RMSE000
addKnowledge0.150.030.19
areaCAT4.850.124.97
checkNormalization000
createColors000
createConcordance4.680.084.76
createEnrichment0.240.000.24
createMocks000
createPositives0.920.020.94
createSplits0.030.000.03
createTIEC2.450.092.54
enrichmentTest0.110.000.11
extractDA0.160.010.17
extractStatistics0.170.000.17
fitDM0.030.000.03
fitHURDLE0.330.020.34
fitModels1.280.041.33
fitNB0.060.000.06
fitZIG0.080.000.08
fitZINB0.650.000.65
getDA0.150.020.16
getPositives0.070.020.09
getStatistics0.080.000.08
get_counts_metadata0.190.000.19
iterative_ordering000
meanDifferences000
norm_CSS0.060.000.06
norm_DESeq20.450.000.47
norm_TSS0.070.000.06
norm_edgeR0.030.000.03
plotConcordance5.530.165.69
plotContingency1.450.011.73
plotEnrichment1.300.021.31
plotFDR2.310.062.38
plotFPR2.240.032.27
plotKS2.220.052.26
plotLogP3.000.003.02
plotMD2.640.002.64
plotMutualFindings1.280.031.32
plotPositives0.770.020.78
plotQQ2.260.012.28
plotRMSE1.890.021.90
prepareObserved000
runDA0.570.000.57
runMocks101
runNormalizations0.640.000.64
runSplits4.100.084.17
setNormalizations000
set_ALDEx20.010.000.02
set_ANCOM000
set_DESeq20.020.000.02
set_MAST0.010.000.01
set_NOISeq000
set_Seurat000
set_basic0.020.000.02
set_corncob000
set_dearseq000
set_edgeR0.070.000.08
set_limma0.030.000.03
set_metagenomeSeq000
weights_ZINB0.60.00.6