Back to Multiple platform build/check report for BioC 3.17:   simplified   long
ABCDEF[G]HIJKLMNOPQRSTUVWXYZ

This page was generated on 2023-03-28 11:05:16 -0400 (Tue, 28 Mar 2023).

HostnameOSArch (*)R versionInstalled pkgs
nebbiolo1Linux (Ubuntu 22.04.1 LTS)x86_64R Under development (unstable) (2023-03-16 r83996) -- "Unsuffered Consequences" 4547
palomino3Windows Server 2022 Datacenterx64R Under development (unstable) (2023-03-15 r83984 ucrt) -- "Unsuffered Consequences" 4308
merida1macOS 10.14.6 Mojavex86_64R Under development (unstable) (2023-03-16 r83985) -- "Unsuffered Consequences" 4301
Click on any hostname to see more info about the system (e.g. compilers)      (*) as reported by 'uname -p', except on Windows and Mac OS X

BUILD results for GenomicRanges on nebbiolo1


To the developers/maintainers of the GenomicRanges package:
- Please allow up to 24 hours (and sometimes 48 hours) for your latest push to git@git.bioconductor.org:packages/GenomicRanges.git to
reflect on this report. See How and When does the builder pull? When will my changes propagate? for more information.
- Make sure to use the following settings in order to reproduce any error or warning you see on this page.

raw results

Package 798/2195HostnameOS / ArchINSTALLBUILDCHECKBUILD BIN
GenomicRanges 1.51.4  (landing page)
Hervé Pagès
Snapshot Date: 2023-03-27 14:00:21 -0400 (Mon, 27 Mar 2023)
git_url: https://git.bioconductor.org/packages/GenomicRanges
git_branch: devel
git_last_commit: f1a44dc
git_last_commit_date: 2022-12-15 13:51:02 -0400 (Thu, 15 Dec 2022)
nebbiolo1Linux (Ubuntu 22.04.1 LTS) / x86_64  OK    OK    WARNINGS  UNNEEDED, same version is already published
palomino3Windows Server 2022 Datacenter / x64  OK    OK    WARNINGS    OK  UNNEEDED, same version is already published
merida1macOS 10.14.6 Mojave / x86_64  OK    OK    WARNINGS    OK  UNNEEDED, same version is already published

Summary

Package: GenomicRanges
Version: 1.51.4
Command: /home/biocbuild/bbs-3.17-bioc/R/bin/R CMD build --keep-empty-dirs --no-resave-data GenomicRanges
StartedAt: 2023-03-27 16:37:02 -0400 (Mon, 27 Mar 2023)
EndedAt: 2023-03-27 16:39:22 -0400 (Mon, 27 Mar 2023)
EllapsedTime: 140.6 seconds
RetCode: 0
Status:   OK  
PackageFile: GenomicRanges_1.51.4.tar.gz
PackageFileSize: 1.087 MiB

Command output

##############################################################################
##############################################################################
###
### Running command:
###
###   /home/biocbuild/bbs-3.17-bioc/R/bin/R CMD build --keep-empty-dirs --no-resave-data GenomicRanges
###
##############################################################################
##############################################################################


* checking for file ‘GenomicRanges/DESCRIPTION’ ... OK
* preparing ‘GenomicRanges’:
* checking DESCRIPTION meta-information ... OK
* cleaning src
* installing the package to build vignettes
* creating vignettes ... OK
* cleaning src
* checking for LF line-endings in source and make files and shell scripts
* checking for empty or unneeded directories
* building ‘GenomicRanges_1.51.4.tar.gz’