Back to Multiple platform build/check report for BioC 3.17:   simplified   long
ABCDEFGHIJKLMNOPQRS[T]UVWXYZ

This page was generated on 2023-05-27 11:07:10 -0400 (Sat, 27 May 2023).

HostnameOSArch (*)R versionInstalled pkgs
nebbiolo1Linux (Ubuntu 22.04.2 LTS)x86_644.3.0 RC (2023-04-13 r84269) -- "Already Tomorrow" 4617
palomino3Windows Server 2022 Datacenterx644.3.0 RC (2023-04-13 r84269 ucrt) -- "Already Tomorrow" 4368
merida1macOS 12.6.4 Montereyx86_644.3.0 RC (2023-04-13 r84257) -- "Already Tomorrow" 4326
Click on any hostname to see more info about the system (e.g. compilers)      (*) as reported by 'uname -p', except on Windows and Mac OS X

CHECK results for trackViewer on merida1


To the developers/maintainers of the trackViewer package:
- Allow up to 24 hours (and sometimes 48 hours) for your latest push to git@git.bioconductor.org:packages/trackViewer.git to reflect on this report. See Troubleshooting Build Report for more information.

- Use the following Renviron settings to reproduce errors and warnings.

Note: If "R CMD check" recently failed on the Linux builder over a missing dependency, add the missing dependency to "Suggests" in your DESCRIPTION file. See the Renviron.bioc for details.

raw results

Package 2120/2229HostnameOS / ArchINSTALLBUILDCHECKBUILD BIN
trackViewer 1.36.2  (landing page)
Jianhong Ou
Snapshot Date: 2023-05-26 14:00:16 -0400 (Fri, 26 May 2023)
git_url: https://git.bioconductor.org/packages/trackViewer
git_branch: RELEASE_3_17
git_last_commit: 8660ccc
git_last_commit_date: 2023-05-17 09:52:56 -0400 (Wed, 17 May 2023)
nebbiolo1Linux (Ubuntu 22.04.2 LTS) / x86_64  OK    OK    OK  UNNEEDED, same version is already published
palomino3Windows Server 2022 Datacenter / x64  OK    OK    OK    OK  UNNEEDED, same version is already published
merida1macOS 12.6.4 Monterey / x86_64  OK    OK    OK    OK  UNNEEDED, same version is already published

Summary

Package: trackViewer
Version: 1.36.2
Command: /Library/Frameworks/R.framework/Resources/bin/R CMD check --install=check:trackViewer.install-out.txt --library=/Library/Frameworks/R.framework/Resources/library --no-vignettes --timings trackViewer_1.36.2.tar.gz
StartedAt: 2023-05-27 08:19:36 -0400 (Sat, 27 May 2023)
EndedAt: 2023-05-27 08:40:24 -0400 (Sat, 27 May 2023)
EllapsedTime: 1248.7 seconds
RetCode: 0
Status:   OK  
CheckDir: trackViewer.Rcheck
Warnings: 0

Command output

##############################################################################
##############################################################################
###
### Running command:
###
###   /Library/Frameworks/R.framework/Resources/bin/R CMD check --install=check:trackViewer.install-out.txt --library=/Library/Frameworks/R.framework/Resources/library --no-vignettes --timings trackViewer_1.36.2.tar.gz
###
##############################################################################
##############################################################################


* using log directory ‘/Users/biocbuild/bbs-3.17-bioc/meat/trackViewer.Rcheck’
* using R version 4.3.0 RC (2023-04-13 r84257)
* using platform: x86_64-apple-darwin20 (64-bit)
* R was compiled by
    Apple clang version 14.0.3 (clang-1403.0.22.14.1)
    GNU Fortran (GCC) 12.2.0
* running under: macOS Monterey 12.6.4
* using session charset: UTF-8
* using option ‘--no-vignettes’
* checking for file ‘trackViewer/DESCRIPTION’ ... OK
* checking extension type ... Package
* this is package ‘trackViewer’ version ‘1.36.2’
* package encoding: UTF-8
* checking package namespace information ... OK
* checking package dependencies ... OK
* checking if this is a source package ... OK
* checking if there is a namespace ... OK
* checking for hidden files and directories ... OK
* checking for portable file names ... OK
* checking for sufficient/correct file permissions ... OK
* checking whether package ‘trackViewer’ can be installed ... OK
* checking installed package size ... OK
* checking package directory ... OK
* checking ‘build’ directory ... OK
* checking DESCRIPTION meta-information ... OK
* checking top-level files ... OK
* checking for left-over files ... OK
* checking index information ... OK
* checking package subdirectories ... OK
* checking R files for non-ASCII characters ... OK
* checking R files for syntax errors ... OK
* checking whether the package can be loaded ... OK
* checking whether the package can be loaded with stated dependencies ... OK
* checking whether the package can be unloaded cleanly ... OK
* checking whether the namespace can be loaded with stated dependencies ... OK
* checking whether the namespace can be unloaded cleanly ... OK
* checking dependencies in R code ... OK
* checking S3 generic/method consistency ... OK
* checking replacement functions ... OK
* checking foreign function calls ... OK
* checking R code for possible problems ... OK
* checking Rd files ... OK
* checking Rd metadata ... OK
* checking Rd cross-references ... OK
* checking for missing documentation entries ... OK
* checking for code/documentation mismatches ... OK
* checking Rd \usage sections ... OK
* checking Rd contents ... OK
* checking for unstated dependencies in examples ... OK
* checking files in ‘vignettes’ ... OK
* checking examples ... OK
Examples with CPU (user + system) or elapsed time > 5s
                      user system elapsed
trackViewer-package 50.429  0.315  67.824
parseWIG            35.028  0.231  51.398
viewTracks          33.210  0.189  43.662
browseTracks        31.501  0.265  44.176
geneModelFromTxdb   12.241  0.639  18.362
viewGene            12.395  0.152  16.623
GRoperator           6.741  0.392   9.975
dandelion.plot       5.370  0.051   7.694
geneTrack            4.977  0.098   7.298
importData           3.883  0.058   5.657
plotGRanges          3.794  0.053   5.210
* checking for unstated dependencies in ‘tests’ ... OK
* checking tests ...
  Running ‘runTests.R’
 OK
* checking for unstated dependencies in vignettes ... OK
* checking package vignettes in ‘inst/doc’ ... OK
* checking running R code from vignettes ... SKIPPED
* checking re-building of vignette outputs ... SKIPPED
* checking PDF version of manual ... OK
* DONE

Status: OK


Installation output

trackViewer.Rcheck/00install.out

##############################################################################
##############################################################################
###
### Running command:
###
###   /Library/Frameworks/R.framework/Resources/bin/R CMD INSTALL trackViewer
###
##############################################################################
##############################################################################


* installing to library ‘/Library/Frameworks/R.framework/Versions/4.3-x86_64/Resources/library’
* installing *source* package ‘trackViewer’ ...
** using staged installation
** R
** inst
** byte-compile and prepare package for lazy loading
** help
*** installing help indices
** building package indices
** installing vignettes
** testing if installed package can be loaded from temporary location
** testing if installed package can be loaded from final location
** testing if installed package keeps a record of temporary installation path
* DONE (trackViewer)

Tests output

trackViewer.Rcheck/tests/runTests.Rout


R version 4.3.0 RC (2023-04-13 r84257) -- "Already Tomorrow"
Copyright (C) 2023 The R Foundation for Statistical Computing
Platform: x86_64-apple-darwin20 (64-bit)

R is free software and comes with ABSOLUTELY NO WARRANTY.
You are welcome to redistribute it under certain conditions.
Type 'license()' or 'licence()' for distribution details.

R is a collaborative project with many contributors.
Type 'contributors()' for more information and
'citation()' on how to cite R or R packages in publications.

Type 'demo()' for some demos, 'help()' for on-line help, or
'help.start()' for an HTML browser interface to help.
Type 'q()' to quit R.

> require("trackViewer") || stop("unable to load Package:trackViewer")
Loading required package: trackViewer
Loading required package: GenomicRanges
Loading required package: stats4
Loading required package: BiocGenerics

Attaching package: 'BiocGenerics'

The following objects are masked from 'package:stats':

    IQR, mad, sd, var, xtabs

The following objects are masked from 'package:base':

    Filter, Find, Map, Position, Reduce, anyDuplicated, aperm, append,
    as.data.frame, basename, cbind, colnames, dirname, do.call,
    duplicated, eval, evalq, get, grep, grepl, intersect, is.unsorted,
    lapply, mapply, match, mget, order, paste, pmax, pmax.int, pmin,
    pmin.int, rank, rbind, rownames, sapply, setdiff, sort, table,
    tapply, union, unique, unsplit, which.max, which.min

Loading required package: S4Vectors

Attaching package: 'S4Vectors'

The following object is masked from 'package:utils':

    findMatches

The following objects are masked from 'package:base':

    I, expand.grid, unname

Loading required package: IRanges
Loading required package: GenomeInfoDb
Loading required package: grid
[1] TRUE
> require("RUnit") || stop("unable to load Package:RUnit")
Loading required package: RUnit
[1] TRUE
> BiocGenerics:::testPackage("trackViewer")


RUNIT TEST PROTOCOL -- Sat May 27 08:40:06 2023 
*********************************************** 
Number of test functions: 2 
Number of errors: 0 
Number of failures: 0 

 
1 Test Suite : 
trackViewer RUnit Tests - 2 test functions, 0 errors, 0 failures
Number of test functions: 2 
Number of errors: 0 
Number of failures: 0 
> 
> proc.time()
   user  system elapsed 
 34.425   1.907  48.581 

Example timings

trackViewer.Rcheck/trackViewer-Ex.timings

nameusersystemelapsed
GRoperator6.7410.3929.975
addArrowMark0.0140.0010.024
addGuideLine0.0080.0000.014
browseTracks31.501 0.26544.176
coverageGR0.4750.0050.680
dandelion.plot5.3700.0517.694
geneModelFromTxdb12.241 0.63918.362
geneTrack4.9770.0987.298
getCurTrackViewport0.0060.0010.006
getGeneIDsFromTxDb1.7990.0382.828
getLocation3.0920.1474.974
gi2track0.1060.0050.162
gieStain0.0140.0040.031
ideogramPlot0.0010.0010.001
importBam0.7220.0081.087
importData3.8830.0585.657
importGInteractions1.4670.0302.150
importScSeqScore000
importScore1.5910.0392.249
listChromosomes1.2150.0141.683
listResolutions0.0070.0020.008
loadIdeogram0.0000.0000.001
lolliplot2.2610.0213.518
optimizeStyle1.4080.0232.091
parse2GRanges0.0260.0010.042
parseWIG35.028 0.23151.398
plotGInteractions2.6380.0403.906
plotGRanges3.7940.0535.210
plotIdeo000
plotOneIdeo0.0000.0010.000
trackStyle-class0.1000.0020.133
trackViewer-package50.429 0.31567.824
trackViewerStyle-class0.0010.0010.001
viewGene12.395 0.15216.623
viewTracks33.210 0.18943.662