Back to Multiple platform build/check report for BioC 3.17:   simplified   long
ABCDEF[G]HIJKLMNOPQRSTUVWXYZ

This page was generated on 2023-05-30 11:04:34 -0400 (Tue, 30 May 2023).

HostnameOSArch (*)R versionInstalled pkgs
nebbiolo1Linux (Ubuntu 22.04.2 LTS)x86_644.3.0 RC (2023-04-13 r84269) -- "Already Tomorrow" 4617
palomino3Windows Server 2022 Datacenterx644.3.0 RC (2023-04-13 r84269 ucrt) -- "Already Tomorrow" 4368
merida1macOS 12.6.4 Montereyx86_644.3.0 RC (2023-04-13 r84257) -- "Already Tomorrow" 4326
Click on any hostname to see more info about the system (e.g. compilers)      (*) as reported by 'uname -p', except on Windows and Mac OS X

All results for package gdsfmt


To the developers/maintainers of the gdsfmt package:
- Allow up to 24 hours (and sometimes 48 hours) for your latest push to git@git.bioconductor.org:packages/gdsfmt.git to reflect on this report. See Troubleshooting Build Report for more information.

- Use the following Renviron settings to reproduce errors and warnings.

Note: If "R CMD check" recently failed on the Linux builder over a missing dependency, add the missing dependency to "Suggests" in your DESCRIPTION file. See the Renviron.bioc for details.

raw results

Package 765/2229HostnameOS / ArchINSTALLBUILDCHECKBUILD BIN
gdsfmt 1.36.0  (landing page)
Xiuwen Zheng
Snapshot Date: 2023-05-29 14:00:15 -0400 (Mon, 29 May 2023)
git_url: https://git.bioconductor.org/packages/gdsfmt
git_branch: RELEASE_3_17
git_last_commit: 39ba0af
git_last_commit_date: 2023-04-25 10:37:10 -0400 (Tue, 25 Apr 2023)
nebbiolo1Linux (Ubuntu 22.04.2 LTS) / x86_64  OK    OK    OK  UNNEEDED, same version is already published
palomino3Windows Server 2022 Datacenter / x64  OK    OK    OK    OK  UNNEEDED, same version is already published
merida1macOS 12.6.4 Monterey / x86_64  OK    OK    OK    OK  UNNEEDED, same version is already published

Results for Bioconductor software packages that depend directly on package gdsfmt

QUICK STATSOS / ArchINSTALLBUILDCHECKBUILD BIN
nebbiolo1Linux (Ubuntu 22.04.2 LTS) / x86_64
0015
0015
00213
palomino3Windows Server 2022 Datacenter / x64
0015
0015
00213
0015
merida1macOS 12.6.4 Monterey / x86_64
0015
0015
00213
0015
Package 1/15HostnameOS / ArchINSTALLBUILDCHECKBUILD BIN
bigmelon 1.26.0  (landing page)
Tyler J. Gorrie-Stone
git_last_commit: e32bf15
git_last_commit_date: 2023-04-25 10:49:39 -0400
nebbiolo1Linux (Ubuntu 22.04.2 LTS) / x86_64  OK    OK    OK  UNNEEDED, same version is already published
palomino3Windows Server 2022 Datacenter / x64  OK    OK    OK    OK  UNNEEDED, same version is already published
merida1macOS 12.6.4 Monterey / x86_64  OK    OK    OK    OK  UNNEEDED, same version is already published
Package 2/15HostnameOS / ArchINSTALLBUILDCHECKBUILD BIN
CNVRanger 1.16.3  (landing page)
Ludwig Geistlinger
git_last_commit: 17d0070
git_last_commit_date: 2023-05-22 14:19:04 -0400
nebbiolo1Linux (Ubuntu 22.04.2 LTS) / x86_64  OK    OK    OK  UNNEEDED, same version is already published
palomino3Windows Server 2022 Datacenter / x64  OK    OK    OK    OK  UNNEEDED, same version is already published
merida1macOS 12.6.4 Monterey / x86_64  OK    OK    OK    OK  UNNEEDED, same version is already published
Package 3/15HostnameOS / ArchINSTALLBUILDCHECKBUILD BIN
GBScleanR 1.4.4  (landing page)
Tomoyuki Furuta
git_last_commit: d33bdfe
git_last_commit_date: 2023-05-11 04:43:18 -0400
nebbiolo1Linux (Ubuntu 22.04.2 LTS) / x86_64  OK    OK    OK  UNNEEDED, same version is already published
palomino3Windows Server 2022 Datacenter / x64  OK    OK    OK    OK  UNNEEDED, same version is already published
merida1macOS 12.6.4 Monterey / x86_64  OK    OK    OK    OK  UNNEEDED, same version is already published
Package 4/15HostnameOS / ArchINSTALLBUILDCHECKBUILD BIN
GDSArray 1.20.0  (landing page)
Qian Liu
git_last_commit: d4934a6
git_last_commit_date: 2023-04-25 11:00:38 -0400
nebbiolo1Linux (Ubuntu 22.04.2 LTS) / x86_64  OK    OK    OK  UNNEEDED, same version is already published
palomino3Windows Server 2022 Datacenter / x64  OK    OK    OK    OK  UNNEEDED, same version is already published
merida1macOS 12.6.4 Monterey / x86_64  OK    OK    OK    OK  UNNEEDED, same version is already published
Package 5/15HostnameOS / ArchINSTALLBUILDCHECKBUILD BIN
GENESIS 2.30.0  (landing page)
Stephanie M. Gogarten
git_last_commit: 4b00d85
git_last_commit_date: 2023-04-25 10:38:20 -0400
nebbiolo1Linux (Ubuntu 22.04.2 LTS) / x86_64  OK    OK    OK  UNNEEDED, same version is already published
palomino3Windows Server 2022 Datacenter / x64  OK    OK    OK    OK  UNNEEDED, same version is already published
merida1macOS 12.6.4 Monterey / x86_64  OK    OK    OK    OK  UNNEEDED, same version is already published
Package 6/15HostnameOS / ArchINSTALLBUILDCHECKBUILD BIN
ggmanh 1.4.0  (landing page)
John Lee
git_last_commit: 33c1553
git_last_commit_date: 2023-04-25 11:34:59 -0400
nebbiolo1Linux (Ubuntu 22.04.2 LTS) / x86_64  OK    OK    WARNINGS  UNNEEDED, same version is already published
palomino3Windows Server 2022 Datacenter / x64  OK    OK    WARNINGS    OK  UNNEEDED, same version is already published
merida1macOS 12.6.4 Monterey / x86_64  OK    OK    WARNINGS    OK  UNNEEDED, same version is already published
Package 7/15HostnameOS / ArchINSTALLBUILDCHECKBUILD BIN
GWASTools 1.46.0  (landing page)
Stephanie M. Gogarten
git_last_commit: bfec04d
git_last_commit_date: 2023-04-25 10:21:17 -0400
nebbiolo1Linux (Ubuntu 22.04.2 LTS) / x86_64  OK    OK    OK  UNNEEDED, same version is already published
palomino3Windows Server 2022 Datacenter / x64  OK    OK    OK    OK  UNNEEDED, same version is already published
merida1macOS 12.6.4 Monterey / x86_64  OK    OK    OK    OK  UNNEEDED, same version is already published
Package 8/15HostnameOS / ArchINSTALLBUILDCHECKBUILD BIN
SAIGEgds 2.0.1  (landing page)
Xiuwen Zheng
git_last_commit: 8011316
git_last_commit_date: 2023-05-01 20:07:45 -0400
nebbiolo1Linux (Ubuntu 22.04.2 LTS) / x86_64  OK    OK    OK  UNNEEDED, same version is already published
palomino3Windows Server 2022 Datacenter / x64  OK    OK    OK    OK  UNNEEDED, same version is already published
merida1macOS 12.6.4 Monterey / x86_64  OK    OK    OK    OK  UNNEEDED, same version is already published
Package 9/15HostnameOS / ArchINSTALLBUILDCHECKBUILD BIN
SCArray 1.8.0  (landing page)
Xiuwen Zheng
git_last_commit: 1dcc25b
git_last_commit_date: 2023-04-25 11:25:57 -0400
nebbiolo1Linux (Ubuntu 22.04.2 LTS) / x86_64  OK    OK    OK  UNNEEDED, same version is already published
palomino3Windows Server 2022 Datacenter / x64  OK    OK    OK    OK  UNNEEDED, same version is already published
merida1macOS 12.6.4 Monterey / x86_64  OK    OK    OK    OK  UNNEEDED, same version is already published
Package 10/15HostnameOS / ArchINSTALLBUILDCHECKBUILD BIN
SCArray.sat 1.0.0  (landing page)
Xiuwen Zheng
git_last_commit: a24593c
git_last_commit_date: 2023-04-25 11:43:43 -0400
nebbiolo1Linux (Ubuntu 22.04.2 LTS) / x86_64  OK    OK    OK  UNNEEDED, same version is already published
palomino3Windows Server 2022 Datacenter / x64  OK    OK    OK    OK  UNNEEDED, same version is already published
merida1macOS 12.6.4 Monterey / x86_64  OK    OK    OK    OK  UNNEEDED, same version is already published
Package 11/15HostnameOS / ArchINSTALLBUILDCHECKBUILD BIN
SeqArray 1.40.0  (landing page)
Xiuwen Zheng
git_last_commit: b9d29ac
git_last_commit_date: 2023-04-25 10:26:13 -0400
nebbiolo1Linux (Ubuntu 22.04.2 LTS) / x86_64  OK    OK    OK  UNNEEDED, same version is already published
palomino3Windows Server 2022 Datacenter / x64  OK    OK    OK    OK  UNNEEDED, same version is already published
merida1macOS 12.6.4 Monterey / x86_64  OK    OK    OK    OK  UNNEEDED, same version is already published
Package 12/15HostnameOS / ArchINSTALLBUILDCHECKBUILD BIN
SeqSQC 1.22.0  (landing page)
Qian Liu
git_last_commit: bcccfeb
git_last_commit_date: 2023-04-25 10:57:44 -0400
nebbiolo1Linux (Ubuntu 22.04.2 LTS) / x86_64  OK    OK    OK  UNNEEDED, same version is already published
palomino3Windows Server 2022 Datacenter / x64  OK    OK    OK    OK  UNNEEDED, same version is already published
merida1macOS 12.6.4 Monterey / x86_64  OK    OK    OK    OK  UNNEEDED, same version is already published
Package 13/15HostnameOS / ArchINSTALLBUILDCHECKBUILD BIN
SeqVarTools 1.38.0  (landing page)
Stephanie M. Gogarten
git_last_commit: 5826906
git_last_commit_date: 2023-04-25 10:28:13 -0400
nebbiolo1Linux (Ubuntu 22.04.2 LTS) / x86_64  OK    OK    OK  UNNEEDED, same version is already published
palomino3Windows Server 2022 Datacenter / x64  OK    OK    OK    OK  UNNEEDED, same version is already published
merida1macOS 12.6.4 Monterey / x86_64  OK    OK    OK    OK  UNNEEDED, same version is already published
Package 14/15HostnameOS / ArchINSTALLBUILDCHECKBUILD BIN
SNPRelate 1.34.1  (landing page)
Xiuwen Zheng
git_last_commit: 8a20e85
git_last_commit_date: 2023-05-01 20:07:52 -0400
nebbiolo1Linux (Ubuntu 22.04.2 LTS) / x86_64  OK    OK    OK  UNNEEDED, same version is already published
palomino3Windows Server 2022 Datacenter / x64  OK    OK    OK    OK  UNNEEDED, same version is already published
merida1macOS 12.6.4 Monterey / x86_64  OK    OK    OK    OK  UNNEEDED, same version is already published
Package 15/15HostnameOS / ArchINSTALLBUILDCHECKBUILD BIN
VariantExperiment 1.14.0  (landing page)
Qian Liu
git_last_commit: 0c15f68
git_last_commit_date: 2023-04-25 11:11:51 -0400
nebbiolo1Linux (Ubuntu 22.04.2 LTS) / x86_64  OK    OK    WARNINGS  UNNEEDED, same version is already published
palomino3Windows Server 2022 Datacenter / x64  OK    OK    WARNINGS    OK  UNNEEDED, same version is already published
merida1macOS 12.6.4 Monterey / x86_64  OK    OK    WARNINGS    OK  UNNEEDED, same version is already published