Back to Multiple platform build/check report for BioC 3.17:   simplified   long
ABCD[E]FGHIJKLMNOPQRSTUVWXYZ

This page was generated on 2023-10-16 11:34:29 -0400 (Mon, 16 Oct 2023).

HostnameOSArch (*)R versionInstalled pkgs
nebbiolo1Linux (Ubuntu 22.04.2 LTS)x86_644.3.1 (2023-06-16) -- "Beagle Scouts" 4626
palomino3Windows Server 2022 Datacenterx644.3.1 (2023-06-16 ucrt) -- "Beagle Scouts" 4379
merida1macOS 12.6.4 Montereyx86_644.3.1 (2023-06-16) -- "Beagle Scouts" 4395
Click on any hostname to see more info about the system (e.g. compilers)      (*) as reported by 'uname -p', except on Windows and Mac OS X

All results for package edgeR


To the developers/maintainers of the edgeR package:
- Allow up to 24 hours (and sometimes 48 hours) for your latest push to git@git.bioconductor.org:packages/edgeR.git to reflect on this report. See Troubleshooting Build Report for more information.
- Use the following Renviron settings to reproduce errors and warnings.
- If 'R CMD check' started to fail recently on the Linux builder(s) over a missing dependency, add the missing dependency to 'Suggests:' in your DESCRIPTION file. See Renviron.bioc for more information.

raw results

Package 615/2230HostnameOS / ArchINSTALLBUILDCHECKBUILD BIN
edgeR 3.42.4  (landing page)
Yunshun Chen , Gordon Smyth , Aaron Lun , Mark Robinson
Snapshot Date: 2023-10-15 14:00:13 -0400 (Sun, 15 Oct 2023)
git_url: https://git.bioconductor.org/packages/edgeR
git_branch: RELEASE_3_17
git_last_commit: 63d1dc6
git_last_commit_date: 2023-05-31 08:47:25 -0400 (Wed, 31 May 2023)
nebbiolo1Linux (Ubuntu 22.04.2 LTS) / x86_64  OK    OK    OK  UNNEEDED, same version is already published
palomino3Windows Server 2022 Datacenter / x64  OK    OK    OK    OK  UNNEEDED, same version is already published
merida1macOS 12.6.4 Monterey / x86_64  OK    OK    OK    OK  UNNEEDED, same version is already published
kjohnson2macOS 12.6.1 Monterey / arm64see weekly results here

Results for Bioconductor software packages that depend directly on package edgeR

QUICK STATSOS / ArchINSTALLBUILDCHECKBUILD BIN
nebbiolo1Linux (Ubuntu 22.04.2 LTS) / x86_64
02111
05108
072279
palomino3Windows Server 2022 Datacenter / x64
01111
04108
102285
00108
merida1macOS 12.6.4 Monterey / x86_64
02111
18104
222179
00104
Package 1/113HostnameOS / ArchINSTALLBUILDCHECKBUILD BIN
affycoretools 1.72.0  (landing page)
James W. MacDonald
git_last_commit: 229ae09
git_last_commit_date: 2023-04-25 09:42:43 -0400
nebbiolo1Linux (Ubuntu 22.04.2 LTS) / x86_64  OK    OK    OK  UNNEEDED, same version is already published
palomino3Windows Server 2022 Datacenter / x64  OK    OK    OK    OK  UNNEEDED, same version is already published
merida1macOS 12.6.4 Monterey / x86_64  OK    OK    OK    OK  UNNEEDED, same version is already published
kjohnson2macOS 12.6.1 Monterey / arm64see weekly results here
Package 2/113HostnameOS / ArchINSTALLBUILDCHECKBUILD BIN
anota2seq 1.22.0  (landing page)
Christian Oertlin , Julie Lorent
git_last_commit: 079c8ea
git_last_commit_date: 2023-04-25 10:57:11 -0400
nebbiolo1Linux (Ubuntu 22.04.2 LTS) / x86_64  OK    OK    WARNINGS  UNNEEDED, same version is already published
palomino3Windows Server 2022 Datacenter / x64  OK    OK    OK    OK  UNNEEDED, same version is already published
merida1macOS 12.6.4 Monterey / x86_64  OK    OK    OK    OK  UNNEEDED, same version is already published
kjohnson2macOS 12.6.1 Monterey / arm64see weekly results here
Package 3/113HostnameOS / ArchINSTALLBUILDCHECKBUILD BIN
ArrayExpressHTS 1.50.0  (landing page)
Angela Goncalves , Andrew Tikhonov
git_last_commit: 7b79d4b
git_last_commit_date: 2023-04-25 10:19:47 -0400
nebbiolo1Linux (Ubuntu 22.04.2 LTS) / x86_64  ERROR    ERROR  skipped
palomino3Windows Server 2022 Datacenter / x64... NOT SUPPORTED ...
merida1macOS 12.6.4 Monterey / x86_64  ERROR    ERROR  skippedskipped
kjohnson2macOS 12.6.1 Monterey / arm64see weekly results here
Package 4/113HostnameOS / ArchINSTALLBUILDCHECKBUILD BIN
ASpli 2.10.0  (landing page)
Estefania Mancini
git_last_commit: 2686a85
git_last_commit_date: 2023-04-25 10:48:38 -0400
nebbiolo1Linux (Ubuntu 22.04.2 LTS) / x86_64  OK    OK    ERROR  
palomino3Windows Server 2022 Datacenter / x64  OK    OK    WARNINGS    OK  UNNEEDED, same version is already published
merida1macOS 12.6.4 Monterey / x86_64  OK    OK    WARNINGS    OK  UNNEEDED, same version is already published
kjohnson2macOS 12.6.1 Monterey / arm64see weekly results here
Package 5/113HostnameOS / ArchINSTALLBUILDCHECKBUILD BIN
ATACseqQC 1.24.0  (landing page)
Jianhong Ou
git_last_commit: 06d4227
git_last_commit_date: 2023-04-25 10:54:12 -0400
nebbiolo1Linux (Ubuntu 22.04.2 LTS) / x86_64  OK    OK    OK  UNNEEDED, same version is already published
palomino3Windows Server 2022 Datacenter / x64  OK    OK    OK    OK  UNNEEDED, same version is already published
merida1macOS 12.6.4 Monterey / x86_64  OK    OK    OK    OK  UNNEEDED, same version is already published
kjohnson2macOS 12.6.1 Monterey / arm64see weekly results here
Package 6/113HostnameOS / ArchINSTALLBUILDCHECKBUILD BIN
autonomics 1.8.0  (landing page)
Aditya Bhagwat
git_last_commit: d84d5f1
git_last_commit_date: 2023-04-25 11:27:21 -0400
nebbiolo1Linux (Ubuntu 22.04.2 LTS) / x86_64  OK    OK    WARNINGS  UNNEEDED, same version is already published
palomino3Windows Server 2022 Datacenter / x64  OK    OK    WARNINGS    OK  UNNEEDED, same version is already published
merida1macOS 12.6.4 Monterey / x86_64  OK    OK    WARNINGS    OK  UNNEEDED, same version is already published
kjohnson2macOS 12.6.1 Monterey / arm64see weekly results here
Package 7/113HostnameOS / ArchINSTALLBUILDCHECKBUILD BIN
AWFisher 1.14.0  (landing page)
Zhiguang Huo
git_last_commit: b479dbc
git_last_commit_date: 2023-04-25 11:11:11 -0400
nebbiolo1Linux (Ubuntu 22.04.2 LTS) / x86_64  OK    OK    OK  UNNEEDED, same version is already published
palomino3Windows Server 2022 Datacenter / x64  OK    OK    OK    OK  UNNEEDED, same version is already published
merida1macOS 12.6.4 Monterey / x86_64  OK    OK    OK    OK  UNNEEDED, same version is already published
kjohnson2macOS 12.6.1 Monterey / arm64see weekly results here
Package 8/113HostnameOS / ArchINSTALLBUILDCHECKBUILD BIN
baySeq 2.34.0  (landing page)
Thomas J. Hardcastle
git_last_commit: f4619cd
git_last_commit_date: 2023-04-25 09:49:38 -0400
nebbiolo1Linux (Ubuntu 22.04.2 LTS) / x86_64  OK    ERROR  skipped
palomino3Windows Server 2022 Datacenter / x64  OK    ERROR  skippedskipped
merida1macOS 12.6.4 Monterey / x86_64  OK    ERROR  skippedskipped
kjohnson2macOS 12.6.1 Monterey / arm64see weekly results here
Package 9/113HostnameOS / ArchINSTALLBUILDCHECKBUILD BIN
beer 1.4.0  (landing page)
Athena Chen
git_last_commit: e27fbaa
git_last_commit_date: 2023-04-25 11:35:55 -0400
nebbiolo1Linux (Ubuntu 22.04.2 LTS) / x86_64  OK    OK    OK  UNNEEDED, same version is already published
palomino3Windows Server 2022 Datacenter / x64  OK    OK    OK    OK  UNNEEDED, same version is already published
merida1macOS 12.6.4 Monterey / x86_64  OK    OK    OK    OK  UNNEEDED, same version is already published
kjohnson2macOS 12.6.1 Monterey / arm64see weekly results here
Package 10/113HostnameOS / ArchINSTALLBUILDCHECKBUILD BIN
benchdamic 1.6.4  (landing page)
Matteo Calgaro
git_last_commit: c9eb539
git_last_commit_date: 2023-07-22 05:17:46 -0400
nebbiolo1Linux (Ubuntu 22.04.2 LTS) / x86_64  OK    OK    OK  UNNEEDED, same version is already published
palomino3Windows Server 2022 Datacenter / x64  OK    OK    OK    OK  UNNEEDED, same version is already published
merida1macOS 12.6.4 Monterey / x86_64  OK    TIMEOUT  skippedskipped
kjohnson2macOS 12.6.1 Monterey / arm64see weekly results here
Package 11/113HostnameOS / ArchINSTALLBUILDCHECKBUILD BIN
BioQC 1.28.0  (landing page)
Jitao David Zhang
git_last_commit: 717b921
git_last_commit_date: 2023-04-25 10:42:59 -0400
nebbiolo1Linux (Ubuntu 22.04.2 LTS) / x86_64  OK    OK    OK  UNNEEDED, same version is already published
palomino3Windows Server 2022 Datacenter / x64  OK    OK    OK    OK  UNNEEDED, same version is already published
merida1macOS 12.6.4 Monterey / x86_64  OK    OK    OK    OK  UNNEEDED, same version is already published
kjohnson2macOS 12.6.1 Monterey / arm64see weekly results here
Package 12/113HostnameOS / ArchINSTALLBUILDCHECKBUILD BIN
censcyt 1.8.0  (landing page)
Reto Gerber
git_last_commit: 920e2a9
git_last_commit_date: 2023-04-25 11:25:31 -0400
nebbiolo1Linux (Ubuntu 22.04.2 LTS) / x86_64  OK    OK    OK  UNNEEDED, same version is already published
palomino3Windows Server 2022 Datacenter / x64  OK    OK    OK    OK  UNNEEDED, same version is already published
merida1macOS 12.6.4 Monterey / x86_64  OK    OK    OK    OK  UNNEEDED, same version is already published
kjohnson2macOS 12.6.1 Monterey / arm64see weekly results here
Package 13/113HostnameOS / ArchINSTALLBUILDCHECKBUILD BIN
ChromSCape 1.10.0  (landing page)
Pacome Prompsy
git_last_commit: 541e6b7
git_last_commit_date: 2023-04-25 11:23:20 -0400
nebbiolo1Linux (Ubuntu 22.04.2 LTS) / x86_64  OK    OK    WARNINGS  UNNEEDED, same version is already published
palomino3Windows Server 2022 Datacenter / x64  OK    OK    WARNINGS    OK  UNNEEDED, same version is already published
merida1macOS 12.6.4 Monterey / x86_64  OK    OK    WARNINGS    OK  UNNEEDED, same version is already published
kjohnson2macOS 12.6.1 Monterey / arm64see weekly results here
Package 14/113HostnameOS / ArchINSTALLBUILDCHECKBUILD BIN
circRNAprofiler 1.14.0  (landing page)
Simona Aufiero
git_last_commit: 1ddc8f7
git_last_commit_date: 2023-04-25 11:11:15 -0400
nebbiolo1Linux (Ubuntu 22.04.2 LTS) / x86_64  OK    OK    OK  UNNEEDED, same version is already published
palomino3Windows Server 2022 Datacenter / x64  OK    OK    OK    OK  UNNEEDED, same version is already published
merida1macOS 12.6.4 Monterey / x86_64  OK    OK    OK    OK  UNNEEDED, same version is already published
kjohnson2macOS 12.6.1 Monterey / arm64see weekly results here
Package 15/113HostnameOS / ArchINSTALLBUILDCHECKBUILD BIN
clusterExperiment 2.20.0  (landing page)
Elizabeth Purdom
git_last_commit: 1b8f9ba
git_last_commit_date: 2023-04-25 10:48:04 -0400
nebbiolo1Linux (Ubuntu 22.04.2 LTS) / x86_64  OK    OK    WARNINGS  UNNEEDED, same version is already published
palomino3Windows Server 2022 Datacenter / x64  OK    OK    WARNINGS    OK  UNNEEDED, same version is already published
merida1macOS 12.6.4 Monterey / x86_64  OK    OK    TIMEOUT    OK  
kjohnson2macOS 12.6.1 Monterey / arm64see weekly results here
Package 16/113HostnameOS / ArchINSTALLBUILDCHECKBUILD BIN
CNVRanger 1.16.5  (landing page)
Ludwig Geistlinger
git_last_commit: ed4f683
git_last_commit_date: 2023-07-29 23:47:52 -0400
nebbiolo1Linux (Ubuntu 22.04.2 LTS) / x86_64  OK    OK    OK  UNNEEDED, same version is already published
palomino3Windows Server 2022 Datacenter / x64  OK    OK    OK    OK  UNNEEDED, same version is already published
merida1macOS 12.6.4 Monterey / x86_64  OK    OK    OK    OK  UNNEEDED, same version is already published
kjohnson2macOS 12.6.1 Monterey / arm64see weekly results here
Package 17/113HostnameOS / ArchINSTALLBUILDCHECKBUILD BIN
compcodeR 1.36.2  (landing page)
Charlotte Soneson
git_last_commit: 5d5855a
git_last_commit_date: 2023-07-03 10:23:42 -0400
nebbiolo1Linux (Ubuntu 22.04.2 LTS) / x86_64  OK    OK    OK  UNNEEDED, same version is already published
palomino3Windows Server 2022 Datacenter / x64  OK    OK    OK    OK  UNNEEDED, same version is already published
merida1macOS 12.6.4 Monterey / x86_64  OK    OK    OK    OK  UNNEEDED, same version is already published
kjohnson2macOS 12.6.1 Monterey / arm64see weekly results here
Package 18/113HostnameOS / ArchINSTALLBUILDCHECKBUILD BIN
consensusDE 1.18.0  (landing page)
Ashley J. Waardenberg
git_last_commit: 58c20f9
git_last_commit_date: 2023-04-25 11:05:52 -0400
nebbiolo1Linux (Ubuntu 22.04.2 LTS) / x86_64  OK    OK    OK  UNNEEDED, same version is already published
palomino3Windows Server 2022 Datacenter / x64  OK    OK    OK    OK  UNNEEDED, same version is already published
merida1macOS 12.6.4 Monterey / x86_64  OK    OK    OK    OK  UNNEEDED, same version is already published
kjohnson2macOS 12.6.1 Monterey / arm64see weekly results here
Package 19/113HostnameOS / ArchINSTALLBUILDCHECKBUILD BIN
coseq 1.24.0  (landing page)
Andrea Rau
git_last_commit: 035b865
git_last_commit_date: 2023-04-25 10:51:51 -0400
nebbiolo1Linux (Ubuntu 22.04.2 LTS) / x86_64  OK    OK    OK  UNNEEDED, same version is already published
palomino3Windows Server 2022 Datacenter / x64  OK    OK    OK    OK  UNNEEDED, same version is already published
merida1macOS 12.6.4 Monterey / x86_64  OK    OK    OK    OK  UNNEEDED, same version is already published
kjohnson2macOS 12.6.1 Monterey / arm64see weekly results here
Package 20/113HostnameOS / ArchINSTALLBUILDCHECKBUILD BIN
countsimQC 1.18.0  (landing page)
Charlotte Soneson
git_last_commit: d9cb2ca
git_last_commit_date: 2023-04-25 11:04:51 -0400
nebbiolo1Linux (Ubuntu 22.04.2 LTS) / x86_64  OK    OK    OK  UNNEEDED, same version is already published
palomino3Windows Server 2022 Datacenter / x64  OK    OK    OK    OK  UNNEEDED, same version is already published
merida1macOS 12.6.4 Monterey / x86_64  OK    OK    OK    OK  UNNEEDED, same version is already published
kjohnson2macOS 12.6.1 Monterey / arm64see weekly results here
Package 21/113HostnameOS / ArchINSTALLBUILDCHECKBUILD BIN
crossmeta 1.26.0  (landing page)
Alex Pickering
git_last_commit: b7438d5
git_last_commit_date: 2023-04-25 10:47:37 -0400
nebbiolo1Linux (Ubuntu 22.04.2 LTS) / x86_64  OK    OK    ERROR  
palomino3Windows Server 2022 Datacenter / x64  OK    OK    OK    OK  UNNEEDED, same version is already published
merida1macOS 12.6.4 Monterey / x86_64  OK    OK    OK    OK  UNNEEDED, same version is already published
kjohnson2macOS 12.6.1 Monterey / arm64see weekly results here
Package 22/113HostnameOS / ArchINSTALLBUILDCHECKBUILD BIN
csaw 1.34.0  (landing page)
Aaron Lun
git_last_commit: a93327e
git_last_commit_date: 2023-04-25 10:35:43 -0400
nebbiolo1Linux (Ubuntu 22.04.2 LTS) / x86_64  OK    OK    WARNINGS  UNNEEDED, same version is already published
palomino3Windows Server 2022 Datacenter / x64  OK    OK    WARNINGS    OK  UNNEEDED, same version is already published
merida1macOS 12.6.4 Monterey / x86_64  OK    OK    WARNINGS    OK  UNNEEDED, same version is already published
kjohnson2macOS 12.6.1 Monterey / arm64see weekly results here
Package 23/113HostnameOS / ArchINSTALLBUILDCHECKBUILD BIN
DaMiRseq 2.12.0  (landing page)
Mattia Chiesa
git_last_commit: 804cce9
git_last_commit_date: 2023-04-25 10:53:00 -0400
nebbiolo1Linux (Ubuntu 22.04.2 LTS) / x86_64  OK    OK    OK  UNNEEDED, same version is already published
palomino3Windows Server 2022 Datacenter / x64  OK    OK    OK    OK  UNNEEDED, same version is already published
merida1macOS 12.6.4 Monterey / x86_64  OK    OK    OK    OK  UNNEEDED, same version is already published
kjohnson2macOS 12.6.1 Monterey / arm64see weekly results here
Package 24/113HostnameOS / ArchINSTALLBUILDCHECKBUILD BIN
dce 1.8.2  (landing page)
Kim Philipp Jablonski
git_last_commit: 652a4f2
git_last_commit_date: 2023-07-12 03:56:14 -0400
nebbiolo1Linux (Ubuntu 22.04.2 LTS) / x86_64  OK    OK    OK  UNNEEDED, same version is already published
palomino3Windows Server 2022 Datacenter / x64  OK    OK    OK    OK  UNNEEDED, same version is already published
merida1macOS 12.6.4 Monterey / x86_64  OK    OK    OK    OK  UNNEEDED, same version is already published
kjohnson2macOS 12.6.1 Monterey / arm64see weekly results here
Package 25/113HostnameOS / ArchINSTALLBUILDCHECKBUILD BIN
debrowser 1.28.3  (landing page)
Alper Kucukural
git_last_commit: f25c541
git_last_commit_date: 2023-07-16 18:03:41 -0400
nebbiolo1Linux (Ubuntu 22.04.2 LTS) / x86_64  OK    OK    OK  UNNEEDED, same version is already published
palomino3Windows Server 2022 Datacenter / x64  OK    OK    OK    OK  UNNEEDED, same version is already published
merida1macOS 12.6.4 Monterey / x86_64  OK    OK    OK    OK  UNNEEDED, same version is already published
kjohnson2macOS 12.6.1 Monterey / arm64see weekly results here
Package 26/113HostnameOS / ArchINSTALLBUILDCHECKBUILD BIN
DEFormats 1.28.0  (landing page)
Andrzej Oleś
git_last_commit: 208c3aa
git_last_commit_date: 2023-04-25 10:45:38 -0400
nebbiolo1Linux (Ubuntu 22.04.2 LTS) / x86_64  OK    OK    OK  UNNEEDED, same version is already published
palomino3Windows Server 2022 Datacenter / x64  OK    OK    OK    OK  UNNEEDED, same version is already published
merida1macOS 12.6.4 Monterey / x86_64  OK    OK    OK    OK  UNNEEDED, same version is already published
kjohnson2macOS 12.6.1 Monterey / arm64see weekly results here
Package 27/113HostnameOS / ArchINSTALLBUILDCHECKBUILD BIN
DEGreport 1.36.0  (landing page)
Lorena Pantano
git_last_commit: 1aae69c
git_last_commit_date: 2023-04-25 10:32:39 -0400
nebbiolo1Linux (Ubuntu 22.04.2 LTS) / x86_64  OK    OK    WARNINGS  UNNEEDED, same version is already published
palomino3Windows Server 2022 Datacenter / x64  OK    OK    WARNINGS    OK  UNNEEDED, same version is already published
merida1macOS 12.6.4 Monterey / x86_64  OK    OK    WARNINGS    OK  UNNEEDED, same version is already published
kjohnson2macOS 12.6.1 Monterey / arm64see weekly results here
Package 28/113HostnameOS / ArchINSTALLBUILDCHECKBUILD BIN
DEsubs 1.26.0  (landing page)
Aristidis G. Vrahatis , Panos Balomenos
git_last_commit: 52fdb9e
git_last_commit_date: 2023-04-25 10:49:58 -0400
nebbiolo1Linux (Ubuntu 22.04.2 LTS) / x86_64  OK    OK    WARNINGS  UNNEEDED, same version is already published
palomino3Windows Server 2022 Datacenter / x64  OK    OK    WARNINGS    OK  UNNEEDED, same version is already published
merida1macOS 12.6.4 Monterey / x86_64  OK    OK    WARNINGS    OK  UNNEEDED, same version is already published
kjohnson2macOS 12.6.1 Monterey / arm64see weekly results here
Package 29/113HostnameOS / ArchINSTALLBUILDCHECKBUILD BIN
diffcyt 1.20.0  (landing page)
Lukas M. Weber
git_last_commit: 5495365
git_last_commit_date: 2023-04-25 11:00:44 -0400
nebbiolo1Linux (Ubuntu 22.04.2 LTS) / x86_64  OK    OK    OK  UNNEEDED, same version is already published
palomino3Windows Server 2022 Datacenter / x64  OK    OK    OK    OK  UNNEEDED, same version is already published
merida1macOS 12.6.4 Monterey / x86_64  OK    OK    OK    OK  UNNEEDED, same version is already published
kjohnson2macOS 12.6.1 Monterey / arm64see weekly results here
Package 30/113HostnameOS / ArchINSTALLBUILDCHECKBUILD BIN
diffHic 1.32.0  (landing page)
Aaron Lun
git_last_commit: 6c577d2
git_last_commit_date: 2023-04-25 10:39:29 -0400
nebbiolo1Linux (Ubuntu 22.04.2 LTS) / x86_64  OK    OK    WARNINGS  UNNEEDED, same version is already published
palomino3Windows Server 2022 Datacenter / x64  OK    OK    WARNINGS    OK  UNNEEDED, same version is already published
merida1macOS 12.6.4 Monterey / x86_64  OK    OK    WARNINGS    OK  UNNEEDED, same version is already published
kjohnson2macOS 12.6.1 Monterey / arm64see weekly results here
Package 31/113HostnameOS / ArchINSTALLBUILDCHECKBUILD BIN
diffUTR 1.8.0  (landing page)
Pierre-Luc Germain
git_last_commit: 740683a
git_last_commit_date: 2023-04-25 11:29:40 -0400
nebbiolo1Linux (Ubuntu 22.04.2 LTS) / x86_64  OK    OK    OK  UNNEEDED, same version is already published
palomino3Windows Server 2022 Datacenter / x64  OK    OK    OK    OK  UNNEEDED, same version is already published
merida1macOS 12.6.4 Monterey / x86_64  OK    OK    OK    OK  UNNEEDED, same version is already published
kjohnson2macOS 12.6.1 Monterey / arm64see weekly results here
Package 32/113HostnameOS / ArchINSTALLBUILDCHECKBUILD BIN
DMRcate 2.14.1  (landing page)
Tim Peters
git_last_commit: 06b0a3c
git_last_commit_date: 2023-07-28 03:37:58 -0400
nebbiolo1Linux (Ubuntu 22.04.2 LTS) / x86_64  OK    OK    ERROR  
palomino3Windows Server 2022 Datacenter / x64  OK    OK    TIMEOUT    OK  
merida1macOS 12.6.4 Monterey / x86_64  OK    OK    TIMEOUT    OK  
kjohnson2macOS 12.6.1 Monterey / arm64see weekly results here
Package 33/113HostnameOS / ArchINSTALLBUILDCHECKBUILD BIN
doseR 1.16.0  (landing page)
ake.vastermark
git_last_commit: 485b76f
git_last_commit_date: 2023-04-25 11:08:12 -0400
nebbiolo1Linux (Ubuntu 22.04.2 LTS) / x86_64  OK    OK    OK  UNNEEDED, same version is already published
palomino3Windows Server 2022 Datacenter / x64  OK    OK    OK    OK  UNNEEDED, same version is already published
merida1macOS 12.6.4 Monterey / x86_64  OK    OK    OK    OK  UNNEEDED, same version is already published
kjohnson2macOS 12.6.1 Monterey / arm64see weekly results here
Package 34/113HostnameOS / ArchINSTALLBUILDCHECKBUILD BIN
DRIMSeq 1.28.0  (landing page)
Malgorzata Nowicka
git_last_commit: 83a8b21
git_last_commit_date: 2023-04-25 10:45:22 -0400
nebbiolo1Linux (Ubuntu 22.04.2 LTS) / x86_64  OK    OK    WARNINGS  UNNEEDED, same version is already published
palomino3Windows Server 2022 Datacenter / x64  OK    OK    WARNINGS    OK  UNNEEDED, same version is already published
merida1macOS 12.6.4 Monterey / x86_64  OK    OK    WARNINGS    OK  UNNEEDED, same version is already published
kjohnson2macOS 12.6.1 Monterey / arm64see weekly results here
Package 35/113HostnameOS / ArchINSTALLBUILDCHECKBUILD BIN
DropletUtils 1.20.0  (landing page)
Jonathan Griffiths
git_last_commit: 855762f
git_last_commit_date: 2023-04-25 10:58:49 -0400
nebbiolo1Linux (Ubuntu 22.04.2 LTS) / x86_64  OK    OK    WARNINGS  UNNEEDED, same version is already published
palomino3Windows Server 2022 Datacenter / x64  OK    OK    OK    OK  UNNEEDED, same version is already published
merida1macOS 12.6.4 Monterey / x86_64  OK    OK    WARNINGS    OK  UNNEEDED, same version is already published
kjohnson2macOS 12.6.1 Monterey / arm64see weekly results here
Package 36/113HostnameOS / ArchINSTALLBUILDCHECKBUILD BIN
easyRNASeq 2.36.0  (landing page)
Nicolas Delhomme
git_last_commit: e5e1842
git_last_commit_date: 2023-04-25 10:22:04 -0400
nebbiolo1Linux (Ubuntu 22.04.2 LTS) / x86_64  OK    OK    OK  UNNEEDED, same version is already published
palomino3Windows Server 2022 Datacenter / x64  OK    OK    OK    OK  UNNEEDED, same version is already published
merida1macOS 12.6.4 Monterey / x86_64  OK    OK    OK    OK  UNNEEDED, same version is already published
kjohnson2macOS 12.6.1 Monterey / arm64see weekly results here
Package 37/113HostnameOS / ArchINSTALLBUILDCHECKBUILD BIN
eegc 1.26.0  (landing page)
Xiaoyuan Zhou
git_last_commit: beea790
git_last_commit_date: 2023-04-25 10:49:11 -0400
nebbiolo1Linux (Ubuntu 22.04.2 LTS) / x86_64  OK    OK    ERROR  
palomino3Windows Server 2022 Datacenter / x64  OK    OK    WARNINGS    OK  UNNEEDED, same version is already published
merida1macOS 12.6.4 Monterey / x86_64  OK    OK    ERROR    OK  
kjohnson2macOS 12.6.1 Monterey / arm64see weekly results here
Package 38/113HostnameOS / ArchINSTALLBUILDCHECKBUILD BIN
EGSEA 1.28.0  (landing page)
Monther Alhamdoosh
git_last_commit: b8c1a62
git_last_commit_date: 2023-04-25 10:46:53 -0400
nebbiolo1Linux (Ubuntu 22.04.2 LTS) / x86_64  OK    OK    ERROR  
palomino3Windows Server 2022 Datacenter / x64  OK    OK    WARNINGS    OK  UNNEEDED, same version is already published
merida1macOS 12.6.4 Monterey / x86_64  OK    OK    WARNINGS    OK  UNNEEDED, same version is already published
kjohnson2macOS 12.6.1 Monterey / arm64see weekly results here
Package 39/113HostnameOS / ArchINSTALLBUILDCHECKBUILD BIN
eisaR 1.12.0  (landing page)
Michael Stadler
git_last_commit: a520f29
git_last_commit_date: 2023-04-25 11:16:12 -0400
nebbiolo1Linux (Ubuntu 22.04.2 LTS) / x86_64  OK    OK    OK  UNNEEDED, same version is already published
palomino3Windows Server 2022 Datacenter / x64  OK    OK    OK    OK  UNNEEDED, same version is already published
merida1macOS 12.6.4 Monterey / x86_64  OK    OK    OK    OK  UNNEEDED, same version is already published
kjohnson2macOS 12.6.1 Monterey / arm64see weekly results here
Package 40/113HostnameOS / ArchINSTALLBUILDCHECKBUILD BIN
EnrichmentBrowser 2.30.2  (landing page)
Ludwig Geistlinger
git_last_commit: ec62d66
git_last_commit_date: 2023-07-29 23:17:28 -0400
nebbiolo1Linux (Ubuntu 22.04.2 LTS) / x86_64  OK    OK    OK  UNNEEDED, same version is already published
palomino3Windows Server 2022 Datacenter / x64  OK    OK    OK    OK  UNNEEDED, same version is already published
merida1macOS 12.6.4 Monterey / x86_64  OK    OK    ERROR    OK  
kjohnson2macOS 12.6.1 Monterey / arm64see weekly results here
Package 41/113HostnameOS / ArchINSTALLBUILDCHECKBUILD BIN
erccdashboard 1.34.0  (landing page)
Sarah Munro
git_last_commit: 0977013
git_last_commit_date: 2023-04-25 10:34:01 -0400
nebbiolo1Linux (Ubuntu 22.04.2 LTS) / x86_64  OK    OK    OK  UNNEEDED, same version is already published
palomino3Windows Server 2022 Datacenter / x64  OK    OK    OK    OK  UNNEEDED, same version is already published
merida1macOS 12.6.4 Monterey / x86_64  OK    OK    OK    OK  UNNEEDED, same version is already published
kjohnson2macOS 12.6.1 Monterey / arm64see weekly results here
Package 42/113HostnameOS / ArchINSTALLBUILDCHECKBUILD BIN
ERSSA 1.18.0  (landing page)
Zixuan Shao
git_last_commit: dd65dd6
git_last_commit_date: 2023-04-25 11:04:32 -0400
nebbiolo1Linux (Ubuntu 22.04.2 LTS) / x86_64  OK    OK    ERROR  
palomino3Windows Server 2022 Datacenter / x64  OK    OK    OK    OK  UNNEEDED, same version is already published
merida1macOS 12.6.4 Monterey / x86_64  OK    OK    OK    OK  UNNEEDED, same version is already published
kjohnson2macOS 12.6.1 Monterey / arm64see weekly results here
Package 43/113HostnameOS / ArchINSTALLBUILDCHECKBUILD BIN
extraChIPs 1.4.6  (landing page)
Stephen Pederson
git_last_commit: 099625f
git_last_commit_date: 2023-07-08 04:51:32 -0400
nebbiolo1Linux (Ubuntu 22.04.2 LTS) / x86_64  OK    OK    OK  UNNEEDED, same version is already published
palomino3Windows Server 2022 Datacenter / x64  OK    OK    OK    OK  UNNEEDED, same version is already published
merida1macOS 12.6.4 Monterey / x86_64  OK    OK    OK    OK  UNNEEDED, same version is already published
kjohnson2macOS 12.6.1 Monterey / arm64see weekly results here
Package 44/113HostnameOS / ArchINSTALLBUILDCHECKBUILD BIN
GDCRNATools 1.20.1  (landing page)
Ruidong Li
git_last_commit: 6a625df
git_last_commit_date: 2023-09-10 18:30:51 -0400
nebbiolo1Linux (Ubuntu 22.04.2 LTS) / x86_64  OK    OK    OK  UNNEEDED, same version is already published
palomino3Windows Server 2022 Datacenter / x64  OK    OK    OK    OK  UNNEEDED, same version is already published
merida1macOS 12.6.4 Monterey / x86_64  OK    OK    OK    OK  UNNEEDED, same version is already published
kjohnson2macOS 12.6.1 Monterey / arm64see weekly results here
Package 45/113HostnameOS / ArchINSTALLBUILDCHECKBUILD BIN
Glimma 2.10.0  (landing page)
Shian Su
git_last_commit: ea12576
git_last_commit_date: 2023-04-25 10:46:07 -0400
nebbiolo1Linux (Ubuntu 22.04.2 LTS) / x86_64  OK    OK    OK  UNNEEDED, same version is already published
palomino3Windows Server 2022 Datacenter / x64  OK    OK    OK    OK  UNNEEDED, same version is already published
merida1macOS 12.6.4 Monterey / x86_64  OK    OK    OK    OK  UNNEEDED, same version is already published
kjohnson2macOS 12.6.1 Monterey / arm64see weekly results here
Package 46/113HostnameOS / ArchINSTALLBUILDCHECKBUILD BIN
GSEABenchmarkeR 1.20.1  (landing page)
Ludwig Geistlinger
git_last_commit: cf85c93
git_last_commit_date: 2023-07-30 15:12:16 -0400
nebbiolo1Linux (Ubuntu 22.04.2 LTS) / x86_64  OK    OK    OK  UNNEEDED, same version is already published
palomino3Windows Server 2022 Datacenter / x64  OK    OK    OK    OK  UNNEEDED, same version is already published
merida1macOS 12.6.4 Monterey / x86_64  OK    OK    OK    OK  UNNEEDED, same version is already published
kjohnson2macOS 12.6.1 Monterey / arm64see weekly results here
Package 47/113HostnameOS / ArchINSTALLBUILDCHECKBUILD BIN
hermes 1.4.0  (landing page)
Daniel Sabanés Bové
git_last_commit: 66d78db
git_last_commit_date: 2023-04-25 11:35:06 -0400
nebbiolo1Linux (Ubuntu 22.04.2 LTS) / x86_64  OK    OK    OK  UNNEEDED, same version is already published
palomino3Windows Server 2022 Datacenter / x64  OK    OK    OK    OK  UNNEEDED, same version is already published
merida1macOS 12.6.4 Monterey / x86_64  OK    OK    OK    OK  UNNEEDED, same version is already published
kjohnson2macOS 12.6.1 Monterey / arm64see weekly results here
Package 48/113HostnameOS / ArchINSTALLBUILDCHECKBUILD BIN
HTSFilter 1.40.0  (landing page)
Andrea Rau
git_last_commit: ad8d16f
git_last_commit_date: 2023-04-25 10:25:37 -0400
nebbiolo1Linux (Ubuntu 22.04.2 LTS) / x86_64  OK    OK    OK  UNNEEDED, same version is already published
palomino3Windows Server 2022 Datacenter / x64  OK    OK    OK    OK  UNNEEDED, same version is already published
merida1macOS 12.6.4 Monterey / x86_64  OK    OK    OK    OK  UNNEEDED, same version is already published
kjohnson2macOS 12.6.1 Monterey / arm64see weekly results here
Package 49/113HostnameOS / ArchINSTALLBUILDCHECKBUILD BIN
icetea 1.18.1  (landing page)
Vivek Bhardwaj
git_last_commit: 234416f
git_last_commit_date: 2023-06-27 10:02:59 -0400
nebbiolo1Linux (Ubuntu 22.04.2 LTS) / x86_64  OK    OK    WARNINGS  UNNEEDED, same version is already published
palomino3Windows Server 2022 Datacenter / x64  OK    OK    WARNINGS    OK  UNNEEDED, same version is already published
merida1macOS 12.6.4 Monterey / x86_64  OK    OK    WARNINGS    OK  UNNEEDED, same version is already published
kjohnson2macOS 12.6.1 Monterey / arm64see weekly results here
Package 50/113HostnameOS / ArchINSTALLBUILDCHECKBUILD BIN
infercnv 1.16.0  (landing page)
Christophe Georgescu
git_last_commit: 2d89064
git_last_commit_date: 2023-04-25 11:10:15 -0400
nebbiolo1Linux (Ubuntu 22.04.2 LTS) / x86_64  OK    OK    OK  UNNEEDED, same version is already published
palomino3Windows Server 2022 Datacenter / x64  OK    OK    OK    OK  UNNEEDED, same version is already published
merida1macOS 12.6.4 Monterey / x86_64  OK    OK    OK    OK  UNNEEDED, same version is already published
kjohnson2macOS 12.6.1 Monterey / arm64see weekly results here
Package 51/113HostnameOS / ArchINSTALLBUILDCHECKBUILD BIN
IntEREst 1.24.0  (landing page)
Ali Oghabian , Mikko Frilander
git_last_commit: 6d87a26
git_last_commit_date: 2023-04-25 10:52:53 -0400
nebbiolo1Linux (Ubuntu 22.04.2 LTS) / x86_64  OK    OK    OK  UNNEEDED, same version is already published
palomino3Windows Server 2022 Datacenter / x64  OK    OK    OK    OK  UNNEEDED, same version is already published
merida1macOS 12.6.4 Monterey / x86_64  OK    OK    OK    OK  UNNEEDED, same version is already published
kjohnson2macOS 12.6.1 Monterey / arm64see weekly results here
Package 52/113HostnameOS / ArchINSTALLBUILDCHECKBUILD BIN
IsoformSwitchAnalyzeR 2.0.1  (landing page)
Kristoffer Vitting-Seerup
git_last_commit: c946bb6
git_last_commit_date: 2023-06-27 09:57:00 -0400
nebbiolo1Linux (Ubuntu 22.04.2 LTS) / x86_64  OK    OK    OK  UNNEEDED, same version is already published
palomino3Windows Server 2022 Datacenter / x64  OK    OK    OK    OK  UNNEEDED, same version is already published
merida1macOS 12.6.4 Monterey / x86_64  OK    OK    OK    OK  UNNEEDED, same version is already published
kjohnson2macOS 12.6.1 Monterey / arm64see weekly results here
Package 53/113HostnameOS / ArchINSTALLBUILDCHECKBUILD BIN
KnowSeq 1.14.1  (landing page)
Daniel Castillo-Secilla
git_last_commit: d6a2c52
git_last_commit_date: 2023-07-19 14:24:10 -0400
nebbiolo1Linux (Ubuntu 22.04.2 LTS) / x86_64  OK    OK    OK  UNNEEDED, same version is already published
palomino3Windows Server 2022 Datacenter / x64  OK    OK    OK    OK  UNNEEDED, same version is already published
merida1macOS 12.6.4 Monterey / x86_64  OK    OK    OK    OK  UNNEEDED, same version is already published
kjohnson2macOS 12.6.1 Monterey / arm64see weekly results here
Package 54/113HostnameOS / ArchINSTALLBUILDCHECKBUILD BIN
Maaslin2 1.14.1  (landing page)
Lauren McIver
git_last_commit: cec4c89
git_last_commit_date: 2023-06-08 11:22:17 -0400
nebbiolo1Linux (Ubuntu 22.04.2 LTS) / x86_64  OK    OK    OK  UNNEEDED, same version is already published
palomino3Windows Server 2022 Datacenter / x64  OK    OK    OK    OK  UNNEEDED, same version is already published
merida1macOS 12.6.4 Monterey / x86_64  OK    OK    OK    OK  UNNEEDED, same version is already published
kjohnson2macOS 12.6.1 Monterey / arm64see weekly results here
Package 55/113HostnameOS / ArchINSTALLBUILDCHECKBUILD BIN
mastR 1.0.0  (landing page)
Jinjin Chen
git_last_commit: 78310f8
git_last_commit_date: 2023-04-25 11:44:26 -0400
nebbiolo1Linux (Ubuntu 22.04.2 LTS) / x86_64  OK    OK    OK  UNNEEDED, same version is already published
palomino3Windows Server 2022 Datacenter / x64  OK    OK    OK    OK  UNNEEDED, same version is already published
merida1macOS 12.6.4 Monterey / x86_64  OK    OK    OK    OK  UNNEEDED, same version is already published
kjohnson2macOS 12.6.1 Monterey / arm64see weekly results here
Package 56/113HostnameOS / ArchINSTALLBUILDCHECKBUILD BIN
MEB 1.14.0  (landing page)
Jiadi Zhu
git_last_commit: 48db596
git_last_commit_date: 2023-04-25 11:12:41 -0400
nebbiolo1Linux (Ubuntu 22.04.2 LTS) / x86_64  OK    OK    OK  UNNEEDED, same version is already published
palomino3Windows Server 2022 Datacenter / x64  OK    OK    OK    OK  UNNEEDED, same version is already published
merida1macOS 12.6.4 Monterey / x86_64  OK    OK    OK    OK  UNNEEDED, same version is already published
kjohnson2macOS 12.6.1 Monterey / arm64see weekly results here
Package 57/113HostnameOS / ArchINSTALLBUILDCHECKBUILD BIN
MEDIPS 1.52.0  (landing page)
Lukas Chavez
git_last_commit: 435df87
git_last_commit_date: 2023-04-25 10:18:20 -0400
nebbiolo1Linux (Ubuntu 22.04.2 LTS) / x86_64  OK    OK    OK  UNNEEDED, same version is already published
palomino3Windows Server 2022 Datacenter / x64  OK    OK    OK    OK  UNNEEDED, same version is already published
merida1macOS 12.6.4 Monterey / x86_64  OK    OK    OK    OK  UNNEEDED, same version is already published
kjohnson2macOS 12.6.1 Monterey / arm64see weekly results here
Package 58/113HostnameOS / ArchINSTALLBUILDCHECKBUILD BIN
metaseqR2 1.12.0  (landing page)
Panagiotis Moulos
git_last_commit: c37a5a4
git_last_commit_date: 2023-04-25 11:18:06 -0400
nebbiolo1Linux (Ubuntu 22.04.2 LTS) / x86_64  OK    OK    OK  NO, package depends on 'baySeq' which is not available
palomino3Windows Server 2022 Datacenter / x64  OK    OK    OK    OK  NO, package depends on 'baySeq' which is not available
merida1macOS 12.6.4 Monterey / x86_64  OK    OK    OK    OK  NO, package depends on 'baySeq' which is not available
kjohnson2macOS 12.6.1 Monterey / arm64see weekly results here
Package 59/113HostnameOS / ArchINSTALLBUILDCHECKBUILD BIN
methylMnM 1.38.0  (landing page)
Yan Zhou
git_last_commit: 408e650
git_last_commit_date: 2023-04-25 10:29:09 -0400
nebbiolo1Linux (Ubuntu 22.04.2 LTS) / x86_64  OK    OK    OK  UNNEEDED, same version is already published
palomino3Windows Server 2022 Datacenter / x64  OK    OK    OK    OK  UNNEEDED, same version is already published
merida1macOS 12.6.4 Monterey / x86_64  OK    OK    OK    OK  UNNEEDED, same version is already published
kjohnson2macOS 12.6.1 Monterey / arm64see weekly results here
Package 60/113HostnameOS / ArchINSTALLBUILDCHECKBUILD BIN
microbiomeMarker 1.6.0  (landing page)
Yang Cao
git_last_commit: 63594b2
git_last_commit_date: 2023-04-25 11:33:28 -0400
nebbiolo1Linux (Ubuntu 22.04.2 LTS) / x86_64  OK    OK    OK  UNNEEDED, same version is already published
palomino3Windows Server 2022 Datacenter / x64  OK    OK    OK    OK  UNNEEDED, same version is already published
merida1macOS 12.6.4 Monterey / x86_64  OK    OK    OK    OK  UNNEEDED, same version is already published
kjohnson2macOS 12.6.1 Monterey / arm64see weekly results here
Package 61/113HostnameOS / ArchINSTALLBUILDCHECKBUILD BIN
MIGSA 1.24.0  (landing page)
Juan C. Rodriguez
git_last_commit: 761b335
git_last_commit_date: 2023-04-25 10:52:42 -0400
nebbiolo1Linux (Ubuntu 22.04.2 LTS) / x86_64  OK    ERROR  skipped
palomino3Windows Server 2022 Datacenter / x64  OK    ERROR  skippedskipped
merida1macOS 12.6.4 Monterey / x86_64  OK    ERROR  skippedskipped
kjohnson2macOS 12.6.1 Monterey / arm64see weekly results here
Package 62/113HostnameOS / ArchINSTALLBUILDCHECKBUILD BIN
miloR 1.8.1  (landing page)
Mike Morgan
git_last_commit: 493ab6a
git_last_commit_date: 2023-04-25 12:48:32 -0400
nebbiolo1Linux (Ubuntu 22.04.2 LTS) / x86_64  OK    OK    OK  UNNEEDED, same version is already published
palomino3Windows Server 2022 Datacenter / x64  OK    OK    OK    OK  UNNEEDED, same version is already published
merida1macOS 12.6.4 Monterey / x86_64  OK    OK    OK    OK  UNNEEDED, same version is already published
kjohnson2macOS 12.6.1 Monterey / arm64see weekly results here
Package 63/113HostnameOS / ArchINSTALLBUILDCHECKBUILD BIN
MLSeq 2.18.0  (landing page)
Gokmen Zararsiz
git_last_commit: d03ff50
git_last_commit_date: 2023-04-25 10:30:52 -0400
nebbiolo1Linux (Ubuntu 22.04.2 LTS) / x86_64  OK    OK    OK  UNNEEDED, same version is already published
palomino3Windows Server 2022 Datacenter / x64  OK    OK    OK    OK  UNNEEDED, same version is already published
merida1macOS 12.6.4 Monterey / x86_64  OK    OK    OK    OK  UNNEEDED, same version is already published
kjohnson2macOS 12.6.1 Monterey / arm64see weekly results here
Package 64/113HostnameOS / ArchINSTALLBUILDCHECKBUILD BIN
moanin 1.8.0  (landing page)
Nelle Varoquaux
git_last_commit: 47c3e59
git_last_commit_date: 2023-04-25 11:25:02 -0400
nebbiolo1Linux (Ubuntu 22.04.2 LTS) / x86_64  OK    OK    OK  UNNEEDED, same version is already published
palomino3Windows Server 2022 Datacenter / x64  OK    OK    OK    OK  UNNEEDED, same version is already published
merida1macOS 12.6.4 Monterey / x86_64  OK    OK    OK    OK  UNNEEDED, same version is already published
kjohnson2macOS 12.6.1 Monterey / arm64see weekly results here
Package 65/113HostnameOS / ArchINSTALLBUILDCHECKBUILD BIN
Motif2Site 1.4.0  (landing page)
Peyman Zarrineh
git_last_commit: 6d3a455
git_last_commit_date: 2023-04-25 11:36:00 -0400
nebbiolo1Linux (Ubuntu 22.04.2 LTS) / x86_64  OK    OK    OK  UNNEEDED, same version is already published
palomino3Windows Server 2022 Datacenter / x64  OK    OK    OK    OK  UNNEEDED, same version is already published
merida1macOS 12.6.4 Monterey / x86_64  OK    OK    OK    OK  UNNEEDED, same version is already published
kjohnson2macOS 12.6.1 Monterey / arm64see weekly results here
Package 66/113HostnameOS / ArchINSTALLBUILDCHECKBUILD BIN
msgbsR 1.24.0  (landing page)
Benjamin Mayne
git_last_commit: c8508d3
git_last_commit_date: 2023-04-25 10:54:20 -0400
nebbiolo1Linux (Ubuntu 22.04.2 LTS) / x86_64  OK    OK    OK  UNNEEDED, same version is already published
palomino3Windows Server 2022 Datacenter / x64  OK    OK    OK    OK  UNNEEDED, same version is already published
merida1macOS 12.6.4 Monterey / x86_64  OK    OK    OK    OK  UNNEEDED, same version is already published
kjohnson2macOS 12.6.1 Monterey / arm64see weekly results here
Package 67/113HostnameOS / ArchINSTALLBUILDCHECKBUILD BIN
msmsTests 1.38.0  (landing page)
Josep Gregori i Font
git_last_commit: e3dffc3
git_last_commit_date: 2023-04-25 10:28:05 -0400
nebbiolo1Linux (Ubuntu 22.04.2 LTS) / x86_64  OK    OK    WARNINGS  UNNEEDED, same version is already published
palomino3Windows Server 2022 Datacenter / x64  OK    OK    OK    OK  UNNEEDED, same version is already published
merida1macOS 12.6.4 Monterey / x86_64  OK    OK    OK    OK  UNNEEDED, same version is already published
kjohnson2macOS 12.6.1 Monterey / arm64see weekly results here
Package 68/113HostnameOS / ArchINSTALLBUILDCHECKBUILD BIN
multiHiCcompare 1.18.1  (landing page)
Mikhail Dozmorov
git_last_commit: b295eb4
git_last_commit_date: 2023-07-01 21:55:38 -0400
nebbiolo1Linux (Ubuntu 22.04.2 LTS) / x86_64  OK    OK    OK  UNNEEDED, same version is already published
palomino3Windows Server 2022 Datacenter / x64  OK    OK    OK    OK  UNNEEDED, same version is already published
merida1macOS 12.6.4 Monterey / x86_64  OK    OK    OK    OK  UNNEEDED, same version is already published
kjohnson2macOS 12.6.1 Monterey / arm64see weekly results here
Package 69/113HostnameOS / ArchINSTALLBUILDCHECKBUILD BIN
muscat 1.14.0  (landing page)
Helena L. Crowell
git_last_commit: 2f8d169
git_last_commit_date: 2023-04-25 11:12:01 -0400
nebbiolo1Linux (Ubuntu 22.04.2 LTS) / x86_64  OK    OK    OK  UNNEEDED, same version is already published
palomino3Windows Server 2022 Datacenter / x64  OK    OK    OK    OK  UNNEEDED, same version is already published
merida1macOS 12.6.4 Monterey / x86_64  OK    OK    OK    OK  UNNEEDED, same version is already published
kjohnson2macOS 12.6.1 Monterey / arm64see weekly results here
Package 70/113HostnameOS / ArchINSTALLBUILDCHECKBUILD BIN
NBSplice 1.18.0  (landing page)
Gabriela Merino
git_last_commit: d1a00dc
git_last_commit_date: 2023-04-25 11:03:04 -0400
nebbiolo1Linux (Ubuntu 22.04.2 LTS) / x86_64  ERROR    ERROR  skipped
palomino3Windows Server 2022 Datacenter / x64  ERROR    ERROR  skippedskipped
merida1macOS 12.6.4 Monterey / x86_64  ERROR    ERROR  skippedskipped
kjohnson2macOS 12.6.1 Monterey / arm64see weekly results here
Package 71/113HostnameOS / ArchINSTALLBUILDCHECKBUILD BIN
octad 1.2.0  (landing page)
E. Chekalin
git_last_commit: b8d75bb
git_last_commit_date: 2023-04-25 11:41:23 -0400
nebbiolo1Linux (Ubuntu 22.04.2 LTS) / x86_64  OK    OK    ERROR  
palomino3Windows Server 2022 Datacenter / x64  OK    OK    OK    OK  UNNEEDED, same version is already published
merida1macOS 12.6.4 Monterey / x86_64  OK    OK    OK    OK  UNNEEDED, same version is already published
kjohnson2macOS 12.6.1 Monterey / arm64see weekly results here
Package 72/113HostnameOS / ArchINSTALLBUILDCHECKBUILD BIN
PathoStat 1.26.0  (landing page)
Solaiappan Manimaran
git_last_commit: 211c7bb
git_last_commit_date: 2023-04-25 10:50:17 -0400
nebbiolo1Linux (Ubuntu 22.04.2 LTS) / x86_64  OK    OK    OK  UNNEEDED, same version is already published
palomino3Windows Server 2022 Datacenter / x64  OK    OK    OK    OK  UNNEEDED, same version is already published
merida1macOS 12.6.4 Monterey / x86_64  OK    OK    OK    OK  UNNEEDED, same version is already published
kjohnson2macOS 12.6.1 Monterey / arm64see weekly results here
Package 73/113HostnameOS / ArchINSTALLBUILDCHECKBUILD BIN
PhIPData 1.8.0  (landing page)
Athena Chen
git_last_commit: a9ab936
git_last_commit_date: 2023-04-25 11:27:16 -0400
nebbiolo1Linux (Ubuntu 22.04.2 LTS) / x86_64  OK    OK    OK  UNNEEDED, same version is already published
palomino3Windows Server 2022 Datacenter / x64  OK    OK    OK    OK  UNNEEDED, same version is already published
merida1macOS 12.6.4 Monterey / x86_64  OK    ERROR  skippedskipped
kjohnson2macOS 12.6.1 Monterey / arm64see weekly results here
Package 74/113HostnameOS / ArchINSTALLBUILDCHECKBUILD BIN
ppcseq 1.8.1  (landing page)
Stefano Mangiola
git_last_commit: 0a68deb
git_last_commit_date: 2023-07-28 02:49:15 -0400
nebbiolo1Linux (Ubuntu 22.04.2 LTS) / x86_64  OK    OK    OK  UNNEEDED, same version is already published
palomino3Windows Server 2022 Datacenter / x64  OK    OK    OK    OK  UNNEEDED, same version is already published
merida1macOS 12.6.4 Monterey / x86_64  OK    OK    OK    OK  UNNEEDED, same version is already published
kjohnson2macOS 12.6.1 Monterey / arm64see weekly results here
Package 75/113HostnameOS / ArchINSTALLBUILDCHECKBUILD BIN
PROPER 1.32.0  (landing page)
Hao Wu
git_last_commit: ddf4456
git_last_commit_date: 2023-04-25 10:36:52 -0400
nebbiolo1Linux (Ubuntu 22.04.2 LTS) / x86_64  OK    OK    WARNINGS  UNNEEDED, same version is already published
palomino3Windows Server 2022 Datacenter / x64  OK    OK    WARNINGS    OK  UNNEEDED, same version is already published
merida1macOS 12.6.4 Monterey / x86_64  OK    OK    WARNINGS    OK  UNNEEDED, same version is already published
kjohnson2macOS 12.6.1 Monterey / arm64see weekly results here
Package 76/113HostnameOS / ArchINSTALLBUILDCHECKBUILD BIN
psichomics 1.26.0  (landing page)
Nuno Saraiva-Agostinho
git_last_commit: 44fe230
git_last_commit_date: 2023-04-25 10:50:25 -0400
nebbiolo1Linux (Ubuntu 22.04.2 LTS) / x86_64  OK    OK    WARNINGS  UNNEEDED, same version is already published
palomino3Windows Server 2022 Datacenter / x64  OK    OK    WARNINGS    OK  UNNEEDED, same version is already published
merida1macOS 12.6.4 Monterey / x86_64  OK    OK    WARNINGS    OK  UNNEEDED, same version is already published
kjohnson2macOS 12.6.1 Monterey / arm64see weekly results here
Package 77/113HostnameOS / ArchINSTALLBUILDCHECKBUILD BIN
RCM 1.16.0  (landing page)
Stijn Hawinkel
git_last_commit: 3b8fb95
git_last_commit_date: 2023-04-25 11:06:58 -0400
nebbiolo1Linux (Ubuntu 22.04.2 LTS) / x86_64  OK    OK    OK  UNNEEDED, same version is already published
palomino3Windows Server 2022 Datacenter / x64  OK    OK    OK    OK  UNNEEDED, same version is already published
merida1macOS 12.6.4 Monterey / x86_64  OK    OK    OK    OK  UNNEEDED, same version is already published
kjohnson2macOS 12.6.1 Monterey / arm64see weekly results here
Package 78/113HostnameOS / ArchINSTALLBUILDCHECKBUILD BIN
regsplice 1.26.0  (landing page)
Lukas M. Weber
git_last_commit: 41669bc
git_last_commit_date: 2023-04-25 10:50:48 -0400
nebbiolo1Linux (Ubuntu 22.04.2 LTS) / x86_64  OK    OK    OK  UNNEEDED, same version is already published
palomino3Windows Server 2022 Datacenter / x64  OK    OK    OK    OK  UNNEEDED, same version is already published
merida1macOS 12.6.4 Monterey / x86_64  OK    OK    OK    OK  UNNEEDED, same version is already published
kjohnson2macOS 12.6.1 Monterey / arm64see weekly results here
Package 79/113HostnameOS / ArchINSTALLBUILDCHECKBUILD BIN
Repitools 1.46.0  (landing page)
Mark Robinson
git_last_commit: 6aa2b27
git_last_commit_date: 2023-04-25 10:20:10 -0400
nebbiolo1Linux (Ubuntu 22.04.2 LTS) / x86_64  OK    OK    WARNINGS  UNNEEDED, same version is already published
palomino3Windows Server 2022 Datacenter / x64  OK    OK    WARNINGS    OK  UNNEEDED, same version is already published
merida1macOS 12.6.4 Monterey / x86_64  OK    OK    WARNINGS    OK  UNNEEDED, same version is already published
kjohnson2macOS 12.6.1 Monterey / arm64see weekly results here
Package 80/113HostnameOS / ArchINSTALLBUILDCHECKBUILD BIN
ReportingTools 2.40.0  (landing page)
Jason A. Hackney , Gabriel Becker
git_last_commit: 808af36
git_last_commit_date: 2023-04-25 10:24:14 -0400
nebbiolo1Linux (Ubuntu 22.04.2 LTS) / x86_64  OK    ERROR  skipped
palomino3Windows Server 2022 Datacenter / x64  OK    ERROR  skippedskipped
merida1macOS 12.6.4 Monterey / x86_64  OK    ERROR  skippedskipped
kjohnson2macOS 12.6.1 Monterey / arm64see weekly results here
Package 81/113HostnameOS / ArchINSTALLBUILDCHECKBUILD BIN
RnaSeqSampleSize 2.10.0  (landing page)
Shilin Zhao Developer
git_last_commit: b79c640
git_last_commit_date: 2023-04-25 11:23:40 -0400
nebbiolo1Linux (Ubuntu 22.04.2 LTS) / x86_64  OK    OK    OK  UNNEEDED, same version is already published
palomino3Windows Server 2022 Datacenter / x64  OK    OK    OK    OK  UNNEEDED, same version is already published
merida1macOS 12.6.4 Monterey / x86_64  OK    OK    OK    OK  UNNEEDED, same version is already published
kjohnson2macOS 12.6.1 Monterey / arm64see weekly results here
Package 82/113HostnameOS / ArchINSTALLBUILDCHECKBUILD BIN
ROSeq 1.12.0  (landing page)
Krishan Gupta
git_last_commit: de48e95
git_last_commit_date: 2023-04-25 11:17:43 -0400
nebbiolo1Linux (Ubuntu 22.04.2 LTS) / x86_64  OK    OK    WARNINGS  UNNEEDED, same version is already published
palomino3Windows Server 2022 Datacenter / x64  OK    OK    WARNINGS    OK  UNNEEDED, same version is already published
merida1macOS 12.6.4 Monterey / x86_64  OK    OK    WARNINGS    OK  UNNEEDED, same version is already published
kjohnson2macOS 12.6.1 Monterey / arm64see weekly results here
Package 83/113HostnameOS / ArchINSTALLBUILDCHECKBUILD BIN
RUVSeq 1.34.0  (landing page)
Davide Risso
git_last_commit: 743bded
git_last_commit_date: 2023-04-25 10:32:33 -0400
nebbiolo1Linux (Ubuntu 22.04.2 LTS) / x86_64  OK    OK    OK  UNNEEDED, same version is already published
palomino3Windows Server 2022 Datacenter / x64  OK    OK    OK    OK  UNNEEDED, same version is already published
merida1macOS 12.6.4 Monterey / x86_64  OK    OK    OK    OK  UNNEEDED, same version is already published
kjohnson2macOS 12.6.1 Monterey / arm64see weekly results here
Package 84/113HostnameOS / ArchINSTALLBUILDCHECKBUILD BIN
scCB2 1.10.0  (landing page)
Zijian Ni
git_last_commit: ff0241d
git_last_commit_date: 2023-04-25 11:20:27 -0400
nebbiolo1Linux (Ubuntu 22.04.2 LTS) / x86_64  OK    OK    OK  UNNEEDED, same version is already published
palomino3Windows Server 2022 Datacenter / x64  OK    OK    OK    OK  UNNEEDED, same version is already published
merida1macOS 12.6.4 Monterey / x86_64  OK    OK    OK    OK  UNNEEDED, same version is already published
kjohnson2macOS 12.6.1 Monterey / arm64see weekly results here
Package 85/113HostnameOS / ArchINSTALLBUILDCHECKBUILD BIN
scde 2.28.2  (landing page)
Evan Biederstedt
git_last_commit: 4c3b2db
git_last_commit_date: 2023-05-01 20:11:38 -0400
nebbiolo1Linux (Ubuntu 22.04.2 LTS) / x86_64  OK    OK    WARNINGS  UNNEEDED, same version is already published
palomino3Windows Server 2022 Datacenter / x64  OK    OK    WARNINGS    OK  UNNEEDED, same version is already published
merida1macOS 12.6.4 Monterey / x86_64  OK    OK    WARNINGS    OK  UNNEEDED, same version is already published
kjohnson2macOS 12.6.1 Monterey / arm64see weekly results here
Package 86/113HostnameOS / ArchINSTALLBUILDCHECKBUILD BIN
scone 1.24.0  (landing page)
Davide Risso
git_last_commit: 26ae73c
git_last_commit_date: 2023-04-25 10:51:39 -0400
nebbiolo1Linux (Ubuntu 22.04.2 LTS) / x86_64  OK    OK    OK  UNNEEDED, same version is already published
palomino3Windows Server 2022 Datacenter / x64  OK    OK    OK    OK  UNNEEDED, same version is already published
merida1macOS 12.6.4 Monterey / x86_64  OK    OK    OK    OK  UNNEEDED, same version is already published
kjohnson2macOS 12.6.1 Monterey / arm64see weekly results here
Package 87/113HostnameOS / ArchINSTALLBUILDCHECKBUILD BIN
scran 1.28.2  (landing page)
Aaron Lun
git_last_commit: d325843
git_last_commit_date: 2023-07-21 13:34:41 -0400
nebbiolo1Linux (Ubuntu 22.04.2 LTS) / x86_64  OK    OK    WARNINGS  UNNEEDED, same version is already published
palomino3Windows Server 2022 Datacenter / x64  OK    OK    WARNINGS    OK  UNNEEDED, same version is already published
merida1macOS 12.6.4 Monterey / x86_64  OK    OK    WARNINGS    OK  UNNEEDED, same version is already published
kjohnson2macOS 12.6.1 Monterey / arm64see weekly results here
Package 88/113HostnameOS / ArchINSTALLBUILDCHECKBUILD BIN
ScreenR 1.2.0  (landing page)
Emanuel Michele Soda
git_last_commit: 338cb73
git_last_commit_date: 2023-04-25 11:38:37 -0400
nebbiolo1Linux (Ubuntu 22.04.2 LTS) / x86_64  OK    OK    OK  UNNEEDED, same version is already published
palomino3Windows Server 2022 Datacenter / x64  OK    OK    OK    OK  UNNEEDED, same version is already published
merida1macOS 12.6.4 Monterey / x86_64  OK    OK    OK    OK  UNNEEDED, same version is already published
kjohnson2macOS 12.6.1 Monterey / arm64see weekly results here
Package 89/113HostnameOS / ArchINSTALLBUILDCHECKBUILD BIN
SEtools 1.14.0  (landing page)
Pierre-Luc Germain
git_last_commit: 30eae17
git_last_commit_date: 2023-04-25 11:12:18 -0400
nebbiolo1Linux (Ubuntu 22.04.2 LTS) / x86_64  OK    OK    OK  UNNEEDED, same version is already published
palomino3Windows Server 2022 Datacenter / x64  OK    OK    OK    OK  UNNEEDED, same version is already published
merida1macOS 12.6.4 Monterey / x86_64  OK    OK    OK    OK  UNNEEDED, same version is already published
kjohnson2macOS 12.6.1 Monterey / arm64see weekly results here
Package 90/113HostnameOS / ArchINSTALLBUILDCHECKBUILD BIN
SIMD 1.18.0  (landing page)
Jiadi Zhu
git_last_commit: c8d60a0
git_last_commit_date: 2023-04-25 11:04:29 -0400
nebbiolo1Linux (Ubuntu 22.04.2 LTS) / x86_64  OK    OK    OK  UNNEEDED, same version is already published
palomino3Windows Server 2022 Datacenter / x64  OK    OK    OK    OK  UNNEEDED, same version is already published
merida1macOS 12.6.4 Monterey / x86_64  OK    OK    OK    OK  UNNEEDED, same version is already published
kjohnson2macOS 12.6.1 Monterey / arm64see weekly results here
Package 91/113HostnameOS / ArchINSTALLBUILDCHECKBUILD BIN
SingleCellSignalR 1.12.0  (landing page)
Jacques Colinge Developer
git_last_commit: 9ec5fb1
git_last_commit_date: 2023-04-25 11:18:03 -0400
nebbiolo1Linux (Ubuntu 22.04.2 LTS) / x86_64  OK    OK    WARNINGS  UNNEEDED, same version is already published
palomino3Windows Server 2022 Datacenter / x64  OK    OK    WARNINGS    OK  UNNEEDED, same version is already published
merida1macOS 12.6.4 Monterey / x86_64  OK    OK    WARNINGS    OK  UNNEEDED, same version is already published
kjohnson2macOS 12.6.1 Monterey / arm64see weekly results here
Package 92/113HostnameOS / ArchINSTALLBUILDCHECKBUILD BIN
singscore 1.20.0  (landing page)
Malvika Kharbanda
git_last_commit: 9638adf
git_last_commit_date: 2023-04-25 11:01:47 -0400
nebbiolo1Linux (Ubuntu 22.04.2 LTS) / x86_64  OK    OK    OK  UNNEEDED, same version is already published
palomino3Windows Server 2022 Datacenter / x64  OK    OK    OK    OK  UNNEEDED, same version is already published
merida1macOS 12.6.4 Monterey / x86_64  OK    OK    OK    OK  UNNEEDED, same version is already published
kjohnson2macOS 12.6.1 Monterey / arm64see weekly results here
Package 93/113HostnameOS / ArchINSTALLBUILDCHECKBUILD BIN
sparrow 1.6.0  (landing page)
Steve Lianoglou
git_last_commit: 4d622bb
git_last_commit_date: 2023-04-25 11:33:15 -0400
nebbiolo1Linux (Ubuntu 22.04.2 LTS) / x86_64  OK    OK    OK  UNNEEDED, same version is already published
palomino3Windows Server 2022 Datacenter / x64  OK    OK    OK    OK  UNNEEDED, same version is already published
merida1macOS 12.6.4 Monterey / x86_64  OK    OK    OK    OK  UNNEEDED, same version is already published
kjohnson2macOS 12.6.1 Monterey / arm64see weekly results here
Package 94/113HostnameOS / ArchINSTALLBUILDCHECKBUILD BIN
spatialHeatmap 2.6.2  (landing page)
Jianhai Zhang
git_last_commit: 83ed9ad
git_last_commit_date: 2023-08-30 06:13:04 -0400
nebbiolo1Linux (Ubuntu 22.04.2 LTS) / x86_64  OK    OK    OK  UNNEEDED, same version is already published
palomino3Windows Server 2022 Datacenter / x64  OK    OK    OK    OK  UNNEEDED, same version is already published
merida1macOS 12.6.4 Monterey / x86_64  OK    OK    OK    OK  UNNEEDED, same version is already published
kjohnson2macOS 12.6.1 Monterey / arm64see weekly results here
Package 95/113HostnameOS / ArchINSTALLBUILDCHECKBUILD BIN
speckle 1.0.0  (landing page)
Belinda Phipson
git_last_commit: ea9dd64
git_last_commit_date: 2023-04-25 11:41:49 -0400
nebbiolo1Linux (Ubuntu 22.04.2 LTS) / x86_64  OK    OK    OK  UNNEEDED, same version is already published
palomino3Windows Server 2022 Datacenter / x64  OK    OK    OK    OK  UNNEEDED, same version is already published
merida1macOS 12.6.4 Monterey / x86_64  OK    OK    OK    OK  UNNEEDED, same version is already published
kjohnson2macOS 12.6.1 Monterey / arm64see weekly results here
Package 96/113HostnameOS / ArchINSTALLBUILDCHECKBUILD BIN
splatter 1.24.0  (landing page)
Luke Zappia
git_last_commit: dad2a3a
git_last_commit_date: 2023-05-02 08:13:51 -0400
nebbiolo1Linux (Ubuntu 22.04.2 LTS) / x86_64  OK    OK    OK  UNNEEDED, same version is already published
palomino3Windows Server 2022 Datacenter / x64  OK    OK    OK    OK  UNNEEDED, same version is already published
merida1macOS 12.6.4 Monterey / x86_64  OK    OK    OK    OK  UNNEEDED, same version is already published
kjohnson2macOS 12.6.1 Monterey / arm64see weekly results here
Package 97/113HostnameOS / ArchINSTALLBUILDCHECKBUILD BIN
SPsimSeq 1.10.0  (landing page)
Joris Meys
git_last_commit: 9922901
git_last_commit_date: 2023-04-25 11:18:49 -0400
nebbiolo1Linux (Ubuntu 22.04.2 LTS) / x86_64  OK    OK    OK  UNNEEDED, same version is already published
palomino3Windows Server 2022 Datacenter / x64  OK    OK    OK    OK  UNNEEDED, same version is already published
merida1macOS 12.6.4 Monterey / x86_64  OK    OK    OK    OK  UNNEEDED, same version is already published
kjohnson2macOS 12.6.1 Monterey / arm64see weekly results here
Package 98/113HostnameOS / ArchINSTALLBUILDCHECKBUILD BIN
srnadiff 1.20.0  (landing page)
Zytnicki Matthias
git_last_commit: cac64c3
git_last_commit_date: 2023-04-25 10:59:07 -0400
nebbiolo1Linux (Ubuntu 22.04.2 LTS) / x86_64  OK    OK    WARNINGS  NO, package depends on 'baySeq' which is not available
palomino3Windows Server 2022 Datacenter / x64  OK    OK    WARNINGS    OK  NO, package depends on 'baySeq' which is not available
merida1macOS 12.6.4 Monterey / x86_64  OK    OK    WARNINGS    OK  NO, package depends on 'baySeq' which is not available
kjohnson2macOS 12.6.1 Monterey / arm64see weekly results here
Package 99/113HostnameOS / ArchINSTALLBUILDCHECKBUILD BIN
sSNAPPY 1.4.6  (landing page)
Wenjun Liu
git_last_commit: 4e97239
git_last_commit_date: 2023-10-09 03:03:41 -0400
nebbiolo1Linux (Ubuntu 22.04.2 LTS) / x86_64  OK    OK    OK  UNNEEDED, same version is already published
palomino3Windows Server 2022 Datacenter / x64  OK    OK    OK    OK  UNNEEDED, same version is already published
merida1macOS 12.6.4 Monterey / x86_64  OK    ERROR  skippedskipped
kjohnson2macOS 12.6.1 Monterey / arm64see weekly results here
Package 100/113HostnameOS / ArchINSTALLBUILDCHECKBUILD BIN
standR 1.4.2  (landing page)
Ning Liu
git_last_commit: ccca8cc
git_last_commit_date: 2023-06-12 21:57:05 -0400
nebbiolo1Linux (Ubuntu 22.04.2 LTS) / x86_64  OK    OK    OK  UNNEEDED, same version is already published
palomino3Windows Server 2022 Datacenter / x64  OK    OK    OK    OK  UNNEEDED, same version is already published
merida1macOS 12.6.4 Monterey / x86_64  OK    ERROR  skippedskipped
kjohnson2macOS 12.6.1 Monterey / arm64see weekly results here
Package 101/113HostnameOS / ArchINSTALLBUILDCHECKBUILD BIN
STATegRa 1.36.0  (landing page)
David Gomez-Cabrero , Núria Planell
git_last_commit: c2da16d
git_last_commit_date: 2023-04-25 10:35:45 -0400
nebbiolo1Linux (Ubuntu 22.04.2 LTS) / x86_64  OK    OK    OK  UNNEEDED, same version is already published
palomino3Windows Server 2022 Datacenter / x64  OK    OK    OK    OK  UNNEEDED, same version is already published
merida1macOS 12.6.4 Monterey / x86_64  OK    OK    OK    OK  UNNEEDED, same version is already published
kjohnson2macOS 12.6.1 Monterey / arm64see weekly results here
Package 102/113HostnameOS / ArchINSTALLBUILDCHECKBUILD BIN
sva 3.48.0  (landing page)
Jeffrey T. Leek , John D. Storey
git_last_commit: f1657af
git_last_commit_date: 2023-04-25 10:21:22 -0400
nebbiolo1Linux (Ubuntu 22.04.2 LTS) / x86_64  OK    OK    OK  UNNEEDED, same version is already published
palomino3Windows Server 2022 Datacenter / x64  OK    OK    OK    OK  UNNEEDED, same version is already published
merida1macOS 12.6.4 Monterey / x86_64  OK    OK    OK    OK  UNNEEDED, same version is already published
kjohnson2macOS 12.6.1 Monterey / arm64see weekly results here
Package 103/113HostnameOS / ArchINSTALLBUILDCHECKBUILD BIN
TBSignatureProfiler 1.12.0  (landing page)
Aubrey R. Odom-Mabey
git_last_commit: dd7c014
git_last_commit_date: 2023-04-25 11:17:45 -0400
nebbiolo1Linux (Ubuntu 22.04.2 LTS) / x86_64  OK    OK    OK  UNNEEDED, same version is already published
palomino3Windows Server 2022 Datacenter / x64  OK    OK    OK    OK  UNNEEDED, same version is already published
merida1macOS 12.6.4 Monterey / x86_64  OK    OK    OK    OK  UNNEEDED, same version is already published
kjohnson2macOS 12.6.1 Monterey / arm64see weekly results here
Package 104/113HostnameOS / ArchINSTALLBUILDCHECKBUILD BIN
TCC 1.40.0  (landing page)
Jianqiang Sun
git_last_commit: 462af54
git_last_commit_date: 2023-04-25 10:28:30 -0400
nebbiolo1Linux (Ubuntu 22.04.2 LTS) / x86_64  OK    OK    OK  NO, package depends on 'baySeq' which is not available
palomino3Windows Server 2022 Datacenter / x64  OK    OK    OK    OK  NO, package depends on 'baySeq' which is not available
merida1macOS 12.6.4 Monterey / x86_64  OK    OK    OK    OK  NO, package depends on 'baySeq' which is not available
kjohnson2macOS 12.6.1 Monterey / arm64see weekly results here
Package 105/113HostnameOS / ArchINSTALLBUILDCHECKBUILD BIN
TCseq 1.24.3  (landing page)
Mengjun Wu
git_last_commit: bb4cc12
git_last_commit_date: 2023-09-12 15:44:55 -0400
nebbiolo1Linux (Ubuntu 22.04.2 LTS) / x86_64  OK    OK    WARNINGS  UNNEEDED, same version is already published
palomino3Windows Server 2022 Datacenter / x64  OK    OK    WARNINGS    OK  UNNEEDED, same version is already published
merida1macOS 12.6.4 Monterey / x86_64  OK    OK    WARNINGS    OK  UNNEEDED, same version is already published
kjohnson2macOS 12.6.1 Monterey / arm64see weekly results here
Package 106/113HostnameOS / ArchINSTALLBUILDCHECKBUILD BIN
tradeSeq 1.14.0  (landing page)
Hector Roux de Bezieux
git_last_commit: 4a3c31b
git_last_commit_date: 2023-04-25 11:14:08 -0400
nebbiolo1Linux (Ubuntu 22.04.2 LTS) / x86_64  OK    OK    OK  UNNEEDED, same version is already published
palomino3Windows Server 2022 Datacenter / x64  OK    OK    OK    OK  UNNEEDED, same version is already published
merida1macOS 12.6.4 Monterey / x86_64  OK    OK    OK    OK  UNNEEDED, same version is already published
kjohnson2macOS 12.6.1 Monterey / arm64see weekly results here
Package 107/113HostnameOS / ArchINSTALLBUILDCHECKBUILD BIN
tRanslatome 1.38.0  (landing page)
Toma Tebaldi , Erik Dassi
git_last_commit: 328e21a
git_last_commit_date: 2023-04-25 10:27:15 -0400
nebbiolo1Linux (Ubuntu 22.04.2 LTS) / x86_64  OK    OK    OK  UNNEEDED, same version is already published
palomino3Windows Server 2022 Datacenter / x64  OK    OK    OK    OK  UNNEEDED, same version is already published
merida1macOS 12.6.4 Monterey / x86_64  OK    OK    OK    OK  UNNEEDED, same version is already published
kjohnson2macOS 12.6.1 Monterey / arm64see weekly results here
Package 108/113HostnameOS / ArchINSTALLBUILDCHECKBUILD BIN
treekoR 1.8.0  (landing page)
Adam Chan
git_last_commit: fd46758
git_last_commit_date: 2023-04-25 11:28:47 -0400
nebbiolo1Linux (Ubuntu 22.04.2 LTS) / x86_64  OK    OK    OK  UNNEEDED, same version is already published
palomino3Windows Server 2022 Datacenter / x64  OK    OK    OK    OK  UNNEEDED, same version is already published
merida1macOS 12.6.4 Monterey / x86_64  OK    OK    OK    OK  UNNEEDED, same version is already published
kjohnson2macOS 12.6.1 Monterey / arm64see weekly results here
Package 109/113HostnameOS / ArchINSTALLBUILDCHECKBUILD BIN
tweeDEseq 1.46.2  (landing page)
Dolors Pelegri-Siso
git_last_commit: 5366152
git_last_commit_date: 2023-07-10 03:37:38 -0400
nebbiolo1Linux (Ubuntu 22.04.2 LTS) / x86_64  OK    OK    WARNINGS  UNNEEDED, same version is already published
palomino3Windows Server 2022 Datacenter / x64  OK    OK    WARNINGS    OK  UNNEEDED, same version is already published
merida1macOS 12.6.4 Monterey / x86_64  OK    OK    WARNINGS    OK  UNNEEDED, same version is already published
kjohnson2macOS 12.6.1 Monterey / arm64see weekly results here
Package 110/113HostnameOS / ArchINSTALLBUILDCHECKBUILD BIN
vidger 1.20.0  (landing page)
Brandon Monier
git_last_commit: 4d229b8
git_last_commit_date: 2023-04-25 10:59:42 -0400
nebbiolo1Linux (Ubuntu 22.04.2 LTS) / x86_64  OK    OK    OK  UNNEEDED, same version is already published
palomino3Windows Server 2022 Datacenter / x64  OK    OK    OK    OK  UNNEEDED, same version is already published
merida1macOS 12.6.4 Monterey / x86_64  OK    OK    OK    OK  UNNEEDED, same version is already published
kjohnson2macOS 12.6.1 Monterey / arm64see weekly results here
Package 111/113HostnameOS / ArchINSTALLBUILDCHECKBUILD BIN
xcore 1.4.0  (landing page)
Maciej Migdał
git_last_commit: 5016b48
git_last_commit_date: 2023-04-25 11:36:25 -0400
nebbiolo1Linux (Ubuntu 22.04.2 LTS) / x86_64  OK    OK    OK  UNNEEDED, same version is already published
palomino3Windows Server 2022 Datacenter / x64  OK    OK    OK    OK  UNNEEDED, same version is already published
merida1macOS 12.6.4 Monterey / x86_64  OK    OK    OK    OK  UNNEEDED, same version is already published
kjohnson2macOS 12.6.1 Monterey / arm64see weekly results here
Package 112/113HostnameOS / ArchINSTALLBUILDCHECKBUILD BIN
yarn 1.26.0  (landing page)
Joseph N Paulson
git_last_commit: 54dac4a
git_last_commit_date: 2023-04-25 10:51:02 -0400
nebbiolo1Linux (Ubuntu 22.04.2 LTS) / x86_64  OK    OK    OK  UNNEEDED, same version is already published
palomino3Windows Server 2022 Datacenter / x64  OK    OK    OK    OK  UNNEEDED, same version is already published
merida1macOS 12.6.4 Monterey / x86_64  OK    OK    OK    OK  UNNEEDED, same version is already published
kjohnson2macOS 12.6.1 Monterey / arm64see weekly results here
Package 113/113HostnameOS / ArchINSTALLBUILDCHECKBUILD BIN
zinbwave 1.22.0  (landing page)
Davide Risso
git_last_commit: 1fb2e57
git_last_commit_date: 2023-04-25 10:54:42 -0400
nebbiolo1Linux (Ubuntu 22.04.2 LTS) / x86_64  OK    OK    OK  UNNEEDED, same version is already published
palomino3Windows Server 2022 Datacenter / x64  OK    OK    OK    OK  UNNEEDED, same version is already published
merida1macOS 12.6.4 Monterey / x86_64  OK    OK    OK    OK  UNNEEDED, same version is already published
kjohnson2macOS 12.6.1 Monterey / arm64see weekly results here