Back to Multiple platform build/check report for BioC 3.17:   simplified   long
ABCDEFGHIJKL[M]NOPQRSTUVWXYZ

This page was generated on 2023-03-29 11:06:20 -0400 (Wed, 29 Mar 2023).

HostnameOSArch (*)R versionInstalled pkgs
nebbiolo1Linux (Ubuntu 22.04.1 LTS)x86_64R Under development (unstable) (2023-03-16 r83996) -- "Unsuffered Consequences" 4547
palomino3Windows Server 2022 Datacenterx64R Under development (unstable) (2023-03-15 r83984 ucrt) -- "Unsuffered Consequences" 4308
merida1macOS 10.14.6 Mojavex86_64R Under development (unstable) (2023-03-16 r83985) -- "Unsuffered Consequences" 4301
Click on any hostname to see more info about the system (e.g. compilers)      (*) as reported by 'uname -p', except on Windows and Mac OS X

INSTALL results for Maaslin2 on merida1


To the developers/maintainers of the Maaslin2 package:
- Please allow up to 24 hours (and sometimes 48 hours) for your latest push to git@git.bioconductor.org:packages/Maaslin2.git to
reflect on this report. See How and When does the builder pull? When will my changes propagate? for more information.
- Make sure to use the following settings in order to reproduce any error or warning you see on this page.

raw results

Package 1080/2195HostnameOS / ArchINSTALLBUILDCHECKBUILD BIN
Maaslin2 1.13.0  (landing page)
Lauren McIver
Snapshot Date: 2023-03-28 14:00:22 -0400 (Tue, 28 Mar 2023)
git_url: https://git.bioconductor.org/packages/Maaslin2
git_branch: devel
git_last_commit: 56c7729
git_last_commit_date: 2022-11-01 11:20:14 -0400 (Tue, 01 Nov 2022)
nebbiolo1Linux (Ubuntu 22.04.1 LTS) / x86_64  OK    ERROR  skipped
palomino3Windows Server 2022 Datacenter / x64  OK    ERROR  skippedskipped
merida1macOS 10.14.6 Mojave / x86_64  ERROR    ERROR  skippedskipped

Summary

Package: Maaslin2
Version: 1.13.0
Command: /Library/Frameworks/R.framework/Resources/bin/R CMD INSTALL Maaslin2
StartedAt: 2023-03-28 16:01:02 -0400 (Tue, 28 Mar 2023)
EndedAt: 2023-03-28 16:01:04 -0400 (Tue, 28 Mar 2023)
EllapsedTime: 1.6 seconds
RetCode: 1
Status:   ERROR  

Command output

##############################################################################
##############################################################################
###
### Running command:
###
###   /Library/Frameworks/R.framework/Resources/bin/R CMD INSTALL Maaslin2
###
##############################################################################
##############################################################################


* installing to library ‘/Library/Frameworks/R.framework/Versions/4.3/Resources/library’
ERROR: dependency ‘lpsymphony’ is not available for package ‘Maaslin2’
* removing ‘/Library/Frameworks/R.framework/Versions/4.3/Resources/library/Maaslin2’