Back to Multiple platform build/check report for BioC 3.17:   simplified   long
ABCDEF[G]HIJKLMNOPQRSTUVWXYZ

This page was generated on 2023-03-22 11:05:54 -0400 (Wed, 22 Mar 2023).

HostnameOSArch (*)R versionInstalled pkgs
nebbiolo1Linux (Ubuntu 22.04.1 LTS)x86_64R Under development (unstable) (2023-03-16 r83996) -- "Unsuffered Consequences" 4508
palomino3Windows Server 2022 Datacenterx64R Under development (unstable) (2023-03-15 r83984 ucrt) -- "Unsuffered Consequences" 4293
merida1macOS 10.14.6 Mojavex86_64R Under development (unstable) (2023-03-16 r83985) -- "Unsuffered Consequences" 4290
Click on any hostname to see more info about the system (e.g. compilers)      (*) as reported by 'uname -p', except on Windows and Mac OS X

BUILD BIN results for Gviz on palomino3


To the developers/maintainers of the Gviz package:
- Please allow up to 24 hours (and sometimes 48 hours) for your latest push to git@git.bioconductor.org:packages/Gviz.git to
reflect on this report. See How and When does the builder pull? When will my changes propagate? for more information.
- Make sure to use the following settings in order to reproduce any error or warning you see on this page.

raw results

Package 885/2189HostnameOS / ArchINSTALLBUILDCHECKBUILD BIN
Gviz 1.43.1  (landing page)
Robert Ivanek
Snapshot Date: 2023-03-21 14:00:22 -0400 (Tue, 21 Mar 2023)
git_url: https://git.bioconductor.org/packages/Gviz
git_branch: master
git_last_commit: c60b082
git_last_commit_date: 2023-03-15 06:30:36 -0400 (Wed, 15 Mar 2023)
nebbiolo1Linux (Ubuntu 22.04.1 LTS) / x86_64  OK    OK    OK  UNNEEDED, same version is already published
palomino3Windows Server 2022 Datacenter / x64  OK    OK    OK    OK  UNNEEDED, same version is already published
merida1macOS 10.14.6 Mojave / x86_64  OK    OK    OK    OK  UNNEEDED, same version is already published

Summary

Package: Gviz
Version: 1.43.1
Command: rm -rf Gviz.buildbin-libdir && mkdir Gviz.buildbin-libdir && F:\biocbuild\bbs-3.17-bioc\R\bin\R.exe CMD INSTALL --build --library=Gviz.buildbin-libdir Gviz_1.43.1.tar.gz
StartedAt: 2023-03-22 08:51:06 -0400 (Wed, 22 Mar 2023)
EndedAt: 2023-03-22 08:52:33 -0400 (Wed, 22 Mar 2023)
EllapsedTime: 87.1 seconds
RetCode: 0
Status:   OK  
PackageFile: Gviz_1.43.1.zip
PackageFileSize: 5.919 MiB

Command output

##############################################################################
##############################################################################
###
### Running command:
###
###   rm -rf Gviz.buildbin-libdir && mkdir Gviz.buildbin-libdir && F:\biocbuild\bbs-3.17-bioc\R\bin\R.exe CMD INSTALL --build --library=Gviz.buildbin-libdir Gviz_1.43.1.tar.gz
###
##############################################################################
##############################################################################


* installing *source* package 'Gviz' ...
** using staged installation
** R
** data
** inst
** byte-compile and prepare package for lazy loading
** help
*** installing help indices
** building package indices
** installing vignettes
** testing if installed package can be loaded from temporary location
** testing if installed package can be loaded from final location
** testing if installed package keeps a record of temporary installation path
* MD5 sums
packaged installation of 'Gviz' as Gviz_1.43.1.zip
* DONE (Gviz)