Back to Multiple platform build/check report for BioC 3.17:   simplified   long
ABCDEFGHIJKLMNO[P]QRSTUVWXYZ

This page was generated on 2023-03-18 11:06:16 -0400 (Sat, 18 Mar 2023).

HostnameOSArch (*)R versionInstalled pkgs
nebbiolo1Linux (Ubuntu 22.04.1 LTS)x86_64R Under development (unstable) (2023-03-16 r83996) -- "Unsuffered Consequences" 4282
palomino3Windows Server 2022 Datacenterx64R Under development (unstable) (2023-03-15 r83984 ucrt) -- "Unsuffered Consequences" 4279
merida1macOS 10.14.6 Mojavex86_64R Under development (unstable) (2023-03-16 r83985) -- "Unsuffered Consequences" 4145
Click on any hostname to see more info about the system (e.g. compilers)      (*) as reported by 'uname -p', except on Windows and Mac OS X

BUILD BIN results for panelcn.mops on merida1


To the developers/maintainers of the panelcn.mops package:
- Please allow up to 24 hours (and sometimes 48 hours) for your latest push to git@git.bioconductor.org:packages/panelcn.mops.git to
reflect on this report. See How and When does the builder pull? When will my changes propagate? for more information.
- Make sure to use the following settings in order to reproduce any error or warning you see on this page.

raw results

Package 1440/2189HostnameOS / ArchINSTALLBUILDCHECKBUILD BIN
panelcn.mops 1.21.0  (landing page)
Gundula Povysil
Snapshot Date: 2023-03-17 14:27:35 -0400 (Fri, 17 Mar 2023)
git_url: https://git.bioconductor.org/packages/panelcn.mops
git_branch: master
git_last_commit: fdf0d20
git_last_commit_date: 2022-11-01 11:16:24 -0400 (Tue, 01 Nov 2022)
nebbiolo1Linux (Ubuntu 22.04.1 LTS) / x86_64  OK    OK    OK  UNNEEDED, same version is already published
palomino3Windows Server 2022 Datacenter / x64  OK    OK    OK    NA  
merida1macOS 10.14.6 Mojave / x86_64  OK    OK    OK    OK  UNNEEDED, same version is already published

Summary

Package: panelcn.mops
Version: 1.21.0
Command: rm -rf panelcn.mops.buildbin-libdir && mkdir panelcn.mops.buildbin-libdir && /Users/biocbuild/BBS/utils/build-universal.sh panelcn.mops_1.21.0.tar.gz /Library/Frameworks/R.framework/Resources/bin/R panelcn.mops.buildbin-libdir
StartedAt: 2023-03-18 08:30:11 -0400 (Sat, 18 Mar 2023)
EndedAt: 2023-03-18 08:31:16 -0400 (Sat, 18 Mar 2023)
EllapsedTime: 65.1 seconds
RetCode: 0
Status:   OK  
PackageFile: panelcn.mops_1.21.0.tgz
PackageFileSize: 466.3 KiB

Command output

##############################################################################
##############################################################################
###
### Running command:
###
###   rm -rf panelcn.mops.buildbin-libdir && mkdir panelcn.mops.buildbin-libdir && /Users/biocbuild/BBS/utils/build-universal.sh panelcn.mops_1.21.0.tar.gz /Library/Frameworks/R.framework/Resources/bin/R panelcn.mops.buildbin-libdir
###
##############################################################################
##############################################################################


>>>>>>> 
>>>>>>> INSTALLATION WITH 'R CMD INSTALL --preclean --no-multiarch --library=panelcn.mops.buildbin-libdir panelcn.mops_1.21.0.tar.gz'
>>>>>>> 

* installing *source* package ‘panelcn.mops’ ...
** using staged installation
** R
** data
*** moving datasets to lazyload DB
** inst
** byte-compile and prepare package for lazy loading
** help
*** installing help indices
** building package indices
** installing vignettes
** testing if installed package can be loaded from temporary location
** testing if installed package can be loaded from final location
** testing if installed package keeps a record of temporary installation path
* DONE (panelcn.mops)