Back to Multiple platform build/check report for BioC 3.17:   simplified   long
AB[C]DEFGHIJKLMNOPQRSTUVWXYZ

This page was generated on 2023-03-20 11:06:26 -0400 (Mon, 20 Mar 2023).

HostnameOSArch (*)R versionInstalled pkgs
nebbiolo1Linux (Ubuntu 22.04.1 LTS)x86_64R Under development (unstable) (2023-03-16 r83996) -- "Unsuffered Consequences" 4297
palomino3Windows Server 2022 Datacenterx64R Under development (unstable) (2023-03-15 r83984 ucrt) -- "Unsuffered Consequences" 4286
merida1macOS 10.14.6 Mojavex86_64R Under development (unstable) (2023-03-16 r83985) -- "Unsuffered Consequences" 4150
Click on any hostname to see more info about the system (e.g. compilers)      (*) as reported by 'uname -p', except on Windows and Mac OS X

INSTALL results for CoreGx on merida1


To the developers/maintainers of the CoreGx package:
- Please allow up to 24 hours (and sometimes 48 hours) for your latest push to git@git.bioconductor.org:packages/CoreGx.git to
reflect on this report. See How and When does the builder pull? When will my changes propagate? for more information.
- Make sure to use the following settings in order to reproduce any error or warning you see on this page.

raw results

Package 426/2189HostnameOS / ArchINSTALLBUILDCHECKBUILD BIN
CoreGx 2.3.4  (landing page)
Benjamin Haibe-Kains
Snapshot Date: 2023-03-19 14:00:12 -0400 (Sun, 19 Mar 2023)
git_url: https://git.bioconductor.org/packages/CoreGx
git_branch: master
git_last_commit: d35bb2f
git_last_commit_date: 2023-03-06 16:01:51 -0400 (Mon, 06 Mar 2023)
nebbiolo1Linux (Ubuntu 22.04.1 LTS) / x86_64  OK    OK    WARNINGS  UNNEEDED, same version is already published
palomino3Windows Server 2022 Datacenter / x64  OK    OK    WARNINGS    OK  UNNEEDED, same version is already published
merida1macOS 10.14.6 Mojave / x86_64  OK    OK    WARNINGS    OK  UNNEEDED, same version is already published

Summary

Package: CoreGx
Version: 2.3.4
Command: /Library/Frameworks/R.framework/Resources/bin/R CMD INSTALL CoreGx
StartedAt: 2023-03-19 15:57:29 -0400 (Sun, 19 Mar 2023)
EndedAt: 2023-03-19 15:59:24 -0400 (Sun, 19 Mar 2023)
EllapsedTime: 115.2 seconds
RetCode: 0
Status:   OK  

Command output

##############################################################################
##############################################################################
###
### Running command:
###
###   /Library/Frameworks/R.framework/Resources/bin/R CMD INSTALL CoreGx
###
##############################################################################
##############################################################################


* installing to library ‘/Library/Frameworks/R.framework/Versions/4.3/Resources/library’
* installing *source* package ‘CoreGx’ ...
** using staged installation
** R
** data
*** moving datasets to lazyload DB
** inst
** byte-compile and prepare package for lazy loading
** help
*** installing help indices
** building package indices
** installing vignettes
** testing if installed package can be loaded from temporary location
** testing if installed package can be loaded from final location
** testing if installed package keeps a record of temporary installation path
* DONE (CoreGx)